Workbook

Sheet Założenia
A1: Założenia | B1: Inwestycje w OZE - zmniejszenie wykorzystywania nośników energii | E1: Inwestycje w termomodernizacje - zmniejszenie zapotrzebowania na ciepło dla budynków użyteczności publicznej, sektora mieszkaniowego oraz przemysłu i usług | F1: Inwestycje w modernizacje taboru MZK w Tomaszowie Mazowieckim - wielkość modernizacji taboru [%] | G1: Rozbudowa miejskiej sieci ciepłowniczej - większe zużycie ciepła sieciowego | H1: Rozbudowa sieci gazowej - zwiększenie żużycia gazu | I1: Modernizacje oświetlenia - wymiana na ledowe ze sterowaniem logicznym - zmniejszenie zużycia energii | J1: Zwiększenie udziału piecy z podajnikami na eko-groszek (tańszy oraz wygodniejszy sposób ogrzewania) | K1: Redukcja zużycia oleju opałowego oraz węgla kamiennego | L1: Liczba samochodów zarejestrowanych w mieście | M1: Prognoza demograficzna | N1: Wzrost gospodarczy
B2: sektor użyteczności publicznej | C2: sektor mieszkalny | D2: sektor przemysłu oraz usług
A3: Scenariusz aktywny | B3: 0.95 | C3: 0.9 | D3: 0.9 | E3: 0.9 | F3: 86 | G3: 1.2 | H3: 1.15 | I3: 0.7 | J3: 1.2 | K3: 0.65 | L3: 40000 | M3: 66000 | N3: 1.03
A4: Scenariusz umiarkowany | B4: 0.98 | C4: 0.95 | D4: 0.95 | E4: 0.95 | F4: 71 | G4: 1.15 | H4: 1.1 | I4: 0.8 | J4: 1.15 | K4: 0.75 | L4: 45000 | M4: 65000 | N4: 1.025
A5: Scenariusz pasywny | B5: 0.99 | C5: 0.98 | D5: 0.98 | E5: 0.99 | F5: 0 | G5: 1.1 | H5: 1.05 | I5: 0.9 | J5: 1.1 | K5: 0.85 | L5: 50000 | M5: 62135 | N5: 1.02

Sheet Ankiety - budynki jednorodzinne
A1: ulica | B1: aktualne posiadane źródła ciepła | K1: rok budowy | L1: wiek źródła ciepła | M1: liczba mieszkańców | N1: pow. użytkowa [m2] | O1: ocieplenie ścian | P1: ocieplenie okien | Q1: ocieplenie dachu | R1: sposób przygotowania ciepłem wody | S1: zużycie paliw | X1: koszt [zł] | Y1: planowane modernizacje i inwestycje
B2: węgiel kamienny | C2: węgiel kamienny/biomasa/drewno | D2: węgiel kamienny/energia elektryczna | E2: węgiel kamienny/biomasa/energia elektryczna | F2: gaz | G2: energia elektryczna | H2: biomasa/drewno | I2: olej opałowy | J2: inne | S2: węgiel kamienny [Mg] | T2: eko-groszek [Mg] | U2: gaz [m3] | V2: olej [l] | W2: drewno [Mg]
A3: Andrzeja 10a | B3: - | C3: + | D3: - | E3: - | F3: - | G3: - | H3: - | I3: - | J3: - | K3: 1960 | L3: <5 | M3: 3 | N3: 62 | O3: - | P3: + | Q3: + | R3: to samo źródło ciepła co do ogrzewania | S3: 2.5 | T3: - | U3: - | V3: - | W3: 1 | X3: 2500 | Y3: -
A4: Andrzeja 2 | B4: - | C4: + | D4: - | E4: - | F4: - | G4: - | H4: - | I4: - | J4: - | K4: 1975 | L4: od 5 do 10 | M4: 1 | N4: 60 | O4: + | P4: + | Q4: + | R4: to samo źródło ciepła co do ogrzewania | S4: 2 | T4: - | U4: - | V4: - | W4: 3 | X4: 3500 | Y4: -
A5: Andrzeja 7 | B5: + | C5: - | D5: - | E5: - | F5: - | G5: - | H5: - | I5: - | J5: - | K5: 1965 | L5: od 10 do 15 | M5: 2 | N5: 160 | O5: + | P5: + | Q5: + | R5: to samo źródło ciepła co do ogrzewania+bojler elektryczny | S5: 4 | T5: - | U5: - | V5: - | W5: - | X5: 2500 | Y5: -
A6: Andrzeja 8 | B6: - | C6: - | D6: - | E6: - | F6: - | G6: - | H6: + | I6: - | J6: - | K6: 1965 | L6: od 5 do 10 | M6: 6 | N6: 120 | O6: + | P6: + | Q6: + | R6: to samo źródło ciepła co do ogrzewania | S6: - | T6: - | U6: - | V6: - | W6: 5 | X6: 1000 | Y6: -
A7: Anny 34 | B7: - | C7: + | D7: - | E7: - | F7: - | G7: - | H7: - | I7: - | J7: - | K7: 1970 | L7: <5 | M7: 1 | N7: 80 | O7: + | P7: + | Q7: + | R7: to samo źródło ciepła co do ogrzewania+bojler elektryczny | S7: 3 | T7: - | U7: - | V7: - | W7: 1 | X7: do obliczenie na podstawie cen paliw | Y7: -
A8: Anny 41 | B8: - | C8: + | D8: - | E8: - | F8: - | G8: - | H8: - | I8: - | J8: - | K8: 1975 | L8: od 5 do 10 | M8: 2 | N8: 75 | O8: + | P8: + | Q8: + | R8: to samo źródło ciepła co do ogrzewania | S8: 2.5 | T8: - | U8: - | V8: - | W8: 1 | X8: do obliczenie na podstawie cen paliw | Y8: -
A9: Anny 44 | B9: - | C9: + | D9: - | E9: - | F9: - | G9: - | H9: - | I9: - | J9: - | K9: 1939 | L9: <5 | M9: 5 | N9: 100 | O9: + | P9: + | Q9: + | R9: to samo źródło ciepła co do ogrzewania+bojler elektryczny | S9: 4 | T9: - | U9: - | V9: - | W9: 1 | X9: do obliczenie na podstawie cen paliw | Y9: -
A10: Anny 48 | B10: - | C10: - | D10: - | E10: - | F10: - | G10: - | H10: - | I10: - | J10: - | K10: 1990 | L10: <5 | M10: 4 | N10: 150 | O10: + | P10: + | Q10: + | R10: to samo źródło ciepła co do ogrzewania+bojler elektryczny | S10: - | T10: - | U10: - | V10: - | W10: brak danym | X10: brak danym | Y10: -
A11: Anny 56 | B11: - | C11: + | D11: - | E11: - | F11: - | G11: - | H11: - | I11: - | J11: - | K11: 1970 | L11: <5 | M11: 1 | N11: 100 | O11: + | P11: + | Q11: + | R11: bojlery elektryczne | S11: 2 | T11: - | U11: - | V11: - | W11: 6 | X11: do obliczenie na podstawie cen paliw | Y11: -
A12: Batorego 17 | B12: - | C12: - | D12: - | E12: - | F12: + | G12: - | H12: - | I12: - | J12: - | K12: 1983 | L12: >15 | M12: 5 | N12: 200 | O12: + | P12: + | Q12: + | R12: to samo źródło ciepła co do ogrzewania | S12: - | T12: - | U12: 2500 | V12: - | W12: - | X12: do obliczenie na podstawie cen paliw | Y12: -
A13: Bema 59 | B13: - | C13: + | D13: - | E13: - | F13: - | G13: - | H13: - | I13: - | J13: - | K13: 1960 | L13: <5 | N13: 80 | O13: + | P13: + | Q13: - | R13: gazowe przepływowe | S13: 3 | T13: - | U13: - | V13: - | W13: 3 | X13: do obliczenie na podstawie cen paliw | Y13: +
A14: Bema 77 | B14: - | C14: + | D14: - | E14: - | F14: - | G14: - | H14: - | I14: - | J14: - | K14: 2005 | L14: od 10 do 15 | M14: 4 | N14: 150 | O14: + | P14: + | Q14: + | R14: to samo źródło ciepła co do ogrzewania + gazowe przepływowe | S14: 5 | T14: - | U14: - | V14: - | W14: 2 | X14: do obliczenie na podstawie cen paliw | Y14: +
A15: Bluszczowa 11 | B15: - | C15: + | D15: - | E15: - | F15: - | G15: - | H15: - | I15: - | J15: - | K15: 2005 | L15: <5 | M15: 5 | N15: 200 | O15: + | P15: + | Q15: + | R15: to samo źródło ciepła co do ogrzewania | S15: 6 | T15: - | U15: - | V15: - | W15: 3 | X15: do obliczenie na podstawie cen paliw | Y15: -
A16: Brzozowa 10 | B16: - | C16: + | D16: - | E16: - | F16: - | G16: - | H16: - | I16: - | J16: - | K16: 1966 | L16: <5 | M16: 4 | N16: 100 | O16: + | P16: + | Q16: - | R16: to samo źródło ciepła co do ogrzewania + gazowe przepływowe | S16: 4 | T16: - | U16: - | V16: - | W16: 1 | X16: do obliczenie na podstawie cen paliw | Y16: -
A17: Brzozowa 21 | B17: - | C17: + | D17: - | E17: - | F17: - | G17: - | H17: - | I17: - | J17: - | K17: 1950 | L17: <5 | M17: 5 | N17: 180 | O17: + | P17: + | Q17: + | R17: to samo źródło ciepła co do ogrzewania | S17: 3 | T17: - | U17: - | V17: - | W17: 4 | X17: do obliczenie na podstawie cen paliw | Y17: -
A18: Brzozowa 25 | B18: - | C18: + | D18: - | E18: - | F18: - | G18: - | H18: - | I18: - | J18: - | K18: 1950 | L18: od 5 do 10 | M18: 4 | N18: 80 | O18: + | P18: + | Q18: - | R18: to samo źródło ciepła co do ogrzewania+bojler elektryczny | S18: 3 | T18: - | U18: - | V18: - | W18: 1 | X18: do obliczenie na podstawie cen paliw | Y18: -
A19: Cegielna 18a | B19: - | C19: - | D19: - | E19: - | F19: + | G19: - | H19: - | I19: - | J19: - | K19: 1990 | L19: <5 | M19: 4 | N19: 130 | O19: + | P19: + | Q19: + | R19: to samo źródło ciepła co do ogrzewania | S19: - | T19: - | U19: 2000 | V19: - | W19: - | X19: do obliczenie na podstawie cen paliw | Y19: +
A20: Cegielniana | B20: - | C20: + | D20: - | E20: - | F20: - | G20: - | H20: - | I20: - | J20: - | K20: 1995 | L20: <5 | M20: 5 | N20: 130 | O20: + | P20: + | Q20: + | R20: to samo źródło ciepła co do ogrzewania | S20: 5 | T20: - | U20: - | V20: - | W20: 4 | X20: do obliczenie na podstawie cen paliw | Y20: -
A21: Cegielniana 45 | B21: - | C21: - | D21: - | E21: - | F21: + | G21: - | H21: - | I21: - | J21: - | K21: 2015 | L21: <5 | M21: 3 | N21: 149 | O21: + | P21: + | Q21: + | R21: to samo źródło ciepła co do ogrzewania | S21: - | T21: - | U21: - | V21: - | W21: - | X21: brak danym | Y21: +
A22: Ciesielska 2a | B22: - | C22: + | D22: - | E22: - | F22: - | G22: - | H22: - | I22: - | J22: - | K22: 1980 | L22: <5 | M22: 4 | N22: 150 | O22: + | P22: + | Q22: - | R22: to samo źródło ciepła co do ogrzewania+gazowe przepływowe | S22: 4 | T22: - | U22: - | V22: - | W22: 3 | X22: do obliczenie na podstawie cen paliw | Y22: -
A23: Ciesielska 3c | B23: - | C23: + | D23: - | E23: - | F23: - | G23: - | H23: - | I23: - | J23: - | K23: 1985 | L23: <5 | M23: 4 | N23: 100 | O23: - | P23: - | Q23: - | R23: to samo źródło ciepła co do ogrzewania+gazowe przepływowe | S23: 4 | T23: - | U23: - | V23: - | W23: 3 | X23: do obliczenie na podstawie cen paliw | Y23: -
A24: Cisowa 15 | B24: - | C24: + | D24: - | E24: - | F24: - | G24: - | H24: - | I24: - | J24: - | K24: ? | L24: od 5 do 10 | M24: 3 | N24: 45 | O24: + | P24: + | Q24: + | R24: to samo źródło ciepła co do ogrzewania | S24: 1.5 | T24: - | U24: - | V24: - | W24: 3 | X24: do obliczenie na podstawie cen paliw | Y24: -
A25: Cisowa 25 | B25: - | C25: + | D25: - | E25: - | F25: - | G25: - | H25: - | I25: - | J25: - | K25: 1986 | L25: >15 | M25: 2 | N25: 150 | O25: + | P25: + | Q25: + | R25: to samo źródło ciepła co do ogrzewania+bojler elektryczny | S25: 2 | T25: - | U25: - | V25: - | W25: 3 | X25: do obliczenie na podstawie cen paliw | Y25: +
A26: Cisowa 7 | B26: - | C26: + | D26: - | E26: - | F26: - | G26: - | H26: - | I26: - | J26: - | K26: ? | L26: od 5 do 10 | M26: 4 | N26: 35 | O26: - | P26: - | Q26: - | R26: to samo źródło ciepła co do ogrzewania | S26: - | T26: - | U26: - | V26: - | W26: - | X26: brak danym | Y26: -
A27: Cmentarna 21a | B27: - | C27: + | D27: - | E27: - | F27: - | G27: - | H27: - | I27: - | J27: - | K27: 2000 | L27: <5 | M27: 5 | N27: 150 | O27: + | P27: + | Q27: + | R27: to samo źródło ciepła co do ogrzewania+bojler elektryczny | S27: 5 | T27: - | U27: - | V27: - | W27: 3 | X27: do obliczenie na podstawie cen paliw | Y27: +
A28: Czarna 18 | B28: - | C28: + | D28: - | E28: - | F28: - | G28: - | H28: - | I28: - | J28: - | K28: 1995 | L28: od 5 do 10 | M28: 4 | N28: 100 | O28: + | P28: + | Q28: + | R28: to samo źródło ciepła co do ogrzewania+bojler elektryczny | S28: 4 | T28: - | U28: - | V28: - | W28: 2 | X28: do obliczenie na podstawie cen paliw | Y28: +
A29: Damazego 32 | B29: + | C29: - | D29: - | E29: - | F29: - | G29: - | H29: - | I29: - | J29: - | K29: 2003 | L29: od 5 do 10 | M29: 4 | N29: 190 | O29: + | P29: + | Q29: + | R29: to samo źródło ciepła co do ogrzewania | S29: - | T29: 5.5 | U29: - | V29: - | W29: - | X29: 5350 | Y29: -
A30: Damazego 33 | B30: - | C30: + | D30: - | E30: - | F30: - | G30: - | H30: - | I30: - | J30: - | K30: 1990 | L30: <5 | M30: 4 | N30: 150 | O30: + | P30: + | Q30: + | R30: to samo źródło ciepła co do ogrzewania+bojler elektryczny | S30: 5 | T30: - | U30: - | V30: - | W30: 3 | X30: do obliczenie na podstawie cen paliw | Y30: -
A31: Damazego 33 | B31: - | C31: - | D31: - | E31: - | F31: - | G31: + | H31: - | I31: - | J31: - | K31: 2014 | L31: <5 | M31: ? | N31: 150 | O31: + | P31: + | Q31: + | R31: to samo źródło ciepła co do ogrzewania+bojler elektryczny | S31: - | T31: - | U31: - | V31: - | W31: - | X31: brak danym | Y31: -
A32: Danuty 12 | B32: - | C32: + | D32: - | E32: - | F32: - | G32: - | H32: - | I32: - | J32: - | K32: 1978 | L32: >15 | M32: 5 | N32: 80 | O32: + | P32: + | Q32: + | R32: to samo źródło ciepła co do ogrzewania+bojler elektryczny | S32: 4 | T32: - | U32: - | V32: - | W32: 2 | X32: 3500 | Y32: -
A33: Danuty 2 | B33: - | C33: + | D33: - | E33: - | F33: - | G33: - | H33: - | I33: - | J33: - | K33: 1980 | L33: <5 | M33: 2 | N33: 70 | O33: - | P33: + | Q33: - | R33: to samo źródło ciepła co do ogrzewania+bojler elektryczny | S33: 2 | T33: - | U33: - | V33: - | W33: 3 | X33: do obliczenie na podstawie cen paliw | Y33: -
A34: Danuty 5 | B34: - | C34: + | D34: - | E34: - | F34: - | G34: - | H34: - | I34: - | J34: - | K34: 1988 | L34: <5 | M34: 4 | N34: 200 | O34: + | P34: + | Q34: - | R34: to samo źródło ciepła co do ogrzewania+bojler elektryczny | S34: 4.5 | T34: - | U34: - | V34: - | W34: 5 | X34: do obliczenie na podstawie cen paliw | Y34: -
A35: Długa 10 | B35: - | C35: + | D35: - | E35: - | F35: - | G35: - | H35: - | I35: - | J35: - | K35: 1985 | L35: od 5 do 10 | M35: 5 | N35: 150 | O35: + | P35: + | Q35: + | R35: to samo źródło ciepła co do ogrzewania+gazowe przepływowe | S35: - | T35: - | U35: - | V35: - | W35: - | X35: brak danym | Y35: -
A36: Długa 48 | B36: - | C36: + | D36: - | E36: - | F36: - | G36: - | H36: - | I36: - | J36: - | K36: 1980 | L36: od 5 do 10 | M36: 5 | N36: 120 | O36: + | P36: + | Q36: + | R36: to samo źródło ciepła co do ogrzewania | S36: - | T36: - | U36: - | V36: - | W36: - | X36: brak danym | Y36: -
A37: Edwarda 5 | B37: + | C37: - | D37: - | E37: - | F37: - | G37: - | H37: - | I37: - | J37: - | K37: 1983 | L37: <5 | M37: 3 | N37: 160 | O37: + | P37: + | Q37: + | R37: to samo źródło ciepła co do ogrzewania+bojler elektryczny | S37: - | T37: 6 | U37: - | V37: - | W37: - | X37: 5400 | Y37: -
A38: Fabryczna 10 | B38: - | C38: + | D38: - | E38: - | F38: - | G38: - | H38: - | I38: - | J38: - | K38: 2005 | L38: <5 | M38: 4 | N38: 130 | O38: + | P38: + | Q38: + | R38: to samo źródło ciepła co do ogrzewania+bojler elektryczny | S38: 5 | T38: - | U38: - | V38: - | W38: 5 | X38: do obliczenie na podstawie cen paliw | Y38: +
A39: Fabryczna 19 | B39: - | C39: + | D39: - | E39: - | F39: - | G39: - | H39: - | I39: - | J39: - | K39: 1950 | L39: <5 | M39: 3 | N39: 100 | O39: - | P39: + | Q39: - | R39: to samo źródło ciepła co do ogrzewania+bojler elektryczny | S39: 3 | T39: - | U39: - | V39: - | W39: 2 | X39: do obliczenie na podstawie cen paliw | Y39: -
A40: Fabryczna 26a | B40: - | C40: + | D40: - | E40: - | F40: - | G40: - | H40: - | I40: - | J40: - | K40: 1955 | L40: od 5 do 10 | M40: 5 | N40: 150 | O40: + | P40: + | Q40: + | R40: to samo źródło ciepła co do ogrzewania+gazowe przepływowe | S40: 4 | T40: - | U40: - | V40: - | W40: 3 | X40: do obliczenie na podstawie cen paliw | Y40: +
A41: Fabryczna 32 | B41: - | C41: + | D41: - | E41: - | F41: - | G41: - | H41: - | I41: - | J41: - | K41: 1990 | L41: <5 | M41: 5 | N41: 180 | O41: + | P41: + | Q41: + | R41: to samo źródło ciepła co do ogrzewania+gazowe przepływowe | S41: 6 | T41: - | U41: - | V41: - | W41: 3 | X41: do obliczenie na podstawie cen paliw | Y41: +
A42: Garbarska 26 | B42: - | C42: - | D42: - | E42: - | F42: + | G42: - | H42: - | I42: - | J42: - | K42: 1990 | L42: <5 | M42: 6 | N42: 160 | O42: + | P42: + | Q42: + | R42: to samo źródło ciepła co do ogrzewania+bojler elektryczny | S42: - | T42: - | U42: - | V42: - | W42: - | X42: do obliczenie na podstawie cen paliw | Y42: -
A43: Garbarska 28 | B43: - | C43: + | D43: - | E43: - | F43: - | G43: - | H43: - | I43: - | J43: - | K43: 1996 | L43: >15 | M43: 6 | N43: 160 | O43: + | P43: + | Q43: + | R43: to samo źródło ciepła co do ogrzewania+bojler elektryczny | S43: 6 | T43: - | U43: - | V43: - | W43: - | X43: do obliczenie na podstawie cen paliw | Y43: +
A44: Garbarska 7 | B44: - | C44: + | D44: - | E44: - | F44: - | G44: - | H44: - | I44: - | J44: - | K44: 1973 | L44: <5 | M44: 3 | N44: 130 | O44: - | P44: + | Q44: + | R44: to samo źródło ciepła co do ogrzewania+bojler elektryczny | S44: 4 | T44: - | U44: - | V44: - | W44: 4 | X44: do obliczenie na podstawie cen paliw | Y44: +
A45: Garbuska 24 | B45: - | C45: + | D45: - | E45: - | F45: - | G45: - | H45: - | I45: - | J45: - | K45: 2005 | L45: <5 | M45: 3 | N45: 150 | O45: + | P45: + | Q45: + | R45: to samo źródło ciepła co do ogrzewania | S45: - | T45: - | U45: - | V45: - | W45: 10 | X45: do obliczenie na podstawie cen paliw | Y45: +
A46: Gdyńska 10 | B46: - | C46: - | D46: - | E46: - | F46: + | G46: - | H46: - | I46: - | J46: - | K46: 2011 | L46: <5 | M46: 5 | N46: 150 | O46: + | P46: + | Q46: + | R46: to samo źródło ciepła co do ogrzewania+kolektory słoneczne | S46: - | T46: - | U46: 2200 | V46: - | W46: - | X46: do obliczenie na podstawie cen paliw
A47: Gdyńska 12 | B47: + | C47: - | D47: - | E47: - | F47: + | G47: - | H47: - | I47: - | J47: - | K47: 2011 | L47: <5 | M47: 4 | N47: 130 | O47: + | P47: + | Q47: + | R47: to samo źródło ciepła co do ogrzewania+bojler elektryczny | S47: - | T47: - | U47: 2000 | V47: - | W47: - | X47: do obliczenie na podstawie cen paliw | Y47: +
A48: Gęsia 12 | B48: - | C48: + | D48: - | E48: - | F48: - | G48: - | H48: - | I48: - | J48: - | K48: 1950 | L48: od 10 do 15 | N48: 80 | O48: + | P48: + | Q48: + | R48: to samo źródło ciepła co do ogrzewania+bojler elektryczny | S48: 4 | T48: - | U48: - | V48: - | W48: - | X48: do obliczenie na podstawie cen paliw | Y48: -
A49: Główno 20 | B49: + | C49: - | D49: - | E49: - | F49: - | G49: - | H49: - | I49: - | J49: - | K49: 2000 | L49: od 5 do 10 | M49: 4 | N49: 90 | O49: + | P49: + | Q49: + | R49: to samo źródło ciepła co do ogrzewania+bojler elektryczny | S49: 7 | T49: - | U49: - | V49: - | W49: - | X49: 3400 | Y49: +
A50: Gminna 31 | B50: - | C50: + | D50: - | E50: - | F50: - | G50: - | H50: - | I50: - | J50: - | K50: 1950 | L50: od 10 do 15 | M50: 5 | N50: 200 | O50: + | P50: + | Q50: + | R50: to samo źródło ciepła co do ogrzewania | S50: 6 | T50: - | U50: - | V50: - | W50: - | X50: do obliczenie na podstawie cen paliw | Y50: -
A51: Grażyny 22 | B51: + | C51: - | D51: - | E51: - | F51: - | G51: - | H51: - | I51: - | J51: - | K51: 1985 | L51: <5 | M51: 2 | N51: 80 | O51: - | P51: + | Q51: - | R51: to samo źródło ciepła co do ogrzewania+bojler elektryczny | S51: - | T51: - | U51: - | V51: - | W51: - | X51: brak danym | Y51: -
A52: Grota 31 | B52: - | C52: + | D52: - | E52: - | F52: - | G52: - | H52: - | I52: - | J52: - | K52: 1975 | L52: <5 | M52: 4 | N52: 120 | O52: + | P52: + | Q52: + | R52: to samo źródło ciepła co do ogrzewania+bojler elektryczny | S52: 5 | T52: - | U52: - | V52: - | W52: 3 | X52: do obliczenie na podstawie cen paliw | Y52: +
A53: Hallera 13 | B53: + | C53: - | D53: - | E53: - | F53: + | G53: - | H53: - | I53: - | J53: - | K53: 2005 | L53: od 5 do 10 | M53: 3 | N53: 110 | O53: + | P53: + | Q53: + | R53: to samo źródło ciepła co do ogrzewania+gazowe przepływowe | S53: 4 | T53: - | U53: - | V53: - | W53: 1 | X53: do obliczenie na podstawie cen paliw | Y53: +
A54: Hallera 28 | B54: - | C54: + | D54: - | E54: - | F54: - | G54: - | H54: - | I54: - | J54: - | K54: 1980 | L54: od 5 do 10 | M54: 4 | N54: 120 | O54: + | P54: + | Q54: + | R54: to samo źródło ciepła co do ogrzewania+gazowe przepływowe | S54: 5 | T54: - | U54: - | V54: - | W54: 1 | X54: do obliczenie na podstawie cen paliw | Y54: -
A55: Hallera 29 | B55: - | C55: + | D55: - | E55: - | F55: - | G55: - | H55: - | I55: - | J55: - | K55: 1950 | L55: >15 | M55: 4 | N55: 100 | O55: - | P55: - | Q55: - | R55: to samo źródło ciepła co do ogrzewania | S55: 3 | T55: - | U55: - | V55: - | W55: 3 | X55: do obliczenie na podstawie cen paliw | Y55: -
A56: Hallera 39 | B56: - | C56: + | D56: - | E56: - | F56: - | G56: - | H56: - | I56: - | J56: - | K56: 1995 | L56: <5 | M56: 3 | N56: 120 | O56: + | P56: + | Q56: + | R56: to samo źródło ciepła co do ogrzewania+bojler elektryczny | S56: 5 | T56: - | U56: - | V56: - | W56: 2 | X56: do obliczenie na podstawie cen paliw | Y56: +
A57: Hallera 43a | B57: - | C57: + | D57: - | E57: - | F57: - | G57: - | H57: - | I57: - | J57: - | K57: 1950 | L57: od 5 do 10 | M57: 4 | N57: 100 | O57: + | P57: + | Q57: + | R57: to samo źródło ciepła co do ogrzewania+gazowe przepływowe | S57: 4 | T57: - | U57: - | V57: - | W57: 1 | X57: do obliczenie na podstawie cen paliw | Y57: +
A58: Hallera 46 | B58: - | C58: + | D58: - | E58: - | F58: - | G58: - | H58: - | I58: - | J58: - | K58: 2005 | L58: <5 | M58: 5 | N58: 150 | O58: + | P58: + | Q58: + | R58: to samo źródło ciepła co do ogrzewania+bojler elektryczny | S58: 5 | T58: - | U58: - | V58: - | W58: 4 | X58: do obliczenie na podstawie cen paliw | Y58: +
A59: Hallera 57 | B59: - | C59: + | D59: - | E59: - | F59: - | G59: - | H59: - | I59: - | J59: - | K59: 1950 | L59: od 5 do 10 | M59: 5 | N59: 150 | O59: + | P59: + | Q59: + | R59: gazowe przepływowe | S59: 5 | T59: - | U59: - | V59: - | W59: 1 | X59: do obliczenie na podstawie cen paliw | Y59: +
A60: Handlowa | B60: - | C60: + | D60: - | E60: - | F60: - | G60: - | H60: - | I60: - | J60: - | K60: 1985 | L60: <5 | M60: 5 | N60: 130 | O60: + | P60: + | Q60: + | R60: to samo źródło ciepła co do ogrzewania | S60: 5 | T60: - | U60: - | V60: - | W60: 2 | X60: do obliczenie na podstawie cen paliw | Y60: -
A61: Hetmańska 14 | B61: - | C61: + | D61: - | E61: - | F61: - | G61: - | H61: - | I61: - | J61: - | K61: 1980 | L61: od 10 do 15 | M61: 1 | N61: 110 | O61: + | P61: + | Q61: + | R61: bojler elektryczny | S61: 6 | T61: - | U61: - | V61: - | W61: 1 | X61: do obliczenie na podstawie cen paliw | Y61: -
A62: Hubala 107 | B62: - | C62: + | D62: - | E62: - | F62: - | G62: - | H62: - | I62: - | J62: - | K62: b.d | L62: od 5 do 10 | M62: 4 | N62: 80 | O62: + | P62: + | Q62: + | R62: bojlery elektryczne | S62: 7 | T62: - | U62: - | V62: - | W62: - | X62: do obliczenie na podstawie cen paliw | Y62: -
A63: Hubala 4 | B63: - | C63: + | D63: - | E63: - | F63: - | G63: - | H63: - | I63: - | J63: - | K63: b.d | L63: od 5 do 10 | M63: 2 | N63: 100 | O63: - | P63: + | Q63: - | R63: to samo źródło ciepła co do ogrzewania | S63: 3 | T63: - | U63: - | V63: - | W63: 3 | X63: do obliczenie na podstawie cen paliw | Y63: -
A64: Hubala 41/43 | B64: - | C64: + | D64: - | E64: - | F64: - | G64: - | H64: - | I64: - | J64: - | K64: 1997 | L64: <5 | M64: 6 | N64: 130 | O64: + | P64: + | Q64: + | R64: to samo źródło ciepła co do ogrzewania+bojler elektryczny | S64: 4 | T64: - | U64: - | V64: - | W64: 2 | X64: do obliczenie na podstawie cen paliw | Y64: -
A65: Jolanty 15 | B65: - | C65: + | D65: - | E65: - | F65: - | G65: - | H65: - | I65: - | J65: - | K65: 1977 | L65: od 5 do 10 | M65: 4 | N65: 95 | O65: + | P65: + | Q65: + | R65: bojler elektryczny | S65: 4 | T65: - | U65: - | V65: - | W65: 3 | X65: 3000 | Y65: -
A66: Kałużyńskiego 1 | B66: - | C66: + | D66: - | E66: - | F66: - | G66: - | H66: - | I66: - | J66: - | K66: 2000 | L66: od 10 do 15 | M66: 6 | N66: 150 | O66: + | P66: + | Q66: + | R66: to samo źródło ciepła co do ogrzewania+bojler elektryczny | S66: 4 | T66: - | U66: - | V66: - | W66: 2 | X66: do obliczenie na podstawie cen paliw | Y66: -
A67: Kamienna 1 | B67: - | C67: + | D67: - | E67: - | F67: - | G67: - | H67: - | I67: - | J67: - | K67: 2001 | L67: <5 | M67: 5 | N67: 150 | O67: + | P67: + | Q67: + | R67: to samo źródło ciepła co do ogrzewania+bojler elektryczny | S67: 5 | T67: - | U67: - | V67: - | W67: 5 | X67: do obliczenie na podstawie cen paliw | Y67: +
A68: Kanonierów 16 | B68: - | C68: - | D68: - | E68: - | F68: + | G68: - | H68: - | I68: - | J68: - | K68: 1998 | L68: <5 | M68: 3 | N68: 197 | O68: + | P68: + | Q68: + | R68: to samo źródło ciepła co do ogrzewania+bojler elektryczny | S68: - | T68: - | U68: - | V68: - | W68: - | X68: brak danym | Y68: -
A69: Klonowa 2/4 | B69: - | C69: + | D69: - | E69: - | F69: - | G69: - | H69: - | I69: - | J69: - | K69: 2010 | L69: <5 | M69: 5 | N69: 130 | O69: + | P69: + | Q69: + | R69: to samo źródło ciepła co do ogrzewania+bojler elektryczny | S69: - | T69: - | U69: - | V69: - | W69: - | X69: brak danym | Y69: -
A70: Kolejowa 114 | B70: - | C70: + | D70: - | E70: - | F70: - | G70: - | H70: - | I70: - | J70: - | K70: b.d | L70: <5 | M70: 2 | N70: 90 | O70: + | P70: + | Q70: + | R70: to samo źródło ciepła co do ogrzewania+bojler elektryczny | S70: - | T70: - | U70: - | V70: - | W70: - | X70: brak danym | Y70: -
A71: Kolejowa 15 | B71: - | C71: + | D71: - | E71: - | F71: - | G71: - | H71: - | I71: - | J71: - | K71: 1969 | L71: od 5 do 10 | M71: 5 | N71: 100 | O71: + | P71: + | Q71: + | R71: to samo źródło ciepła co do ogrzewania+bojler elektryczny | S71: 3 | T71: - | U71: - | V71: - | W71: 4 | X71: do obliczenie na podstawie cen paliw | Y71: -
A72: Kolejowa 36 | B72: - | C72: + | D72: - | E72: - | F72: - | G72: - | H72: - | I72: - | J72: - | K72: 1978 | L72: <5 | M72: 2 | N72: 80 | O72: + | P72: + | Q72: + | R72: to samo źródło ciepła co do ogrzewania+bojler elektryczny | S72: 1 | T72: - | U72: - | V72: - | W72: - | X72: do obliczenie na podstawie cen paliw | Y72: -
A73: Kolejowa 5 | B73: - | C73: + | D73: - | E73: - | F73: - | G73: - | H73: - | I73: - | J73: - | K73: 1980 | L73: <5 | M73: 6 | N73: 200 | O73: + | P73: + | Q73: + | R73: to samo źródło ciepła co do ogrzewania+bojler elektryczny | S73: 4 | T73: - | U73: - | V73: - | W73: 4 | X73: do obliczenie na podstawie cen paliw | Y73: -
A74: Kolejowa 6 | B74: - | C74: + | D74: - | E74: - | F74: - | G74: - | H74: - | I74: - | J74: - | K74: b.d | L74: <5 | M74: 5 | N74: 140 | O74: + | P74: + | Q74: + | R74: to samo źródło ciepła co do ogrzewania+bojler elektryczny | S74: - | T74: - | U74: - | V74: - | W74: - | X74: do obliczenie na podstawie cen paliw | Y74: -
A75: Kolejowa 82 | B75: + | C75: - | D75: - | E75: - | F75: - | G75: - | H75: - | I75: - | J75: - | K75: 2013 | L75: <5 | M75: 4 | N75: 120 | O75: + | P75: + | Q75: + | R75: to samo źródło ciepła co do ogrzewania+bojler elektryczny | S75: - | T75: 3 | U75: - | V75: - | W75: - | X75: do obliczenie na podstawie cen paliw | Y75: -
A76: Kowalska 3 | B76: + | C76: - | D76: - | E76: - | F76: - | G76: - | H76: - | I76: - | J76: - | K76: ? | L76: <5 | M76: 4 | N76: 75 | O76: + | P76: + | Q76: + | R76: to samo źródło ciepła co do ogrzewania | S76: - | T76: 2 | U76: - | V76: - | W76: 2 | X76: do obliczenie na podstawie cen paliw | Y76: -
A77: Legionów 101 | B77: - | C77: + | D77: - | E77: - | F77: - | G77: - | H77: - | I77: - | J77: - | K77: 1980 | L77: <5 | M77: 4 | N77: 150 | O77: + | P77: + | Q77: + | R77: to samo źródło ciepła co do ogrzewania+bojler elektryczny | S77: 3 | T77: - | U77: - | V77: - | W77: 3 | X77: do obliczenie na podstawie cen paliw | Y77: +
A78: Lewa 18 | B78: - | C78: + | D78: - | E78: - | F78: - | G78: - | H78: - | I78: - | J78: - | K78: 2005 | L78: <5 | M78: 4 | N78: 150 | O78: + | P78: + | Q78: + | R78: Panele słoneczne | S78: 3 | T78: - | U78: - | V78: - | W78: 1 | X78: do obliczenie na podstawie cen paliw | Y78: -
A79: Ludwikowska 104 | B79: - | C79: + | D79: - | E79: - | F79: - | G79: - | H79: - | I79: - | J79: - | K79: 1922 | L79: od 10 do 15 | M79: 1 | N79: 27 | O79: + | P79: - | Q79: - | R79: to samo źródło ciepła co do ogrzewania | S79: 2 | T79: - | U79: - | V79: - | W79: 2 | X79: 2000 | Y79: -
A80: Ludowa 18/20 | B80: - | C80: + | D80: - | E80: - | F80: - | G80: - | H80: - | I80: - | J80: - | K80: 1989 | L80: <5 | M80: 4 | N80: 110 | O80: - | P80: + | Q80: + | R80: to samo źródło ciepła co do ogrzewania+bojler elektryczny | S80: 1.5 | T80: - | U80: - | V80: - | W80: 5 | X80: 2500 | Y80: -
A81: Łozińskiego 23 | B81: - | C81: + | D81: - | E81: - | F81: - | G81: - | H81: - | I81: + | J81: - | K81: 2010 | L81: <5 | M81: ? | N81: 150 | O81: + | P81: + | Q81: + | R81: to samo źródło ciepła co do ogrzewania | S81: - | T81: - | U81: - | V81: 2000 | W81: - | X81: brak danym | Y81: -
A82: Magdaleny 19/21 | B82: - | C82: + | D82: - | E82: - | F82: - | G82: - | H82: - | I82: - | J82: - | K82: 1971 | L82: od 5 do 10 | M82: 5 | N82: 70 | O82: + | P82: + | Q82: + | R82: to samo źródło ciepła co do ogrzewania+bojler elektryczny | S82: 2 | T82: - | U82: - | V82: - | W82: 4 | X82: 2500 | Y82: -
A83: Majowa 31 | B83: - | C83: - | D83: - | E83: - | F83: + | G83: - | H83: - | I83: - | J83: - | K83: 1937 | L83: od 5 do 10 | M83: 4 | N83: 90 | O83: + | P83: + | Q83: + | R83: to samo źródło ciepła co do ogrzewania+bojler elektryczny | S83: - | T83: - | U83: - | V83: - | W83: - | X83: 3000 | Y83: -
A84: Majowa 35A | B84: + | C84: - | D84: - | E84: - | F84: - | G84: - | H84: - | I84: - | J84: - | K84: 2000 | L84: od 10 do 15 | M84: 4 | N84: 85 | O84: + | P84: + | Q84: + | R84: to samo źródło ciepła co do ogrzewania+bojler elektryczny | S84: 3.5 | T84: - | U84: - | V84: - | W84: - | X84: do obliczenie na podstawie cen paliw | Y84: +
A85: Majowa 69 | B85: + | C85: - | D85: - | E85: - | F85: - | G85: - | H85: - | I85: - | J85: - | K85: 1985 | L85: od 5 do 10 | M85: 5 | N85: 200 | O85: + | P85: + | Q85: + | R85: to samo źródło ciepła co do ogrzewania+bojler elektryczny | S85: 2.5 | T85: - | U85: - | V85: - | W85: - | X85: do obliczenie na podstawie cen paliw | Y85: -
A86: Majowa 84 | B86: + | C86: - | D86: - | E86: - | F86: + | G86: - | H86: - | I86: - | J86: - | K86: 1985 | L86: od 5 do 10 | M86: 2 | N86: 90 | O86: + | P86: + | Q86: + | R86: to samo źródło ciepła co do ogrzewania+bojler elektryczny | S86: 4 | T86: - | U86: - | V86: - | W86: - | X86: do obliczenie na podstawie cen paliw | Y86: -
A87: Michałowska 39 | B87: - | C87: + | D87: - | E87: - | F87: - | G87: - | H87: - | I87: - | J87: - | K87: 1986 | L87: <5 | M87: 3 | N87: 80 | O87: + | P87: + | Q87: + | R87: to samo źródło ciepła co do ogrzewania | S87: 2 | T87: - | U87: - | V87: - | W87: 5 | X87: do obliczenie na podstawie cen paliw | Y87: -
A88: Michałowska 54/56 | B88: - | C88: + | D88: - | E88: - | F88: - | G88: - | H88: - | I88: - | J88: - | K88: 1985 | L88: od 5 do 10 | M88: 4 | N88: 120 | O88: + | P88: + | Q88: + | R88: to samo źródło ciepła co do ogrzewania+bojler elektryczny | S88: 5 | T88: - | U88: - | V88: - | W88: - | X88: do obliczenie na podstawie cen paliw | Y88: -
A89: Michałowska 7 | B89: + | C89: - | D89: - | E89: - | F89: - | G89: - | H89: - | I89: - | J89: - | K89: 2009 | L89: od 5 do 10 | M89: 4 | N89: 90 | O89: + | P89: + | Q89: + | R89: to samo źródło ciepła co do ogrzewania | S89: - | T89: 3 | U89: - | V89: - | W89: - | X89: 2700 | Y89: -
A90: Michałowska 70 | B90: - | C90: + | D90: - | E90: - | F90: - | G90: - | H90: - | I90: - | J90: - | K90: 1993 | L90: <5 | M90: 4 | N90: 100 | O90: + | P90: + | Q90: + | R90: to samo źródło ciepła co do ogrzewania | S90: 2 | T90: - | U90: - | V90: - | W90: 3 | X90: 3000 | Y90: -
A91: Mostowa 26 | B91: - | C91: + | D91: - | E91: - | F91: + | G91: - | H91: - | I91: - | J91: - | K91: 2010 | L91: <5 | M91: 4 | N91: 180 | O91: + | P91: + | Q91: + | R91: to samo źródło ciepła co do ogrzewania+gazowe przepływowe | S91: 4 | T91: - | U91: 1000 | V91: - | W91: 4 | X91: do obliczenie na podstawie cen paliw | Y91: +
A92: Myśliwska 18 | B92: - | C92: + | D92: - | E92: - | F92: - | G92: - | H92: - | I92: - | J92: - | K92: 1953 | L92: od 5 do 10 | M92: 4 | N92: 100 | O92: - | P92: + | Q92: - | R92: to samo źródło ciepła co do ogrzewania | S92: 4 | T92: - | U92: - | V92: - | W92: 3 | X92: do obliczenie na podstawie cen paliw | Y92: +
A93: Nagórzycka 101/103 | B93: - | C93: + | D93: - | E93: - | F93: - | G93: - | H93: - | I93: - | J93: - | K93: 2000 | L93: od 10 do 15 | M93: 2 | N93: 200 | O93: + | P93: + | Q93: + | R93: to samo źródło ciepła co do ogrzewania | S93: 3 | T93: - | U93: - | V93: - | W93: 7 | X93: do obliczenie na podstawie cen paliw | Y93: -
A94: Nagórzycka 120 | B94: + | C94: - | D94: - | E94: - | F94: - | G94: - | H94: - | I94: - | J94: - | K94: 2005 | L94: <5 | M94: 5 | N94: 150 | O94: + | P94: + | Q94: + | R94: to samo źródło ciepła co do ogrzewania | S94: 5 | T94: - | U94: - | V94: - | W94: - | X94: 3000 | Y94: -
A95: Nagórzycka 146/148 | B95: - | C95: + | D95: - | E95: - | F95: - | G95: - | H95: - | I95: - | J95: - | K95: 1965 | L95: <5 | M95: 3 | N95: 130 | O95: + | P95: + | Q95: + | R95: to samo źródło ciepła co do ogrzewania | S95: 2 | T95: - | U95: - | V95: - | W95: 2 | X95: do obliczenie na podstawie cen paliw | Y95: -
A96: Nagórzycka 152/154 | B96: - | C96: + | D96: - | E96: - | F96: - | G96: - | H96: - | I96: - | J96: - | K96: 1956 | L96: od 5 do 10 | M96: 2 | N96: 70 | O96: - | P96: + | Q96: - | R96: to samo źródło ciepła co do ogrzewania+bojler elektryczny | S96: 4 | T96: - | U96: - | V96: - | W96: 4 | X96: 4000 | Y96: +
A97: Nagórzycka 34/36 | B97: + | C97: - | D97: - | E97: - | F97: - | G97: - | H97: - | I97: - | J97: - | K97: 1928 | L97: <5 | M97: 5 | N97: 80 | O97: + | P97: + | Q97: + | R97: to samo źródło ciepła co do ogrzewania + terma gazowa | S97: 4 | T97: - | U97: - | V97: - | W97: - | X97: 3200 | Y97: +
A98: Nagórzycka 45 | B98: + | C98: - | D98: - | E98: - | F98: - | G98: - | H98: - | I98: - | J98: - | K98: 2015 | L98: <5 | M98: 3 | N98: 250 | O98: + | P98: + | Q98: + | R98: to samo źródło ciepła co do ogrzewania | S98: - | T98: - | U98: - | V98: - | W98: - | X98: brak danym | Y98: +
A99: Nagórzycka 51 | B99: + | C99: - | D99: - | E99: - | F99: - | G99: - | H99: - | I99: - | J99: - | K99: 1995 | L99: <5 | M99: 4 | N99: 190 | O99: + | P99: + | Q99: + | R99: to samo źródło ciepła co do ogrzewania + elektryczne przepływowe | S99: - | T99: 3.5 | U99: - | V99: - | W99: - | X99: 3000 | Y99: -
A100: Nagórzycka 57/59 | B100: + | C100: - | D100: - | E100: - | F100: - | G100: - | H100: - | I100: - | J100: - | K100: 2010 | L100: <5 | M100: 4 | N100: 400 | O100: + | P100: + | Q100: + | R100: to samo źródło ciepła co do ogrzewania+bojler elektryczny | S100: - | T100: 6 | U100: - | V100: - | W100: 6 | X100: 5000 | Y100: +
...

Sheet Emisje - sektor mieszkalny
A1: emisje CO2e - rok bazowy 2014
A2: nośniki energii | B2: zużycie paliw (dane uzyskane z ankiet) | C2: jednostka | D2: przeliczenie na ilość domów jednorodzinnych + zużycie paliwa uzyskane z ankiet | F2: wartość opałowa [MJ/kg] / [MJ/m3] | G2: energia finalna [MWh] | H2: krajowe wskaźniki emisji [MgCO2e/MWh] | I2: emisja [MgCO2e] | J2: energia finalna [%] | K2: emisja CO2e [%]
D3: zużycie paliw | E3: jednostka
A4: energia elektryczna | B4: 40339.73 | C4: MWh | D4: =40339.73+B31 -> 40234.6 | E4: MWh | F4: - | G4: =D4 -> 40234.6 | H4: 0.446 | I4: =G4*H4 -> 17944.632 | J4: =G4/$G$12*100 -> 2.9955621 | K4: =I4/$I$12*100 -> 19.520417
A5: gaz ziemny | B5: =SUM('Ankiety - budynki jednorodzinne'!U3:U190) -> 14200 | C5: m3 | D5: =E20*F20+B29+B35 -> 857910.17 | E5: m3 | F5: 35.94 | G5: =D5*F5/3600 -> 8564.8032 | H5: 0.2 | I5: =H5*G5 -> 1712.9606 | J5: =G5/$G$12*100 -> 0.63767006 | K5: =I5/$I$12*100 -> 1.8633821
A6: olej opałowy | B6: =SUM('Ankiety - budynki jednorodzinne'!V3:V190) -> 8000 | C6: l | D6: =E21*F21+B30 -> 296893.62 | E6: l | F6: 40.19 | G6: =D6*F6/3600 -> 3314.4874 | H6: 0.27 | I6: =H6*G6 -> 894.91159 | J6: =G6/$G$12*100 -> 0.2467715 | K6: =I6/$I$12*100 -> 0.97349712
A7: węgiel kamienny | B7: =SUM('Ankiety - budynki jednorodzinne'!S3:S190) -> 550.5 | C7: Mg | D7: =E22*F22 -> 19328.992 | E7: Mg | F7: 22.63 | G7: =(F7*D7)/3.6 -> 121504.19 | H7: 0.318 | I7: =H7*G7 -> 38638.333 | J7: =G7/$G$12*100 -> 9.0462774 | K7: =I7/$I$12*100 -> 42.03131
A8: drewno/biomasa | B8: =SUM('Ankiety - budynki jednorodzinne'!W3:W190) -> 361 | C8: Mg | D8: =E23*F23 -> 12675.324 | E8: Mg | F8: 15.6 | G8: =(F8*D8)/3.6 -> 54926.406 | H8: 0 | I8: 0 | J8: =G8/$G$12*100 -> 4.0894022 | K8: =I8/$I$12*100 -> 0
A9: ekogroszek | B9: =SUM('Ankiety - budynki jednorodzinne'!T3:T190) -> 49 | C9: Mg | D9: =E24*F24 -> 1720.4734 | E9: Mg | F9: 26.5 | G9: =(F9*D9)/3.6 -> 12664.596 | H9: 0.313 | I9: =H9*G9 -> 3964.0185 | J9: =G9/$G$12*100 -> 0.94290943 | K9: =I9/$I$12*100 -> 4.3121138
A10: ciepło sieciowe (spółdzielnia mieszkaniowa Przodownik - kotłownia ul. Zawadzka) | B10: =119163*0.8263 -> 98464.387 | C10: GJ | D10: =B10 -> 98464.387 | E10: GJ | F10: - | G10: =B10*3.6 -> 354471.79 | H10: 0.094 | I10: =B10*0.094 -> 9255.6524 | J10: =G10/$G$12*100 -> 26.391272 | K10: =I10/$I$12*100 -> 10.068426
A11: ciepło sieciowe (zakład gospodarki ciepłowniczej - kotłowania ul. Wierzbowa) | B11: =0.6*346046 -> 207627.6 | C11: GJ | D11: =B11 -> 207627.6 | E11: GJ | F11: - | G11: =B11*3.6 -> 747459.36 | H11: 0.094 | I11: =B11*0.094 -> 19516.994 | J11: =G11/$G$12*100 -> 55.650135 | K11: =I11/$I$12*100 -> 21.230855
G12: =SUM(G4:G11) -> 1343140.2 | I12: =SUM(I4:I11) -> 91927.502 | J12: =SUM(J4:J11) -> 100 | K12: =SUM(K4:K11) -> 100
A13: % ankiet do ilości budynków mieszkalnych
A14: 2.8632
A15: ilość budynków
A16: 6601
A17: ilość ankiet
A18: 188
A19: rodzaje paliw w domach jednorodzinnych | B19: suma budynków ogrzewanych danym paliwem | C19: ilość anietowanych domów jednorodzinnych | D19: %budynków ogrzewanych danym paliwem | E19: liczba budynków ogółem w mieście ogrzewanych danym paliwem | F19: średnie zużycie paliw | G19: jednostka | I19: Objaśnienia kolorów nagłówków tabel
A20: gaz ziemny | B20: ='Ankiety - budynki jednorodzinne'!U191 -> 8 | C20: 188 | D20: =B20/C20*100 -> 4.2553191 | E20: =6601*D20/100 -> 280.89362 | F20: =B5/8 -> 1775 | G20: m3
A21: olej opałowy | B21: ='Ankiety - budynki jednorodzinne'!V191 -> 3 | C21: 188 | D21: =B21/C21*100 -> 1.5957447 | E21: =6601*D21/100 -> 105.33511 | F21: =B6/3 -> 2666.6667 | G21: l | I21: zestawienia dotyczące emisji CO2
A22: węgiel kamienny | B22: ='Ankiety - budynki jednorodzinne'!S191 -> 140 | C22: 188 | D22: =B22/C22*100 -> 74.468085 | E22: =6601*D22/100 -> 4915.6383 | F22: =550.5/140 -> 3.9321429 | G22: Mg
A23: drewno/Biomasa | B23: ='Ankiety - budynki jednorodzinne'!W191 -> 116 | C23: 188 | D23: =B23/C23*100 -> 61.702128 | E23: =6601*D23/100 -> 4072.9574 | F23: =B8/116 -> 3.112069 | G23: Mg | I23: zestawienia dotyczące emisji pyłów
A24: ekogroszek | B24: ='Ankiety - budynki jednorodzinne'!T191 -> 13 | C24: 188 | D24: =B24/C24*100 -> 6.9148936 | E24: =6601*D24/100 -> 456.45213 | F24: =B9/13 -> 3.7692308 | G24: Mg
I25: zestawienia dotyczące emisji benzoapirenu
A27: SM Grota
A28: nośniki energii | B28: zużycie
A29: gaz [m3] | B29: =158201+65852+14406+21473+4992 -> 264924
A30: olej opałowy [l] | B30: 16000
A31: energia elektryczna {MWh} | B31: =(62870-168000)/1000 -> -105.13
A33: SM Nasza Chata
A34: nośniki energii | B34: zużycie
A35: gaz [m3] | B35: 94400
A37: Tomaszowskie TBS Sp. z o.o.
A38: nośniki energii | B38: zużycie
A39: wykorzystanie ciepła sieciowego
A41: emisje CO2e - scenariusz pasywny
A42: nośniki energii | B42: zużycie paliw (dane uzyskane z ankiet) | C42: jednostka | D42: przeliczenie na ilość domów jednorodzinnych + zużycie paliwa uzyskane z ankiet | F42: prognozowane zużycie według scenariusza pasywnego w 2020 r. | G42: wartość opałowa [MJ/kg] / [MJ/m3] | H42: energia finalna [MWh] | I42: krajowe wskaźniki emisji [MgCO2e/MWh] | J42: emisja [MgCO2e] | K42: energia finalna [%] | L42: emisja CO2e [%]
D43: zużycie paliw | E43: jednostka
A44: energia elektryczna | B44: 40339.73 | C44: MWh | D44: 40234.6 | E44: MWh | F44: 38781.183 | G44: - | H44: =F44 -> 38781.183 | I44: 0.446 | J44: =I44*H44 -> 17296.407 | K44: =H44/$H$52*100 -> 2.7835071 | L44: =J44/$J$52*100 -> 19.97725
A45: gaz ziemny | B45: 14200 | C45: m3 | D45: 857910.17 | E45: m3 | F45: 873961.67 | G45: 35.94 | H45: =F45*G45/3600 -> 8725.0507 | I45: 0.2 | J45: =I45*H45 -> 1745.0101 | K45: =H45/$H$52*100 -> 0.62623775 | L45: =J45/$J$52*100 -> 2.0154766
A46: olej opałowy | B46: 8000 | C46: l | D46: 296893.62 | E46: l | F46: 244839.26 | G46: 40.19 | H46: =F46*G46/3600 -> 2733.3583 | I46: 0.27 | J46: =I46*H46 -> 738.00674 | K46: =H46/$H$52*100 -> 0.19618592 | L46: =J46/$J$52*100 -> 0.85239349
A47: węgiel kamienny | B47: 550.5 | C47: Mg | D47: 19328.992 | E47: Mg | F47: 15940.04 | G47: 22.63 | H47: =(G47*F47)/3.6 -> 100200.86 | I47: 0.318 | J47: =I47*H47 -> 31863.874 | K47: =H47/$H$52*100 -> 7.1918851 | L47: =J47/$J$52*100 -> 36.802589
A48: drewno/biomasa | B48: 361 | C48: Mg | D48: 12675.324 | E48: Mg | F48: 12297.6 | G48: 15.6 | H48: =(G48*F48)/3.6 -> 53289.599 | I48: 0 | J48: =I48*H48 -> 0 | K48: =H48/$H$52*100 -> 3.8248441 | L48: =J48/$J$52*100 -> 0
A49: ekogroszek | B49: 49 | C49: Mg | D49: 1720.4734 | E49: Mg | F49: 1836.1236 | G49: 26.5 | H49: =(G49*F49)/3.6 -> 13515.91 | I49: 0.313 | J49: =I49*H49 -> 4230.4798 | K49: =H49/$H$52*100 -> 0.97010016 | L49: =J49/$J$52*100 -> 4.8861796
A50: ciepło sieciowe (spółdzielnia mieszkaniowa Przodownik - kotłownia ul. Zawadzka) | B50: 98464.387 | C50: GJ | D50: 98464.387 | E50: GJ | F50: 105083.16 | G50: - | H50: =F50*3.6 -> 378299.39 | I50: 0.094 | J50: =I50*F50 -> 9877.8173 | K50: =H50/$H$52*100 -> 27.152319 | L50: =J50/$J$52*100 -> 11.408822
A51: ciepło sieciowe (zakład gospodarki ciepłowniczej - kotłowania ul. Wierzbowa) | B51: 207627.6 | C51: GJ | D51: 207627.6 | E51: GJ | F51: 221584.33 | G51: - | H51: =F51*3.6 -> 797703.58 | I51: 0.094 | J51: =I51*F51 -> 20828.927 | K51: =H51/$H$52*100 -> 57.254921 | L51: =J51/$J$52*100 -> 24.057289
H52: =SUM(H44:H51) -> 1393248.9 | J52: =J51+J50+J49+J48+J47+J46+J45+J44 -> 86580.522 | K52: =K51+K50+K49+K48+K47+K46+K45+K44 -> 100 | L52: =L51+L50+L49+L48+L47+L46+L45+L44 -> 100
A54: emisje CO2e - scenariusz umiarkowany
A55: nośniki energii | B55: zużycie paliw (dane uzyskane z ankiet) | C55: jednostka | D55: przeliczenie na ilość domów jednorodzinnych + zużycie paliwa uzyskane z ankiet | F55: prognozowane zużycie według scenariusza umiarkowanego w 2020 r. | G55: wartość opałowa [MJ/kg] / [MJ/m3] | H55: energia finalna [MWh] | I55: krajowe wskaźniki emisji [MgCO2e/MWh] | J55: emisja [MgCO2e] | K55: energia finalna [%] | L55: emisja CO2e [%]
D56: zużycie paliw | E56: jednostka
A57: energia elektryczna | B57: 40339.73 | C57: MWh | D57: 40234.6 | E57: MWh | F57: 40532.251 | G57: - | H57: =F57 -> 40532.251 | I57: 0.446 | J57: =I57*H57 -> 18077.384 | K57: =H57/$H$65*100 -> 3.0250121 | L57: =J57/$J$65*100 -> 22.452596
A58: gaz ziemny | B58: 14200 | C58: m3 | D58: 857910.17 | E58: m3 | F58: 851690.32 | G58: 35.94 | H58: =F58*G58/3600 -> 8502.7084 | I58: 0.2 | J58: =I58*H58 -> 1700.5417 | K58: =H58/$H$65*100 -> 0.63457606 | L58: =J58/$J$65*100 -> 2.1121184
A59: olej opałowy | B59: 8000 | C59: l | D59: 296893.62 | E59: l | F59: 200959.87 | G59: 40.19 | H59: =F59*G59/3600 -> 2243.4936 | I59: 0.27 | J59: =I59*H59 -> 605.74328 | K59: =H59/$H$65*100 -> 0.16743692 | L59: =J59/$J$65*100 -> 0.75234942
A60: węgiel kamienny | B60: 550.5 | C60: Mg | D60: 19328.992 | E60: Mg | F60: 13083.311 | G60: 22.63 | H60: =(G60*F60)/3.6 -> 82243.15 | I60: 0.318 | J60: =I60*H60 -> 26153.322 | K60: =H60/$H$65*100 -> 6.1379894 | L60: =J60/$J$65*100 -> 32.483128
A61: drewno/biomasa | B61: 361 | C61: Mg | D61: 12675.324 | E61: Mg | F61: 11439.48 | G61: 15.6 | H61: =(G61*F61)/3.6 -> 49571.081 | I61: 0 | J61: =I61*H61 -> 0 | K61: =H61/$H$65*100 -> 3.6996002 | L61: =J61/$J$65*100 -> 0
A62: ekogroszek | B62: 49 | C62: Mg | D62: 1720.4734 | E62: Mg | F62: 1785.6363 | G62: 26.5 | H62: =(G62*F62)/3.6 -> 13144.267 | I62: 0.313 | J62: =I62*H62 -> 4114.1557 | K62: =H62/$H$65*100 -> 0.98098595 | L62: =J62/$J$65*100 -> 5.1098919
A63: ciepło sieciowe (spółdzielnia mieszkaniowa Przodownik - kotłownia ul. Zawadzka) | B63: 98464.387 | C63: GJ | D63: 98464.387 | E63: GJ | F63: 102193.73 | G63: - | H63: =F63*3.6 -> 367897.41 | I63: 0.094 | J63: =I63*F63 -> 9606.2102 | K63: =H63/$H$65*100 -> 27.457003 | L63: =J63/$J$65*100 -> 11.931171
A64: ciepło sieciowe (zakład gospodarki ciepłowniczej - kotłowania ul. Wierzbowa) | B64: 207627.6 | C64: GJ | D64: 207627.6 | E64: GJ | F64: 215491.5 | G64: - | H64: =F64*3.6 -> 775769.38 | I64: 0.094 | J64: =I64*F64 -> 20256.201 | K64: =H64/$H$65*100 -> 57.897396 | L64: =J64/$J$65*100 -> 25.158745
H65: =SUM(H57:H64) -> 1339903.7 | J65: =J64+J63+J62+J61+J60+J59+J58+J57 -> 80513.557 | K65: =K64+K63+K62+K61+K60+K59+K58+K57 -> 100 | L65: =L64+L63+L62+L61+L60+L59+L58+L57 -> 100
A67: emisje CO2e - scenariusz aktywny
A68: nośniki energii | B68: zużycie paliw (dane uzyskane z ankiet) | C68: jednostka | D68: przeliczenie na ilość domów jednorodzinnych + zużycie paliwa uzyskane z ankiet | F68: prognozowane zużycie według scenariusza aktywnego w 2020 r. | G68: wartość opałowa [MJ/kg] / [MJ/m3] | H68: energia finalna [MWh] | I68: krajowe wskaźniki emisji [MgCO2e/MWh] | J68: emisja [MgCO2e] | K68: energia finalna [%] | L68: emisja CO2e [%]
D69: zużycie paliw | E69: jednostka
A70: energia elektryczna | B70: 40339.73 | C70: MWh | D70: 40234.6 | E70: MWh | F70: 41143.444 | G70: - | H70: =F70 -> 41143.444 | I70: 0.446 | J70: =I70*H70 -> 18349.976 | K70: =H70/$H$78*100 -> 3.3107679 | L70: =J70/$J$78*100 -> 25.282452
A71: gaz ziemny | B71: 14200 | C71: m3 | D71: 857910.17 | E71: m3 | F71: 799143.32 | G71: 35.94 | H71: =F71*G71/3600 -> 7978.1142 | I71: 0.2 | J71: =I71*H71 -> 1595.6228 | K71: =H71/$H$78*100 -> 0.64199011 | L71: =J71/$J$78*100 -> 2.1984365
A72: olej opałowy | B72: 8000 | C72: l | D72: 296893.62 | E72: l | F72: 156314.49 | G72: 40.19 | H72: =F72*G72/3600 -> 1745.0776 | I72: 0.27 | J72: =I72*H72 -> 471.17095 | K72: =H72/$H$78*100 -> 0.14042448 | L72: =J72/$J$78*100 -> 0.64917561
A73: węgiel kamienny | B73: 550.5 | C73: Mg | D73: 19328.992 | E73: Mg | F73: 10176.714 | G73: 22.63 | H73: =(G73*F73)/3.6 -> 63971.957 | I73: 0.318 | J73: =I73*H73 -> 20343.082 | K73: =H73/$H$78*100 -> 5.1477533 | L73: =J73/$J$78*100 -> 28.028538
A74: drewno/biomasa | B74: 361 | C74: Mg | D74: 12675.324 | E74: Mg | F74: 10267.013 | G74: 15.6 | H74: =(G74*F74)/3.6 -> 44490.389 | I74: 0 | J74: =I74*H74 -> 0 | K74: =H74/$H$78*100 -> 3.5800929 | L74: =J74/$J$78*100 -> 0
A75: ekogroszek | B75: 49 | C75: Mg | D75: 1720.4734 | E75: Mg | F75: 1672.3001 | G75: 26.5 | H75: =(G75*F75)/3.6 -> 12309.987 | I75: 0.313 | J75: =I75*H75 -> 3853.026 | K75: =H75/$H$78*100 -> 0.99057119 | L75: =J75/$J$78*100 -> 5.3086688
A76: ciepło sieciowe (spółdzielnia mieszkaniowa Przodownik - kotłownia ul. Zawadzka) | B76: 98464.387 | C76: GJ | D76: 98464.387 | E76: GJ | F76: 95707.384 | G76: - | H76: =F76*3.6 -> 344546.58 | I76: 0.094 | J76: =I76*F76 -> 8996.4941 | K76: =H76/$H$78*100 -> 27.725286 | L76: =J76/$J$78*100 -> 12.395298
A77: ciepło sieciowe (zakład gospodarki ciepłowniczej - kotłowania ul. Wierzbowa) | B77: 207627.6 | C77: GJ | D77: 207627.6 | E77: GJ | F77: 201814.03 | G77: - | H77: =F77*3.6 -> 726530.5 | I77: 0.094 | J77: =I77*F77 -> 18970.519 | K77: =H77/$H$78*100 -> 58.463114 | L77: =J77/$J$78*100 -> 26.137431
H78: =SUM(H70:H77) -> 1242716 | J78: =J77+J76+J75+J74+J73+J72+J71+J70 -> 72579.891 | K78: =K77+K76+K75+K74+K73+K72+K71+K70 -> 100 | L78: =L77+L76+L75+L74+L73+L72+L71+L70 -> 100
A80: emisje pyłu - rok bazowy 2014
A81: nośniki energii | B81: zużycie paliw (dane uzyskane z ankiet) | C81: jednostka | D81: przeliczenie na ilość domów jednorodzinnych + zużycie paliwa uzyskane z ankiet | F81: wartość opałowa [MJ/kg] / [MJ/m3] | G81: energia finalna [MWh] | H81: krajowe wskaźniki emisji [kg/MWh] | I81: emisja [kg/MWh] | J81: energia finalna [%] | K81: emisja [%]
D82: zużycie paliw | E82: jednostka
A83: energia elektryczna | B83: 40339.73 | C83: MWh | D83: 40234.6 | E83: MWh | F83: - | G83: =D83 -> 40234.6 | H83: 4.92 | I83: =H83*G83 -> 197954.23 | J83: =G83/$G$91*100 -> 2.9955621 | K83: =I83/$I$91*100 -> 7.4626312
A84: gaz ziemny | B84: 14200 | C84: m3 | D84: 857910.17 | E84: m3 | F84: 35.94 | G84: =D84*F84/3600 -> 8564.8032 | H84: 0.42 | I84: =H84*G84 -> 3597.2173 | J84: =G84/$G$91*100 -> 0.63767006 | K84: =I84/$I$91*100 -> 0.13561067
A85: olej opałowy | B85: 8000 | C85: m3 | D85: 296893.62 | E85: m3 | F85: 40.19 | G85: =D85*F85/3600 -> 3314.4874 | H85: 3.26 | I85: =H85*G85 -> 10805.229 | J85: =G85/$G$91*100 -> 0.2467715 | K85: =I85/$I$91*100 -> 0.40734384
A86: węgiel kamienny | B86: 550.5 | C86: Mg | D86: 19328.992 | E86: Mg | F86: 22.63 | G86: =(F86*D86)/3.6 -> 121504.19 | H86: 3.56 | I86: =H86*G86 -> 432554.92 | J86: =G86/$G$91*100 -> 9.0462774 | K86: =I86/$I$91*100 -> 16.306789
A87: drewno/biomasa | B87: 361 | C87: Mg | D87: 12675.324 | E87: Mg | F87: 15.6 | G87: =(F87*D87)/3.6 -> 54926.406 | H87: 2.83 | I87: =H87*G87 -> 155441.73 | J87: =G87/$G$91*100 -> 4.0894022 | K87: =I87/$I$91*100 -> 5.8599621
A88: ekogroszek | B88: 49 | C88: Mg | D88: 1720.4734 | E88: Mg | F88: 26.5 | G88: =(F88*D88)/3.6 -> 12664.596 | H88: 3.56 | I88: =H88*G88 -> 45085.961 | J88: =G88/$G$91*100 -> 0.94290943 | K88: =I88/$I$91*100 -> 1.6996853
A89: ciepło sieciowe (spółdzielnia mieszkaniowa Przodownik - kotłownia ul. Zawadzka) | B89: 98464.387 | C89: GJ | D89: 98464.387 | E89: GJ | F89: - | G89: =D89*3.6 -> 354471.79 | H89: 1.64 | I89: =H89*G89 -> 581333.74 | J89: =G89/$G$91*100 -> 26.391272 | K89: =I89/$I$91*100 -> 21.915567
A90: ciepło sieciowe (zakład gospodarki ciepłowniczej - kotłowania ul. Wierzbowa) | B90: 207627.6 | C90: GJ | D90: 207627.6 | E90: GJ | F90: - | G90: =D90*3.6 -> 747459.36 | H90: 1.64 | I90: =H90*G90 -> 1225833.4 | J90: =G90/$G$91*100 -> 55.650135 | K90: =I90/$I$91*100 -> 46.212411
G91: 1343140.2 | I91: =I90+I89+I88+I87+I86+I85+I84+I83 -> 2652606.4 | J91: =J90+J89+J88+J87+J86+J85+J84+J83 -> 100 | K91: =K90+K89+K88+K87+K86+K85+K84+K83 -> 100
A93: emisje pyłu - scenariusz aktywny
A94: nośniki energii | B94: zużycie paliw (dane uzyskane z ankiet) | C94: jednostka | D94: przeliczenie na ilość domów jednorodzinnych + zużycie paliwa uzyskane z ankiet | F94: prognozowane zużycie według scenariusza aktywnego w 2020 r. | G94: wartość opałowa [MJ/kg] / [MJ/m3] | H94: energia finalna [MWh] | I94: krajowe wskaźniki emisji [kg/MWh] | J94: emisja [kg/MWh] | K94: energia finalna [%] | L94: emisja [%]
D95: zużycie paliw | E95: jednostka
A96: energia elektryczna | B96: 40339.73 | C96: MWh | D96: 40234.6 | E96: MWh | F96: 41143.444 | G96: - | H96: =F96 -> 41143.444 | I96: 4.92 | J96: =I96*H96 -> 202425.75 | K96: =H96/$H$104*100 -> 3.3107679 | L96: =J96/$J$104*100 -> 8.5574065
A97: gaz ziemny | B97: 14200 | C97: m3 | D97: 857910.17 | E97: m3 | F97: 799143.32 | G97: 35.94 | H97: =F97*G97/3600 -> 7978.1142 | I97: 0.42 | J97: =I97*H97 -> 3350.808 | K97: =H97/$H$104*100 -> 0.64199011 | L97: =J97/$J$104*100 -> 0.14165306
A98: olej opałowy | B98: 8000 | C98: m3 | D98: 296893.62 | E98: m3 | F98: 156314.49 | G98: 40.19 | H98: =F98*G98/3600 -> 1745.0776 | I98: 3.26 | J98: =I98*H98 -> 5688.9529 | K98: =H98/$H$104*100 -> 0.14042448 | L98: =J98/$J$104*100 -> 0.2404965
A99: węgiel kamienny | B99: 550.5 | C99: Mg | D99: 19328.992 | E99: Mg | F99: 10176.714 | G99: 22.63 | H99: =(G99*F99)/3.6 -> 63971.957 | I99: 3.56 | J99: =I99*H99 -> 227740.17 | K99: =H99/$H$104*100 -> 5.1477533 | L99: =J99/$J$104*100 -> 9.6275559
A100: drewno/biomasa | B100: 361 | C100: Mg | D100: 12675.324 | E100: Mg | F100: 10267.013 | G100: 15.6 | H100: =(G100*F100)/3.6 -> 44490.389 | I100: 2.83 | J100: =I100*H100 -> 125907.8 | K100: =H100/$H$104*100 -> 3.5800929 | L100: =J100/$J$104*100 -> 5.322664
A101: ekogroszek | B101: 49 | C101: Mg | D101: 1720.4734 | E101: Mg | F101: 1672.3001 | G101: 26.5 | H101: =(G101*F101)/3.6 -> 12309.987 | I101: 3.56 | J101: =I101*H101 -> 43823.554 | K101: =H101/$H$104*100 -> 0.99057119 | L101: =J101/$J$104*100 -> 1.85261
A102: ciepło sieciowe (spółdzielnia mieszkaniowa Przodownik - kotłownia ul. Zawadzka) | B102: 98464.387 | C102: GJ | D102: 98464.387 | E102: GJ | F102: 95707.384 | G102: - | H102: =F102*3.6 -> 344546.58 | I102: 1.64 | J102: =I102*H102 -> 565056.4 | K102: =H102/$H$104*100 -> 27.725286 | L102: =J102/$J$104*100 -> 23.887363
A103: ciepło sieciowe (zakład gospodarki ciepłowniczej - kotłowania ul. Wierzbowa) | B103: 207627.6 | C103: GJ | D103: 207627.6 | E103: GJ | F103: 201814.03 | G103: - | H103: =F103*3.6 -> 726530.5 | I103: 1.64 | J103: =I103*H103 -> 1191510 | K103: =H103/$H$104*100 -> 58.463114 | L103: =J103/$J$104*100 -> 50.370251
H104: =SUM(H96:H103) -> 1242716 | J104: =J103+J102+J101+J100+J99+J98+J97+J96 -> 2365503.4 | K104: =K103+K102+K101+K100+K99+K98+K97+K96 -> 100 | L104: =L103+L102+L101+L100+L99+L98+L97+L96 -> 100
A106: emisje benzoapirenu - rok bazowy 2014
A107: nośniki energii | B107: zużycie paliw (dane uzyskane z ankiet) | C107: jednostka | D107: przeliczenie na ilość domów jednorodzinnych + zużycie paliwa uzyskane z ankiet | F107: wartość opałowa [MJ/g] / [MJ/m3] | G107: energia finalna [MWh] | H107: krajowe wskaźniki emisji [g/jednostka zużycia paliwa] | I107: emisja [g] | J107: energia finalna [%] | K107: emisja [%]
D108: zużycie paliw | E108: jednostka
A109: energia elektryczna | B109: 40339.73 | C109: MWh | D109: 40234.6 | E109: MWh | F109: - | G109: =D109 -> 40234.6 | H109: 0 | I109: =H109*G109 -> 0 | J109: =G109/$G$117*100 -> 2.9955621 | K109: =I109/$I$117*100 -> 0
...

Sheet Emisje - ob. uż. publ.
A1: obiekty użyteczności publicznej
A2: nazwa obiektu i adres | B2: powierzchnia użytkowa [m2] | C2: źródło ciepła | D2: sposób uzyskiwania ciepłej wody | E2: stan techniczny (1-zły, 5 - b.dobry) | M2: ocieplenie okien [%] | N2: ocieplenie drzwi [%] | O2: ocieplenie ścian [%] | P2: ocieplenie dachu [%] | Q2: plany modernizacji | R2: zużycie energi elektrycznej w 2014 r. [kWh] | S2: zużycie paliw w 2014 r. | W2: uwagi
E3: źródła ciepła | F3: instalacji centralnego ogrzewania | G3: instalacji ciepłej wody użytkowej | H3: instalacji wentylacji | I3: okien | J3: drzwi | K3: ścian | L3: dachu | S3: gaz [m3] | T3: węgiel kamienny [t] | U3: olej opałowy [l] | V3: ciepło sieciowe [GJ]
A4: Boisko ul. Nowowiejska 5/7 | B4: 253.93 | C4: energia elektryczna | D4: energia elektryczna | E4: 5 | F4: 5 | G4: 5 | H4: 5 | I4: 5 | J4: 5 | K4: 5 | L4: 5 | M4: 100 | N4: 100 | O4: 100 | P4: 1000 | Q4: brak planów | R4: 34240 | S4: - | T4: - | U4: - | V4: - | W4: brak
A5: Dom dla osób z zaburzeniami psychicznymi ul. Szkolna 14A | B5: 261 | C5: gaz | D5: gaz | E5: 4 | F5: 4 | G5: 4 | H5: 4 | I5: 5 | J5: 5 | K5: 5 | L5: 2 | M5: 100 | N5: 100 | O5: 100 | P5: 25 | Q5: 2016 - remont kapitalny dachu | R5: 5208 | S5: 4700 | T5: - | U5: - | V5: - | W5: brak
A6: Dom Dziecka "Słoneczko" ul. Głowackiego 11 | B6: 1118.605 | C6: gaz | D6: gaz | E6: 4 | F6: 3 | G6: 3 | H6: 2 | I6: 3 | J6: 4 | K6: 3 | L6: 2 | M6: brak info. | N6: brak info. | O6: 100 | P6: brak info. | Q6: brak planów | R6: 7280 | S6: 16155 | T6: - | U6: - | V6: - | W6: brak
A7: Dom Dziecka "Słoneczko" ul. Nowowiejska 18 | B7: 454.6 | C7: ciepło sieciowe | D7: ciepło sieciowe | E7: 5 | F7: 5 | G7: 5 | H7: 5 | I7: 5 | J7: 5 | K7: 5 | L7: 5 | M7: 100 | N7: 100 | O7: 100 | P7: 100 | Q7: brak planów | R7: 10520 | S7: - | T7: - | U7: - | V7: 143 | W7: brak
A8: Dom Dziennego Pobytu ul. Piłsudzkiego 34 | B8: 319.53 | C8: gaz | D8: gaz | E8: 5 | F8: 5 | G8: 5 | H8: 5 | I8: 2 | J8: 5 | K8: 2 | L8: 4 | M8: 0 | N8: 100 | O8: 0 | P8: 0 | Q8: brak planów | R8: 2650 | S8: 4782 | T8: - | U8: - | V8: - | W8: brak
A9: Dom Pomocy Społecznej nr 1 ul. Polna 56 | B9: 2542.03 | C9: gaz | D9: gaz | E9: 1 | F9: 1 | G9: 1 | H9: 1 | I9: 3 | J9: 3 | K9: 1 | L9: 3 | M9: 54 | N9: 60 | O9: 0 | P9: 40.3 | Q9: brak planów | R9: 86760 | S9: 62094 | T9: - | U9: - | V9: - | W9: brak
A10: Dom Pomocy Społecznej nr 2 ul. Jana Pawła II 37 | B10: 3203 | C10: ciepło sieciowe | D10: ciepło sieciowe | E10: 4 | F10: 1 | G10: 1 | H10: 4 | I10: 4 | J10: 4 | K10: 3 | L10: 4 | M10: brak info. | N10: brak info. | O10: 50 | P10: brak info. | Q10: brak planów | R10: brak info. | S10: - | T10: - | U10: - | V10: 1936 | W10: brak
A11: Dzielnicowy Ośrodek Kultury ul. Gminna 37/39 | B11: 291 | C11: olej opałowy | D11: energia elektryczna | E11: 3 | F11: 3 | G11: brak info. | H11: 3 | I11: 5 | J11: 5 | K11: 5 | L11: 1 | M11: 100 | N11: 100 | O11: 100 | P11: 0 | Q11: brak planów | R11: 8189 | S11: - | T11: - | U11: 4500 | V11: - | W11: brak
A12: Filia Domu Pomocy Społecznej ul. Farbiarska 27/29 | B12: 2595.8 | C12: energia elektryczna, węgiel kamienny, koks | D12: energia elektryczna, węgiel kamienny, koks | E12: 1 | F12: 1 | G12: 1 | H12: 1 | I12: 1 | J12: 3 | K12: 1 | L12: 1 | M12: 0 | N12: 20 | O12: 0 | P12: 0 | Q12: 2018-2020 - podłączenie do sieci ciepłowniczej | R12: 77823 | S12: - | T12: =72.06+38 -> 110.06 | U12: - | V12: - | W12: brak
A13: Gimnazjum nr 3 im. J.Piłsudzkiego 42/46 | B13: 2937.6 | C13: gaz | D13: gaz | E13: 4 | F13: 4 | G13: 4 | H13: 4 | I13: 4 | J13: 4 | K13: 4 | L13: 4 | M13: 100 | N13: 100 | O13: 100 | P13: 0 | Q13: brak planów | R13: 39574 | S13: =8910+337911 -> 346821 | T13: - | U13: - | V13: - | W13: brak
A14: Gimnazjum nr 6 ul. Jałowcowa 8 | B14: 3137 | C14: ciepło sieciowe | D14: ciepło sieciowe | E14: 5 | F14: 1 | G14: 5 | H14: 5 | I14: 5 | J14: 5 | K14: 3 | L14: 5 | M14: 100 | N14: 100 | O14: 0 | P14: 28 | Q14: 2017 - wymiana instalacji C.O | R14: 29150 | S14: 466 | T14: - | U14: - | V14: 1155 | W14: brak
A15: Gimnazjum nr 7 - hala sportowa ul. św. Antoniego 43/45 | B15: 2100 | C15: ciepło sieciowe | D15: ciepło sieciowe | E15: 2 | F15: 2 | G15: 3 | H15: 2 | I15: 2 | J15: 2 | K15: 2 | L15: 3 | M15: 90 | N15: 100 | O15: 0 | P15: 0 | Q15: 2017-2018 - termomodernizacja wraz z wentylacją | R15: 32847 | S15: - | T15: - | U15: - | V15: - | W15: brak
A16: Gimnazjum nr 7 ul. św. Antoniego 43/46 | B16: 2850 | C16: ciepło sieciowe | D16: ciepło sieciowe | E16: 4 | F16: 4 | G16: 5 | H16: 4 | I16: 4 | J16: 4 | K16: 4 | L16: 3 | M16: brak info. | N16: brak info. | O16: 100 | P16: 100 | Q16: 2017 - modernizacja oświetlenia | R16: 69721 | S16: 1993 | W16: brak
A17: I LO im. J. Dąbrowskiego ul. Mościckiego 22/24 | B17: 2886 | C17: ciepło sieciowe | D17: ciepło sieciowe, energia elektryczna | E17: brak | F17: 2 | G17: 2 | H17: 4 | I17: 5 | J17: 5 | K17: 5 | L17: 4 | M17: 100 | N17: 100 | O17: 100 | P17: 100 | Q17: 2017 - przechodzenie na żarówki LED; 2018 - wymiana instalacji elektrycznej; 2019 - instalowanie urządzeń elektrycznych o niskim poborze prądu; 2020 - wymiana instalacji C.O we wszystkich budynkach szkoły | R17: 52180 | S17: 707 | T17: - | U17: - | V17: 1271 | W17: brak
A18: II LO im. Stefana Żeromskiego ul. Jałowcowa 10 | B18: 3189 | C18: ciepło sieciowe | D18: ciepło sieciowe | E18: 4 | F18: 2 | G18: 3 | H18: 4 | I18: 4 | J18: 4 | K18: 4 | L18: 1 | M18: 0 | N18: 100 | O18: 100 | P18: 100 | Q18: brak planów | R18: 32802 | S18: 612 | T18: - | U18: - | V18: 1162 | W18: brak
A19: II LO im. Stefana Żeromskiego ul. Jałowcowa 10 Orlik | B19: 94.91 | C19: energia elektryczna | D19: energia elektryczna | E19: 4 | F19: - | G19: 4 | H19: 3 | I19: 4 | J19: 3 | K19: 4 | L19: 3 | M19: 100 | N19: 100 | O19: 100 | P19: 100 | Q19: brak planów | R19: 6655 | S19: - | T19: - | U19: - | V19: - | W19: brak
A20: Komenda Powiatowa ul. Langego 44 | B20: 4521 | C20: ciepło sieciowe | D20: ciepło sieciowe | E20: 4 | F20: 4 | G20: 4 | H20: 4 | I20: 4 | J20: 4 | K20: 4 | L20: 4 | M20: brak info. | N20: brak info. | O20: brak info. | P20: brak info. | Q20: brak planów | R20: 165942 | S20: - | T20: - | U20: - | V20: 1609 | W20: brak
A21: Komisariat Konny Policji Smardzewice | B21: 771 | C21: propan-butan | D21: propan-butan | E21: 4 | F21: 4 | G21: 4 | H21: 4 | I21: 4 | J21: 4 | K21: 4 | L21: 4 | M21: 100 | N21: 100 | O21: brak info. | P21: 100 | Q21: brak planów | R21: 12648 | S21: 6700 | T21: - | U21: - | V21: - | W21: brak
A22: Komisariat Policji w Czerniewicach | B22: 141.37 | C22: olej opałowy | D22: olej opałowy | E22: 4 | F22: 4 | G22: 4 | H22: 4 | I22: 4 | J22: 4 | K22: 3 | L22: 4 | M22: 100 | N22: brak info. | O22: brak info. | P22: brak info. | Q22: brak planów | R22: 13501 | S22: - | T22: - | U22: 2354 | V22: - | W22: brak
A23: Komisariat Policji w Rokicinach | B23: 207.48 | C23: olej opałowy | D23: olej opałowy | E23: 4 | F23: 4 | G23: 4 | H23: 4 | I23: 4 | J23: 4 | K23: 3 | L23: 4 | M23: 100 | N23: 100 | O23: brak info. | P23: 100 | Q23: brak planów | R23: 14295 | S23: - | T23: - | U23: 5100 | V23: - | W23: brak
A24: KP PSP ul. Warszawska 105 | B24: 1960.39 | C24: gaz | D24: gaz | E24: 4 | F24: 4 | G24: 4 | H24: 4 | I24: 5 | J24: 3 | K24: 5 | L24: 5 | M24: 0 | N24: 0 | O24: 0 | P24: 0 | Q24: brak planów | R24: 77921 | S24: 23761 | T24: - | U24: - | V24: - | W24: brak
A25: Kręgielnia - Tor Lodowy ul. Strzelecka 24/26 | B25: 1519.2 | C25: węgiel kamienny | D25: energia elektryczna | E25: 3 | F25: 2 | G25: 3 | H25: 4 | I25: 2 | J25: 4 | K25: 3 | L25: 2 | M25: 0 | N25: 0 | O25: 0 | P25: 0 | Q25: brak planów | R25: 49208 | S25: - | T25: 48 | U25: - | V25: - | W25: brak
A26: Miejska Bibliotek Publiczna Oddział dla Dzieci i Młodzieży Plac Kościuszki 18 | B26: 907.29 | C26: Gaz | D26: Gaz | E26: 5 | F26: 5 | G26: 5 | H26: 5 | I26: 5 | J26: 5 | K26: 5 | L26: 3 | M26: 100 | N26: 50 | O26: 100 | P26: 0 | Q26: brak planów | R26: 17259 | S26: 8372 | T26: - | U26: - | V26: - | W26: brak
A27: Miejska Biblioteka Publiczna ul. Mościkiego 6 | B27: 1768.6 | C27: ciepło sieciowe | D27: ciepło sieciowe | E27: 5 | F27: 5 | G27: 5 | H27: 4 | I27: 5 | J27: 4 | K27: 5 | L27: 4 | M27: 0 | N27: 0 | O27: 100 | P27: 20 | Q27: brak planów | R27: 34784 | S27: - | T27: - | U27: - | V27: 1209 | W27: brak
A28: Miejski Ośrodek Kultury ul. Browarna 7 | B28: 471 | C28: ciepło sieciowe | D28: energia elektryczna | E28: 4 | F28: 5 | G28: 4 | H28: brak | I28: 5 | J28: 5 | K28: 4 | L28: 4 | M28: 91 | N28: 100 | O28: 100 | P28: 100 | Q28: brak planów | R28: 14261 | S28: - | T28: - | U28: - | V28: 158 | W28: brak
A29: Miejski Ośrodek Pomocy Społecznej ul. Cekanowska 5 | B29: 1230.62 | C29: gaz | D29: gaz | E29: 5 | F29: 5 | G29: 5 | H29: 5 | I29: 5 | J29: 4 | K29: 3 | L29: 5 | M29: 100 | N29: 100 | O29: 100 | P29: 100 | Q29: brak planów | R29: 28578 | S29: 13420 | T29: - | U29: - | V29: - | W29: brak
A30: Młodzieżowy Dom Kultury ul. Mościckiego 3 | B30: 727.96 | C30: ciepło sieciowe | D30: energia elektryczna | E30: 5 | F30: 2 | G30: brak | H30: brak | I30: 5 | J30: 5 | K30: 4 | L30: 1 | M30: 100 | N30: 100 | O30: 100 | P30: 0 | Q30: 2016 - remont i ocieplenie dachu | R30: 15860 | S30: - | T30: - | U30: - | V30: 394 | W30: brak
A31: Młodzieżowy Dom Kultury ul. PCK 10 | B31: 415.11 | C31: węgiel kamienny | D31: brak wody w budynku | E31: 1 | F31: 2 | G31: brak wody | H31: 2 | I31: 5 | J31: 3 | K31: 5 | L31: 5 | M31: 100 | N31: 100 | O31: 100 | P31: 100 | Q31: 2016 - doprowadzenie wody | R31: 4187 | S31: - | T31: - | U31: - | V31: - | W31: brak
A32: Muzeum im Antoniego hr. Ostrowskiego u. POW 11/15 | B32: 1418 | C32: ciepło sieciowe | D32: energia elektryczna | E32: 4 | F32: 5 | G32: 5 | H32: 5 | I32: 5 | J32: 5 | K32: 5 | L32: 5 | M32: 0 | N32: 0 | O32: 0 | P32: 0 | Q32: brak planów | R32: 1300 | S32: - | T32: - | U32: - | V32: - | W32: brak
A33: NZOZ Przychodnia ul. Wilcza 29/31 | B33: 600 | C33: węgiel kamienny | D33: energia elektryczna | E33: 4 | F33: 3 | G33: 2 | H33: wentylacja grawitacyjna | I33: 5 | J33: 5 | K33: 5 | L33: 5 | M33: 100 | N33: 100 | O33: 100 | P33: 100 | Q33: brak planów | R33: 3100 | S33: - | T33: 12 | U33: - | V33: - | W33: brak
A34: OSIR Przystań ul. PCK 2/8 | B34: 435.77 | C34: energia elektryczna | D34: energia elektryczna | E34: 4 | F34: 4 | G34: 4 | H34: 4 | I34: 3 | J34: 4 | K34: 5 | L34: 3 | M34: 0 | N34: 100 | O34: 100 | P34: 0 | Q34: brak planów | R34: 41702 | S34: - | T34: - | U34: - | V34: - | W34: brak
A35: Ośrodek Kultury "Tkacz" ul. Niebrowska 50 | B35: 1092.82 | C35: ciepło sieciowe | D35: ciepło sieciowe | E35: 5 | F35: 5 | G35: 5 | H35: 5 | I35: 5 | J35: 5 | K35: 5 | L35: 5 | M35: 100 | N35: 100 | O35: 100 | P35: 100 | Q35: brak planów | R35: 39496 | S35: - | T35: - | U35: - | V35: 464 | W35: brak
A36: Ośrodek Rehabilitacji Dzieci Niepełnosprawnych ul. Jana Pawła II 64/66 | B36: brak info. | C36: gaz, energia elektryczna | D36: gaz, energia elektryczna | E36: 3 | F36: 3 | G36: 3 | H36: 3 | I36: 5 | J36: 3 | K36: 4 | L36: 5 | M36: 100 | N36: brak info. | O36: brak info. | P36: brak info. | Q36: brak planów | R36: 22434 | S36: 18412 | T36: - | U36: - | V36: - | W36: brak
A37: Oświatowe Przedszkole nr 8 ul. Stolarska 18/20 | B37: brak info. | C37: ciepło sieciowe | D37: ciepło sieciowe | E37: 5 | F37: 5 | G37: 3 | H37: 2 | I37: 5 | J37: 5 | K37: 2 | L37: 4 | M37: 100 | N37: 100 | O37: 100 | P37: 100 | Q37: brak planów | R37: 13513 | S37: 2115 | V37: 289 | W37: brak
A38: Szkoła Podstawowa ul. Stolarska 21/27 | B38: 3122.76 | C38: ciepło sieciowe | D38: ciepło sieciowe, energia elektryczna | E38: 5 | F38: 5 | G38: 2 | H38: 3 | I38: 5 | J38: 5 | K38: 1 | L38: 2 | M38: 100 | N38: 100 | O38: 0 | P38: 0 | Q38: brak planów | R38: 20518 | S38: 2590 | V38: 1048 | W38: 2016 - termomodernizacja budynku szkoły, modernizacja dachu
A39: Ośrodek Wypoczynkowy Przystań ul. PCK 2/8 | B39: 952.33 | C39: olej opałowy, węgiel kamienny | D39: olej opałowy, węgiel kamienny | E39: 4 | F39: 3 | G39: 4 | H39: 4 | I39: 4 | J39: 4 | K39: 4 | L39: 3 | M39: brak info. | N39: brak info. | O39: brak info. | P39: brak info. | Q39: brak planów | R39: 3380 | S39: - | T39: 8 | U39: 10000 | V39: - | W39: brak
A40: Podziemna Trasa Turystyczna i budynek Groty Nagórzyckie | B40: brak info. | C40: energia elektryczna | D40: energia elektryczna | E40: brak info. | F40: brak info. | G40: brak info. | H40: brak info. | I40: brak info. | J40: brak info. | K40: brak info. | L40: brak info. | M40: brak info. | N40: brak info. | O40: brak info. | P40: brak info. | Q40: brak planów | R40: 53213 | S40: - | T40: - | U40: - | V40: - | W40: brak
A41: Poradnia lekarzy ul. Zagajnikowa 3 | B41: 218 | C41: ciepło sieciowe | D41: energia elektryczna | E41: 5 | F41: 2 | G41: brak | H41: 4 | I41: 5 | J41: 5 | K41: 5 | L41: 5 | M41: 100 | N41: 100 | O41: 100 | P41: 100 | Q41: 2016 - modernizacja CO; 2017 - modernizacja CO, rur oraz grzejników; 2018 - wymiana podgrzewacza ciepłej wody; 2019 - wymiena oświetlenia na energooszczędne | R41: 3450 | S41: - | T41: - | U41: - | V41: 222.7 | W41: brak
A42: Powiatowy Inspektorat Weterynarii ul. Orzeszkowej 15/19 | B42: 418 | C42: gaz | D42: energia elektryczna | E42: 3 | F42: 3 | G42: 5 | H42: brak | I42: 5 | J42: 5 | K42: 5 | L42: 5 | M42: 100 | N42: 100 | O42: 100 | P42: 100 | Q42: brak planów | R42: 15004 | S42: 3447 | T42: - | U42: - | V42: - | W42: brak
A43: Przedszkole nr 10 ul. Wawelska 24 | B43: 120 | C43: propan-butan | D43: propan-butan | E43: 4 | F43: 4 | G43: 4 | H43: 4 | I43: 4 | J43: 4 | K43: 4 | L43: 4 | M43: 100 | N43: 100 | O43: 100 | P43: 100 | Q43: brak planów | R43: 4300 | S43: 3235 | T43: - | U43: - | V43: - | W43: brak
A44: PUP ul. Konstytuacji 3 maja 46 | B44: 670 | C44: olej opałowy | D44: energia elektryczna | E44: 3 | F44: 3 | G44: 3 | H44: 3 | I44: 1 | J44: 3 | K44: 2 | L44: 2 | M44: 0 | N44: 0 | O44: 0 | P44: 0 | Q44: brak planów | R44: 70078.35 | S44: - | T44: - | U44: 17800 | V44: - | W44: brak
A45: Sanepid ul. św. Antoniego 24 | B45: 749.68 | C45: węgiel kamienny | D45: energia elektryczna, gaz | E45: 3 | F45: 5 | G45: 3 | H45: 4 | I45: 4 | J45: 4 | K45: 1 | L45: 3 | M45: 50 | N45: 50 | O45: 0 | P45: 0 | Q45: brak planów | R45: 13543 | S45: 536 | T45: 26.5 | U45: - | V45: - | W45: brak
A46: Skansen rzeki Pilicy ul. Frycza Modrzewskiego 9/11 | B46: brak info. | C46: energia elektryczna | D46: energia elektryczna | E46: brak info. | F46: brak info. | G46: brak info. | H46: brak info. | I46: brak info. | J46: brak info. | K46: brak info. | L46: brak info. | M46: brak info. | N46: brak info. | O46: brak info. | P46: brak info. | Q46: brak planów | R46: 32126 | S46: - | T46: - | U46: - | V46: - | W46: brak
A47: Specjalny Ośrodek Szkolno - Wychowawczy ul. Majowa 1/13 | B47: 5942 | C47: ciepło sieciowe | D47: ciepło sieciowe | E47: 4 | F47: 2 | G47: 3 | H47: 4 | I47: 4 | J47: 4 | K47: 3 | L47: 4 | M47: 100 | N47: 70 | O47: 40 | P47: 60 | Q47: termomodernizacja ścian | R47: 79920 | S47: 1481 | T47: - | U47: - | V47: 2883 | W47: brak
A48: Stadion Miejski ul. Nowowiejska 9/27 | B48: 2061.5 | C48: ciepło sieciowe | D48: energia elektryczna | E48: 4 | F48: 4 | G48: 3 | H48: 4 | I48: 3 | J48: 4 | K48: 3 | L48: 3 | M48: 20 | N48: 100 | O48: 0 | P48: 0 | Q48: brak planów | R48: 49850 | S48: - | T48: - | U48: - | V48: 1691 | W48: brak
A49: Starostwo Powiatowe ul. św. Antoniego 41 | B49: 6172 | C49: ciepło sieciowe | D49: ciepło sieciowe | E49: 5 | F49: 5 | G49: 5 | H49: 5 | I49: 5 | J49: 5 | K49: 5 | L49: 5 | M49: 100 | N49: 100 | O49: 100 | P49: 100 | Q49: brak planów | R49: 777659 | S49: - | T49: - | U49: - | V49: 2056 | W49: brak
A50: Urząd Gminy Tomaszów Mazowiecki ul. Nowickiego 4 | B50: 520.9 | C50: ciepło sieciowe | D50: energia elektryczna | E50: 4 | F50: 4 | G50: 3 | H50: 3 | I50: 4 | J50: 4 | K50: 3 | L50: 3 | M50: 0 | N50: 0 | O50: 0 | P50: 0 | Q50: 2017 - modernizacja (brak szczegółów) | R50: 34379 | S50: - | T50: - | U50: - | V50: 315 | W50: brak
A51: Tomaszowskie Centrum Zdrowia ul. JP II 35 | B51: brak info. | C51: ciepło sieciowe | D51: ciepło sieciowe kolektory słoneczne | E51: 5 | F51: 3 | G51: 2 | H51: 4 | I51: 3 | J51: 4 | K51: 4 | L51: 4 | M51: 10 | N51: 50 | O51: 80 | P51: 30 | Q51: brak planów | R51: =947430+405442+39363 -> 1392235 | S51: 744678 | T51: - | U51: - | V51: 10476 | W51: Kolektroy słoneczne, powierzchnia 250,9 m2 ilość 130 szt. Typ: GERES-ASCOG 4
A52: Urząd Miasta ul.POW 10/16 | B52: 3051 | C52: ciepło sieciowe | D52: energia elektryczna | E52: 4 | F52: 2 | G52: brak | H52: brak | I52: 4 | J52: 4 | K52: 4 | L52: 4 | M52: 100 | N52: 100 | O52: 100 | P52: 100 | Q52: 2016 - wymiana c.o. w budynkach A i D /kontynuacja/ | R52: 175218 | S52: - | T52: - | U52: - | V52: 1220 | W52: brak
A53: Urząd Stanu Cywilnego ul. św. Antoniego 42 | B53: 593 | C53: ciepło sieciowe | D53: energia elektryczna | E53: 5 | F53: 5 | G53: brak | H53: brak | I53: 5 | J53: 5 | K53: 4 | L53: 4 | M53: 100 | N53: 100 | O53: 100 | P53: 100 | Q53: brak planów | R53: 22492 | S53: - | T53: - | U53: - | V53: 514 | W53: brak
A54: Zespoł Placówek Wychowania Pozaszkolnego - hala sportowa ul. Farbiarska 20 | B54: 1843 | C54: gaz | D54: gaz | E54: 3 | F54: 3 | G54: 3 | H54: 4 | I54: 4 | J54: 4 | K54: 4 | L54: 5 | M54: brak info. | N54: brak info. | O54: brak info. | P54: 100 | Q54: brak planów | R54: 13670 | S54: 24038 | T54: - | U54: - | V54: - | W54: brak
A55: Siedziba SM Nasza Chata ul. Wiejska 7 | B55: 106.65 | C55: ciepło sieciowe | D55: gaz | E55: brak info. | F55: 4 | G55: brak info. | H55: brak info. | I55: 4 | J55: 5 | K55: 4 | L55: 4 | M55: brak info. | N55: 100 | O55: 100 | P55: 100 | Q55: brak planów | R55: 1734 | S55: - | T55: - | U55: - | V55: - | W55: brak
A56: Zespoł Placówek Wychowania Pozaszkolnego ul. PCK 10 | B56: brak info. | C56: węgiel kamienny | D56: energia elektryczna | E56: 1 | F56: 2 | G56: 2 | H56: 4 | I56: 5 | J56: 5 | K56: 5 | L56: 5 | M56: 100 | N56: 100 | O56: 100 | P56: 100 | Q56: brak planów | R56: 14834 | S56: - | T56: 12 | U56: - | V56: - | W56: brak
A57: Zespół Szkolno - Przedszkolny nr 1 ul. Niemcewicza 50/56 | B57: 3414.72 | C57: gaz | D57: gaz | E57: 5 | F57: 4 | G57: 4 | H57: 4 | I57: 5 | J57: 4 | K57: 4 | L57: 3 | M57: 100 | N57: 100 | O57: 100 | P57: brak info. | Q57: brak planów | R57: 48790 | S57: 309130 | T57: 23.23 | U57: - | V57: - | W57: brak
A58: Zespół Szkolno-Przedszkolny nr 6 | B58: 2756.95 | C58: ciepło sieciowe | D58: ciepło sieciowe | E58: 5 | F58: 5 | G58: 5 | H58: 3 | I58: 5 | J58: 3 | K58: 4 | L58: 4 | M58: brak info. | N58: 60 | O58: brak info. | P58: brak info. | Q58: brak planów | R58: 42796 | S58: - | T58: - | U58: - | V58: 1036
A59: Zespół Szkół nr 8 ul. Gminna 5/9 | B59: 3858 | C59: olej opałowy | D59: olej opałowy | E59: 4 | F59: 4 | G59: 4 | H59: 4 | I59: 4 | J59: 4 | K59: 4 | L59: 4 | M59: 100 | N59: 80 | O59: 100 | P59: 100 | Q59: brak planów | R59: 55605 | S59: - | T59: - | U59: 29201 | V59: - | W59: brak
A60: Zespół Szkół Ponadgimnazjalnych im. Staszica ul. św. Antoniego 57/61 | B60: 5512 | C60: ciepło sieciowe | D60: ciepło sieciowe | E60: 4 | F60: 4 | G60: 4 | H60: 4 | I60: 3 | J60: 3 | K60: 4 | L60: 3 | M60: 25 | N60: 0 | O60: 75 | P60: 0 | Q60: 2017 - termomodernizacja całości budynku A oraz dachu budynku B | R60: 103082 | S60: - | T60: - | U60: - | V60: 2500 | W60: brak
A61: Zespół Szkół Ponadgimnazjalnych im. Tadeusza Kościuszki ul. św. Antoniego 29 | B61: 7827 | C61: ciepło sieciowe | D61: energia elektryczna | E61: 4 | F61: 4 | G61: brak | H61: 2 | I61: 4 | J61: 4 | K61: 4 | L61: 3 | M61: 100 | N61: 100 | O61: 100 | P61: 100 | Q61: 2018 - wymiana oświetlenia na LED, 2019 - modernizacja instalacji wod.-kan., podłączenie wody do sieci ciepłowniczej, likwidacja ogrzewania wody elektrycznie | R61: 149767 | S61: - | T61: - | U61: - | V61: 1401 | W61: brak
A62: Zespół Szkolno-Przedszkolny nr 4 u. Sikorskiego 6a | B62: 1010.17 | C62: ciepło sieciowe | D62: ciepło sieciowe | E62: 4 | F62: 2 | G62: 4 | H62: 3 | I62: 4 | J62: 4 | K62: 2 | L62: 2 | M62: 100 | N62: 100 | O62: 0 | P62: 0 | Q62: brak planów | R62: 12551 | S62: 446 | T62: - | U62: - | V62: 574 | W62: brak
A63: Zespół Szkół nr 4 ul. Ostrowskiego 14 | B63: 5239.5 | C63: ciepło sieciowe | D63: ciepło sieciowe | E63: 5 | F63: 4 | G63: 4 | H63: 4 | I63: 5 | J63: 5 | K63: 4 | L63: 4 | M63: brak info. | N63: brak info. | O63: brak info. | P63: brak info. | Q63: brak planów | R63: 615126 | S63: 39772.81 | T63: - | U63: - | V63: 5319 | W63: brak
A64: Zespól Szkół nr 4 ul. Warszawska 95/97 | B64: 9239 | C64: gaz | D64: gaz | E64: 4 | F64: 4 | G64: 3 | H64: 4 | I64: 5 | J64: 5 | K64: 3 | L64: 4 | M64: brak info. | N64: brak info. | O64: brak info. | P64: brak info. | Q64: brak planów | R64: 17906 | S64: 313261.57 | T64: - | U64: - | V64: - | W64: brak
A65: Zespół Szkół Ponadgimnazjalnych nr 3 im. Jana Pawła II ul. Legionów 47 | B65: 11500 | C65: gaz | D65: energia elektryczna | E65: 3 | F65: 3 | G65: 3 | H65: 3 | I65: 3 | J65: 3 | K65: 3 | L65: 3 | M65: 50 | N65: 100 | O65: 100 | P65: 50 | Q65: brak planów | R65: 27002 | S65: - | T65: - | U65: - | V65: 622 | W65: brak
A66: Zespół Przedszkolny - Przedszkole nr 12 ul. Kombatantów 1/3 | B66: 1008.34 | C66: ciepło sieciowe | D66: ciepło sieciowe | E66: brak info. | F66: 4 | G66: 3 | H66: 2 | I66: 3 | J66: 2 | K66: 2 | L66: 2 | M66: 50 | N66: brak info. | O66: brak info. | P66: brak info. | Q66: brak planów | R66: - | S66: - | T66: - | U66: - | V66: 497 | W66: brak
A67: Zespół Przedszkolny - Przedszkole nr 17 ul. Warszawska 103A | B67: 646 | C67: gaz | D67: gaz | E67: 4 | F67: 4 | G67: 3 | H67: 3 | I67: 5 | J67: 3 | K67: 3 | L67: 4 | M67: 92 | N67: 50 | O67: brak info. | P67: brak info. | Q67: brak planów | R67: 11208 | S67: - | T67: - | U67: - | V67: - | W67: brak
A68: Zespół Przedszkolny - Przedszkole nr 3 ul. Kombatantów 5 | B68: 841 | C68: ciepło sieciowe | D68: gaz, ciepło sieciowe | E68: 4 | F68: 3 | G68: 4 | H68: 4 | I68: 5 | J68: 4 | K68: 4 | L68: 4 | M68: 100 | N68: 100 | O68: brak info. | P68: brak info. | Q68: brak planów | R68: - | S68: - | T68: - | U68: - | V68: 480 | W68: brak
A69: Zespół Szkół Ponadgimnazjalnych nr 6 u. Strefowa 3 | B69: 2645 | C69: gaz | D69: energia elektryczna | E69: 4 | F69: 2 | G69: brak | H69: 3 | I69: 5 | J69: 5 | K69: 5 | L69: 4 | M69: 100 | N69: 100 | O69: 100 | P69: 100 | Q69: 2016 - remont dachu pracowni artystycznej; 2017 - modernizacja instalacji elektrycznej oraz centralnego ogrzewania | R69: 46747 | S69: 256343 | T69: - | U69: - | V69: - | W69: brak
A70: Zespół Szkół Ponadgimnazjalnych nr 8 ul. Nadrzeczna 17/25 | B70: 2721.71 | C70: gaz, węgiel kamienny | D70: energia elektryczna | E70: 4 | F70: 4 | G70: 4 | H70: 4 | I70: 4 | J70: 4 | K70: 4 | L70: 4 | M70: 100 | N70: 90 | O70: 100 | P70: 100 | Q70: brak planów | R70: 53929 | S70: 11809 | T70: 35.2 | U70: - | V70: - | W70: brak
A71: =COUNTA(A4:A70) -> 67 | B71: =SUM(B4:B70) -> 131181.82
A72: suma ankiet
B74: rok bazowy 2014 - emisje CO2e
C77: Źródła ciepła | D77: Ilość | E77: %
C78: gaz | D78: =COUNTIF(C4:C70,"gaz") -> 14 | E78: =D78/($D$78+$D$79+$D$80+$D$81+$D$82)*100 -> 23.333333
C79: węgiel kamienny | D79: =COUNTIF(C4:C70,"węgiel kamienny") -> 5 | E79: =D79/($D$78+$D$79+$D$80+$D$81+$D$82)*100 -> 8.3333333
C80: ciepło sieciowe | D80: =COUNTIF(C4:C70,"ciepło sieciowe") -> 31 | E80: =D80/($D$78+$D$79+$D$80+$D$81+$D$82)*100 -> 51.666667
C81: olej opałowy | D81: =COUNTIF(C4:C70,"olej opałowy") -> 5 | E81: =D81/($D$78+$D$79+$D$80+$D$81+$D$82)*100 -> 8.3333333
C82: enegria elektryczna | D82: =COUNTIF(C4:C70,"energia elektryczna") -> 5 | E82: =D82/($D$78+$D$79+$D$80+$D$81+$D$82)*100 -> 8.3333333
C84: nośniki energii | D84: emisja CO2e[%] | E84: energia finalna [%]
C85: energia elektryczna | D85: =F95/$F$100*100 -> 19.592689 | E85: =E95/$E$100*100 -> 12.099309
C86: gaz | D86: =F96/$F$100*100 -> 38.762827 | E86: =E96/$E$100*100 -> 53.381016
C87: węgiel kamienny | D87: =F97/$F$100*100 -> 4.8030363 | E87: =E97/$E$100*100 -> 4.1599693
C88: olej opałowy | D88: =F98/$F$100*100 -> 1.8160794 | E88: =E98/$E$100*100 -> 1.8525607
C89: ciepło sieciowe | D89: =F99/$F$100*100 -> 35.025368 | E89: =E99/$E$100*100 -> 28.507146
D90: =SUM(D85:D89) -> 100 | E90: =SUM(E85:E89) -> 100
I93: krajowe wskaźniki emisji pyłu [kg/MWh] | L93: krajowe wskaźniki emisji benzoapirenu [g/jednostka zużycia paliwa]
B94: nośniki energii | C94: zużycie paliw | D94: jednostka | E94: energia finalna [MWh] | F94: emisja [MgCO2e]
B95: energia elektryczna | C95: =SUM(R4:R70) -> 5027700.3 | D95: MWh | E95: =C95/1000 -> 5027.7004 | F95: =E95*'Emisje - sektor mieszkalny'!$H$4 -> 2242.3544 | I95: 4.92 | J95: energia elektryczna | L95: 0 | M95: energia elektryczna
B96: gaz | C96: =SUM(S4:S70) -> 2221877.4 | D96: m3 | E96: =C96*'Emisje - sektor mieszkalny'!$F$5/3600 -> 22181.743 | F96: =E96*'Emisje - sektor mieszkalny'!$H$5 -> 4436.3485 | I96: 0.42 | J96: gaz ziemny | L96: 0.0005 | M96: gaz ziemny
B97: węgiel kamienny | C97: =SUM(T4:T70) -> 274.99 | D97: Mg | E97: =C97*'Emisje - sektor mieszkalny'!$F$7/3.6 -> 1728.6177 | F97: =E97*'Emisje - sektor mieszkalny'!$H$7 -> 549.70043 | I97: 3.26 | J97: olej opałowy | L97: 0.3111376 | M97: olej opałowy
B98: olej opałowy | C98: =SUM(U4:U70) -> 68955 | D98: l | E98: =C98*'Emisje - sektor mieszkalny'!$F$6/3600 -> 769.80596 | F98: =E98*'Emisje - sektor mieszkalny'!$H$6 -> 207.84761 | I98: 3.56 | J98: węgiel kamienny | L98: 14 | M98: węgiel kamienny
B99: ciepło sieciowe | C99: =SUM(V4:V70) -> 42644.7 | D99: GJ | E99: =C99/3.6 -> 11845.75 | F99: =C99*0.094 -> 4008.6018 | I99: 2.83 | J99: drewno/biomasa | L99: 0 | M99: drewno/biomasa
E100: =SUM(E95:E99) -> 41553.617 | F100: =SUM(F95:F99) -> 11444.853 | I100: 3.56 | J100: ekogroszek | L100: 14 | M100: ekogroszek
I101: 1.64 | J101: ciepło sieciowe (spółdzielnia mieszkaniowa Przodownik - kotłownia ul. Zawadzka) | L101: 0.0005 | M101: ciepło sieciowe (spółdzielnia mieszkaniowa Przodownik - kotłownia ul. Zawadzka)
I102: 1.64 | J102: ciepło sieciowe (zakład gospodarki ciepłowniczej - kotłowania ul. Wierzbowa) | L102: 0.0005 | M102: ciepło sieciowe (zakład gospodarki ciepłowniczej - kotłowania ul. Wierzbowa)
A104: Scenariusz pasywny - emisje CO2e | I104: Scenariusz umiarkowany - emisje CO2e | P104: Scenariusz aktywny - emisje CO2e
B107: nośniki energii | C107: emisja CO2e[%] | D107: energia finalna [%] | J107: nośniki energii | K107: emisja CO2e[%] | L107: energia finalna [%] | Q107: nośniki energii | R107: emisja CO2e[%] | S107: energia finalna [%]
B108: energia elektryczna | C108: =F118/$F$123*100 -> 18.758353 | D108: =E118/$E$123*100 -> 11.565239 | J108: energia elektryczna | K108: =N118/$N$123*100 -> 18.229944 | L108: =M118/$M$123*100 -> 11.191557 | Q108: energia elektryczna | R108: =U118/$U$123*100 -> 17.73049 | S108: =T118/$T$123*100 -> 10.841267
B109: gaz | C109: =F119/$F$123*100 -> 38.967757 | D109: =E119/$E$123*100 -> 53.575988 | J109: gaz | K109: =N119/$N$123*100 -> 39.673401 | L109: =M119/$M$123*100 -> 54.31371 | Q109: gaz | R109: =U119/$U$123*100 -> 40.340379 | S109: =T119/$T$123*100 -> 55.005251
...

Sheet Emisje - transport
A1: Transport lokalny - rok bazowy 2014 oraz scenariusz pasywny - emisje CO2e | I1: Transport lokalny - scenariusz umiarkowany - emisje CO2e | Q1: Transport lokalny - scenariusz aktywny - emisje CO2e
A2: rok | B2: pojazdy zarejestrowane na terenie gminy [szt.] | C2: średnioroczny przebieg jednostkowy samochodu osobowego [km] | D2: zużycie paliw na 100 km | E2: ilość zużytego paliwa [l] | F2: energia finalna [MWh] | G2: emisja [MgCO2e] | I2: rok | J2: pojazdy zarejestrowane na terenie gminy [szt.] | K2: średnioroczny przebieg jednostkowy samochodu osobowego [km] | L2: zużycie paliw na 100 km | M2: ilość zużytego paliwa [l] | N2: energia finalna [MWh] | O2: emisja [MgCO2e] | Q2: rok | R2: pojazdy zarejestrowane na terenie gminy [szt.] | S2: średnioroczny przebieg jednostkowy samochodu osobowego [km] | T2: zużycie paliw na 100 km | U2: ilość zużytego paliwa [l] | V2: energia finalna [MWh] | W2: emisja [MgCO2e]
A3: 2012 | B3: 26553 | C3: 12956 | D3: 8.1 | E3: =B3*$C$3*(D3/100) -> 27865674 | F3: =E3*$B$33/3600 -> 346772.83 | G3: =$B$32*F3 -> 88080.3 | I3: 2012 | J3: 26553 | K3: 12956 | L3: 8.1 | M3: 27865674 | N3: =M3*$B$33/3600 -> 346772.83 | O3: =$B$32*N3 -> 88080.3 | Q3: 2012 | R3: 26553 | S3: 12956 | T3: 8.1 | U3: 27865674 | V3: =U3*$B$33/3600 -> 346772.83 | W3: =$B$32*V3 -> 88080.3
A4: 2014 | B4: 33001 | C4: 12956 | D4: 7.7 | E4: =B4*$C$3*(D4/100) -> 32922194 | F4: =E4*$B$33/3600 -> 409698.41 | G4: =$B$32*F4 -> 104063.4 | I4: 2014 | J4: 33001 | K4: 12956 | L4: 7.7 | M4: 32922194 | N4: =M4*$B$33/3600 -> 409698.41 | O4: =$B$32*N4 -> 104063.4 | Q4: 2014 | R4: 33001 | S4: 12956 | T4: 7.7 | U4: 32922194 | V4: =U4*$B$33/3600 -> 409698.41 | W4: =$B$32*V4 -> 104063.4
A5: 2020 | B5: 50000 | C5: 12956 | D5: 7.3 | E5: =B5*$C$3*(D5/100) -> 47289400 | F5: =E5*$B$33/3600 -> 588490.31 | G5: =$B$32*F5 -> 149476.54 | I5: 2020 | J5: 45000 | K5: 12956 | L5: 7.3 | M5: 42560460 | N5: =M5*$B$33/3600 -> 529641.28 | O5: =$B$32*N5 -> 134528.89 | Q5: 2020 | R5: 40000 | S5: 12956 | T5: 7.3 | U5: 37831520 | V5: =U5*$B$33/3600 -> 470792.25 | W5: =$B$32*V5 -> 119581.23
A7: Tranzyt
A8: numer punktu pomiarowego | B8: numer drogi | C8: długość [km] | D8: pojazdy silnikowe ogółem | E8: motocykle | F8: samochody osobowe, Mikrobusy | G8: lekkie ciężarowe (dostawcze) | H8: ciężarowe | J8: autobusy | K8: ciągniki rolnicze
H9: bez przyczepy | I9: z przycepą
A10: 91410 | B10: 8 | C10: 8.7 | D10: 27154 | E10: 45 | F10: 15417 | G10: 2787 | H10: 1658 | I10: 7093 | J10: 152 | K10: 2
A11: 91409 | B11: 8 | C11: 5.3 | D11: 25819 | E11: 49 | F11: 14682 | G11: 2478 | H11: 1549 | I11: 6926 | J11: 132 | K11: 3
A12: 91408 | B12: 8 | C12: 14.6 | D12: 30177 | E12: 73 | F12: 18331 | G12: 2754 | H12: 1766 | I12: 7050 | J12: 200 | K12: 3
A14: rok | B14: średnioroczne zużycie paliw dla poszczególnych klas pojazdów [l/100km]
B15: motocykle | C15: samochody osobowe, Mikrobusy | D15: lekkie ciężarowe (dostawcze) | E15: ciężarowe | G15: autobusy | H15: ciągniki rolnicze
E16: bez przyczepy | F16: z przycepą
A17: 2010 | B17: 5 | C17: 10 | D17: 10.5 | E17: 10.5 | F17: 24.8 | G17: 10.5 | H17: 10.5
A18: 2015 | B18: 4.8 | C18: 9.7 | D18: 9.6 | E18: 9.6 | F18: 25 | G18: 9.6 | H18: 9.6
A19: 2020 | B19: 4.6 | C19: 9.2 | D19: 8.8 | E19: 8.8 | F19: 25.1 | G19: 8.8 | H19: 8.8
A21: rok pomiarów | B21: numer punktu pomiarowego | C21: energia finalna [MWh] | D21: emisja [MgCO2e/rok] | E21: suma emisji w danym roku [MgCO2e/rok] | G21: zużycie paliw przez poszczególne rodzaje pojazdów [l/dobę] | P21: suma zużycia paliw [l/rok]
A22: 2010 | B22: 91410 | C22: =$P$24*$B$33/3600 -> 149609.03 | D22: =C22*0.254 -> 38000.693 | E22: =SUM(D22:D24) -> 128911.5 | G22: rok | H22: numer punktu pomiarowego | I22: Motocykle | J22: samochody osobowe, Mikrobusy | K22: lekkie ciężarowe (dostawcze) | L22: ciężarowe | N22: autobusy | O22: ciągniki rolnicze
B23: 91409 | C23: =$P$27*$B$33/3600 -> 87274.859 | D23: =C23*0.254 -> 22167.814 | L23: bez przyczepy | M23: z przycepą
B24: 91408 | C24: =$P$30*$B$33/3600 -> 270641.72 | D24: =C24*0.254 -> 68742.997 | G24: 2010 | H24: 91410 | I24: =$E$10*$C$10*((1*B17)/100) -> 19.575 | J24: =$F$10*$C$10*((1*C17)/100) -> 13412.79 | K24: =$G$10*$C$10*((1*D17)/100) -> 2545.9245 | L24: =$H$10*$C$10*((1*E17)/100) -> 1514.583 | M24: =$I$10*$C$10*((1*F17)/100) -> 15303.857 | N24: =$J$10*$C$10*((1*G17)/100) -> 138.852 | O24: =$K$10*$C$10*((1*H17)/100) -> 1.827 | P24: =SUM(I24:O24)*365 -> 12022154
A25: 2014 | B25: 91410 | C25: =$P$25*$B$33/3600 -> 146702.69 | D25: =C25*0.254 -> 37262.482 | E25: =SUM(D25:D27) -> 126351.74 | G25: 2014 | I25: =$E$10*$C$10*((1*B18)/100) -> 18.792 | J25: =$F$10*$C$10*((1*C18)/100) -> 13010.406 | K25: =$G$10*$C$10*((1*D18)/100) -> 2327.7024 | L25: =$H$10*$C$10*((1*E18)/100) -> 1384.7616 | M25: =$I$10*$C$10*((1*F18)/100) -> 15427.275 | N25: =$J$10*$C$10*((1*G18)/100) -> 126.9504 | O25: =$K$10*$C$10*((1*H18)/100) -> 1.6704 | P25: =SUM(I25:O25)*365 -> 11788609
B26: 91409 | C26: =$P$28*$B$33/3600 -> 85643.861 | D26: =C26*0.254 -> 21753.541 | G26: 2020 | I26: =$E$10*$C$10*((1*B19)/100) -> 18.009 | J26: =$F$10*$C$10*((1*C19)/100) -> 12339.767 | K26: =$G$10*$C$10*((1*D19)/100) -> 2133.7272 | L26: =$H$10*$C$10*((1*E19)/100) -> 1269.3648 | M26: =$I$10*$C$10*((1*F19)/100) -> 15488.984 | N26: =$J$10*$C$10*((1*G19)/100) -> 116.3712 | O26: =$K$10*$C$10*((1*H19)/100) -> 1.5312 | P26: =SUM(I26:O26)*365 -> 11449230
B27: 91408 | C27: =$P$31*$B$33/3600 -> 265101.25 | D27: =C27*0.254 -> 67335.717 | G27: 2010 | H27: 91409 | I27: =$E$11*$C$11*((1*B17)/100) -> 12.985 | J27: =$F$11*$C$11*((1*C17)/100) -> 7781.46 | K27: =$G$11*$C$11*((1*D17)/100) -> 1379.007 | L27: =$H$11*$C$11*((1*E17)/100) -> 862.0185 | M27: =$I$11*$C$11*((1*F17)/100) -> 9103.5344 | N27: =$J$11*$C$11*((1*G17)/100) -> 73.458 | O27: =$K$11*$C$11*((1*H17)/100) -> 1.6695 | P27: =SUM(I27:O27)*365 -> 7013158.3
A28: 2020 | B28: 91410 | C28: =$P$26*$B$33/3600 -> 142479.31 | D28: =C28*0.254 -> 36189.745 | E28: =SUM(D28:D30) -> 122604.25 | G28: 2014 | I28: =$E$11*$C$11*((1*B18)/100) -> 12.4656 | J28: =$F$11*$C$11*((1*C18)/100) -> 7548.0162 | K28: =$G$11*$C$11*((1*D18)/100) -> 1260.8064 | L28: =$H$11*$C$11*((1*E18)/100) -> 788.1312 | M28: =$I$11*$C$11*((1*F18)/100) -> 9176.95 | N28: =$J$11*$C$11*((1*G18)/100) -> 67.1616 | O28: =$K$11*$C$11*((1*H18)/100) -> 1.5264 | P28: =SUM(I28:O28)*365 -> 6882096
B29: 91409 | C29: =$P$29*$B$33/3600 -> 83239.42 | D29: =C29*0.254 -> 21142.813 | G29: 2020 | I29: =$E$11*$C$11*((1*B19)/100) -> 11.9462 | J29: =$F$11*$C$11*((1*C19)/100) -> 7158.9432 | K29: =$G$11*$C$11*((1*D19)/100) -> 1155.7392 | L29: =$H$11*$C$11*((1*E19)/100) -> 722.4536 | M29: =$I$11*$C$11*((1*F19)/100) -> 9213.6578 | N29: =$J$11*$C$11*((1*G19)/100) -> 61.5648 | O29: =$K$11*$C$11*((1*H19)/100) -> 1.3992 | P29: =SUM(I29:O29)*365 -> 6688882
B30: 91408 | C30: =$P$32*$B$33/3600 -> 256975.16 | D30: =C30*0.254 -> 65271.691 | G30: 2010 | H30: 91408 | I30: =$E$12*$C$12*((1*B17)/100) -> 53.29 | J30: =$F$12*$C$12*((1*C17)/100) -> 26763.26 | K30: =$G$12*$C$12*((1*D17)/100) -> 4221.882 | L30: =$H$12*$C$12*((1*E17)/100) -> 2707.278 | M30: =$I$12*$C$12*((1*F17)/100) -> 25526.64 | N30: =$J$12*$C$12*((1*G17)/100) -> 306.6 | O30: =$K$12*$C$12*((1*H17)/100) -> 4.599 | P30: =SUM(I30:O30)*365 -> 21747995
G31: 2014 | I31: =$E$12*$C$12*((1*B18)/100) -> 51.1584 | J31: =$F$12*$C$12*((1*C18)/100) -> 25960.362 | K31: =$G$12*$C$12*((1*D18)/100) -> 3860.0064 | L31: =$H$12*$C$12*((1*E18)/100) -> 2475.2256 | M31: =$I$12*$C$12*((1*F18)/100) -> 25732.5 | N31: =$J$12*$C$12*((1*G18)/100) -> 280.32 | O31: =$K$12*$C$12*((1*H18)/100) -> 4.2048 | P31: =SUM(I31:O31)*365 -> 21302779
A32: wskaźnik emisji CO2 | B32: 0.254 | G32: 2020 | I32: =$E$12*$C$12*((1*B19)/100) -> 49.0268 | J32: =$F$12*$C$12*((1*C19)/100) -> 24622.199 | K32: =$G$12*$C$12*((1*D19)/100) -> 3538.3392 | L32: =$H$12*$C$12*((1*E19)/100) -> 2268.9568 | M32: =$I$12*$C$12*((1*F19)/100) -> 25835.43 | N32: =$J$12*$C$12*((1*G19)/100) -> 256.96 | O32: =$K$12*$C$12*((1*H19)/100) -> 3.8544 | P32: =SUM(I32:O32)*365 -> 20649790
A33: wartość opałowa paliw [MJ/kg] | B33: 44.8
A34: wskaźnik emisji beznoapirenu | B34: 0
A35: wskaźnik emisji pyłu [kg/m3] | B35: 1
A37: Transport lokalny - emisja pyłu
A38: rok | B38: pojazdy zarejestrowane na terenie gminy [szt.] | C38: średnioroczny przebieg jednostkowy samochodu osobowego [km] | D38: zużycie paliw na 100 km | E38: ilość zużytego paliwa [l] | F38: energia finalna [MWh] | G38: emisja pyłu [kg]
A39: 2012 | B39: 26553 | C39: 12956 | D39: 8.1 | E39: =B39*$C$3*(D39/100) -> 27865674 | F39: =E39*$B$33/3600 -> 346772.83 | G39: =E39/1000 -> 27865.674
A40: 2014 | B40: 33001 | C40: 12956 | D40: 7.7 | E40: =B40*$C$3*(D40/100) -> 32922194 | F40: =E40*$B$33/3600 -> 409698.41 | G40: =E40/1000 -> 32922.194
A41: 2020 | B41: 50000 | C41: 12956 | D41: 7.3 | E41: =B41*$C$3*(D41/100) -> 47289400 | F41: =E41*$B$33/3600 -> 588490.31 | G41: =E41/1000 -> 47289.4
A44: rok pomiarów | B44: numer punktu pomiarowego | C44: energia finalna [MWh] | D44: emisja [kg/l] | E44: suma emisji w danym roku [kg/m3]
A45: 2010 | B45: 91410 | C45: =$P$24*$B$33/3600 -> 149609.03 | D45: =$P$24/1000 -> 12022.154 | E45: =SUM(D45:D47) -> 40783.308
B46: 91409 | C46: =$P$27*$B$33/3600 -> 87274.859 | D46: =$P$27/1000 -> 7013.1583
B47: 91408 | C47: =$P$30*$B$33/3600 -> 270641.72 | D47: =$P$30/1000 -> 21747.995
A48: 2014 | B48: 91410 | C48: =$P$25*$B$33/3600 -> 146702.69 | D48: =$P$25/1000 -> 11788.609 | E48: =SUM(D48:D50) -> 39973.483
B49: 91409 | C49: =$P$28*$B$33/3600 -> 85643.861 | D49: =$P$28/1000 -> 6882.096
B50: 91408 | C50: =$P$31*$B$33/3600 -> 265101.25 | D50: =$P$31/1000 -> 21302.779
A51: 2020 | B51: 91410 | C51: =$P$26*$B$33/3600 -> 142479.31 | D51: =$P$26/1000 -> 11449.23 | E51: =SUM(D51:D53) -> 38787.902
B52: 91409 | C52: =$P$29*$B$33/3600 -> 83239.42 | D52: =$P$29/1000 -> 6688.882
B53: 91408 | C53: =$P$32*$B$33/3600 -> 256975.16 | D53: =$P$32/1000 -> 20649.79
A55: Transport lokalny - emisja pyłu - scenariusz aktywny
A56: rok | B56: pojazdy zarejestrowane na terenie gminy [szt.] | C56: średnioroczny przebieg jednostkowy samochodu osobowego [km] | D56: zużycie paliw na 100 km | E56: ilość zużytego paliwa [l] | F56: energia finalna [MWh] | G56: emisja pyłu [kg]
A57: 2012 | B57: 26553 | C57: 12956 | D57: 8.1 | E57: =B57*$C$3*(D57/100) -> 27865674 | F57: =E57*$B$33/3600 -> 346772.83 | G57: =E57/1000 -> 27865.674
A58: 2014 | B58: 33001 | C58: 12956 | D58: 7.7 | E58: =B58*$C$3*(D58/100) -> 32922194 | F58: =E58*$B$33/3600 -> 409698.41 | G58: =E58/1000 -> 32922.194
A59: 2020 | B59: 40000 | C59: 12956 | D59: 7.3 | E59: =B59*$C$3*(D59/100) -> 37831520 | F59: =E59*$B$33/3600 -> 470792.25 | G59: =E59/1000 -> 37831.52
A61: rok pomiarów | B61: numer punktu pomiarowego | C61: energia finalna [MWh] | D61: emisja [kg/l] | E61: suma emisji w danym roku [kg/MWh]
A62: 2010 | B62: 91410 | C62: =$P$24*$B$33/3600 -> 149609.03 | D62: =$P$24/1000 -> 12022.154 | E62: =SUM(D62:D64) -> 40783.308
B63: 91409 | C63: =$P$27*$B$33/3600 -> 87274.859 | D63: =$P$27/1000 -> 7013.1583
B64: 91408 | C64: =$P$30*$B$33/3600 -> 270641.72 | D64: =$P$30/1000 -> 21747.995
A65: 2014 | B65: 91410 | C65: =$P$25*$B$33/3600 -> 146702.69 | D65: =$P$25/1000 -> 11788.609 | E65: =SUM(D65:D67) -> 39973.483
B66: 91409 | C66: =$P$28*$B$33/3600 -> 85643.861 | D66: =$P$28/1000 -> 6882.096
B67: 91408 | C67: =$P$31*$B$33/3600 -> 265101.25 | D67: =$P$31/1000 -> 21302.779
A68: 2020 | B68: 91410 | C68: =$P$26*$B$33/3600 -> 142479.31 | D68: =$P$26/1000 -> 11449.23 | E68: =SUM(D68:D70) -> 38787.902
B69: 91409 | C69: =$P$29*$B$33/3600 -> 83239.42 | D69: =$P$29/1000 -> 6688.882
B70: 91408 | C70: =$P$32*$B$33/3600 -> 256975.16 | D70: =$P$32/1000 -> 20649.79

Sheet Emisje - usługi i prod.
A1: emisje CO2e - rok bazowy 2014
A2: nośniki energii | B2: zużycie paliw | C2: jednostka | D2: wartość opałowa [MJ/kg] / [MJ/m3] | E2: energia finalna [MWh] | F2: Krajowe wskaźniki emisji [MgCO2e/MWh] | G2: emisja [MgCO2e]
A3: energia elektryczna | B3: =149992.81+32706.96 -> 182699.77 | C3: MWh | D3: - | E3: =B3 -> 182699.77 | F3: 0.446 | G3: =E3*F3 -> 81484.097
A4: gaz ziemny | B4: =C12*D12+B21 -> 47584068 | C4: m3 | D4: 35.94 | E4: =B4*D4/3600 -> 475047.62 | F4: 0.2 | G4: =F4*E4 -> 95009.523
A5: olej opałowy | B5: =C13*D13 -> 912444.44 | C5: l | D5: 40.19 | E5: =B5*D5/3600 -> 10186.428 | F5: 0.27 | G5: =F5*E5 -> 2750.3357
A6: węgiel kamienny | B6: =C14*D14 -> 1345.4482 | C6: Mg | D6: 22.63 | E6: =(D6*B6)/3.6 -> 8457.637 | F6: 0.318 | G6: =F6*E6 -> 2689.5286
A7: ciepło sieciowe | B7: =0.05*325346+0.0223*'Emisje - sektor mieszkalny'!B10 -> 18463.056 | C7: GJ | D7: - | E7: =B7*3.6 -> 66467.001 | F7: 0.094 | G7: =B7*0.094 -> 1735.5272
E8: =SUM(E3:E7) -> 742858.45 | G8: =SUM(G3:G7) -> 183669.01
A10: Sposób wyliczenia zużycia paliw
A11: nośniki energii | B11: procent budynków ogrzewanych danym paliwem | C11: liczba budynków | D11: średnie zużycie paliw | E11: jednostka
A12: gaz ziemny | B12: ='Emisje - ob. uż. publ.'!E78 -> 23.333333 | C12: =B12*$B$17/100 -> 958.06667 | D12: ='Emisje - sektor mieszkalny'!F20 -> 1775 | E12: m3 | I12: krajowe wskaźniki emisji pyłu [kg/MWh] | L12: krajowe wskaźniki emisji benzoapirenu [g/jednostka zużycia paliwa]
A13: olej opałowy | B13: ='Emisje - ob. uż. publ.'!E81 -> 8.3333333 | C13: =B13*$B$17/100 -> 342.16667 | D13: ='Emisje - sektor mieszkalny'!F21 -> 2666.6667 | E13: l
A14: węgiel kamienny | B14: ='Emisje - ob. uż. publ.'!E79 -> 8.3333333 | C14: =B14*$B$17/100 -> 342.16667 | D14: ='Emisje - sektor mieszkalny'!F22 -> 3.9321429 | E14: Mg | I14: 4.92 | J14: energia elektryczna | L14: 0 | M14: energia elektryczna
I15: 0.42 | J15: gaz ziemny | L15: 0.0005 | M15: gaz ziemny
I16: 3.26 | J16: olej opałowy | L16: 0.3111376 | M16: olej opałowy
A17: ilość podmiotów gospodarczych | B17: 4106 | I17: 3.56 | J17: węgiel kamienny | L17: 14 | M17: węgiel kamienny
I18: 2.83 | J18: drewno/biomasa | L18: 0 | M18: drewno/biomasa
A19: Ceramika Paradyż | I19: 3.56 | J19: ekogroszek | L19: 14 | M19: ekogroszek
A20: emisja CO2 [Mg/rok] | B20: 91767 | I20: 1.64 | J20: ciepło sieciowe (spółdzielnia mieszkaniowa Przodownik - kotłownia ul. Zawadzka) | L20: 0.0005 | M20: ciepło sieciowe (spółdzielnia mieszkaniowa Przodownik - kotłownia ul. Zawadzka)
A21: zużycie gazu [m3] | B21: =B20*1000/2 -> 45883500 | I21: 1.64 | J21: ciepło sieciowe (zakład gospodarki ciepłowniczej - kotłowania ul. Wierzbowa) | L21: 0.0005 | M21: ciepło sieciowe (zakład gospodarki ciepłowniczej - kotłowania ul. Wierzbowa)
A23: nośniki energii | B23: emisja CO2e [%] | D23: nośniki energii | E23: energia [%]
A24: energia elektryczna | B24: =G3/$G$8*100 -> 44.364641 | D24: energia elektryczna | E24: =E3/$E$8*100 -> 24.594156
A25: gaz ziemny | B25: =G4/$G$8*100 -> 51.728662 | D25: gaz ziemny | E25: =E4/$E$8*100 -> 63.948605
A26: olej opałowy | B26: =G5/$G$8*100 -> 1.4974413 | D26: olej opałowy | E26: =E5/$E$8*100 -> 1.3712476
A27: węgiel kamienny | B27: =G6/$G$8*100 -> 1.4643344 | D27: węgiel kamienny | E27: =E6/$E$8*100 -> 1.138526
A28: ciepło sieciowe (zakład gospodarki ciepłowniczej - kotłowania ul. Wierzbowa) | B28: =G7/$G$8*100 -> 0.9449211 | D28: ciepło sieciowe (zakład gospodarki ciepłowniczej - kotłowania ul. Wierzbowa) | E28: =E7/$E$8*100 -> 8.9474651
B29: =SUM(B24:B28) -> 100 | E29: =SUM(E24:E28) -> 100
A31: emisje CO2e - scenariusz pasywny
A32: nośniki energii | B32: zużycie paliw | C32: prognozowane zużycie według scenariusza pasywnego w 2020 r. | D32: jednostka | E32: wartość opałowa [MJ/kg] / [MJ/m3] | F32: energia finalna [MWh] | G32: Krajowe wskaźniki emisji [MgCO2e/MWh] | H32: emisja [MgCO2e]
A33: energia elektryczna | B33: 182699.77 | C33: 180800.42 | D33: MWh | E33: - | F33: =C33 -> 180800.42 | G33: 0.446 | H33: =F33*G33 -> 80636.989
A34: gaz ziemny | B34: 47584068 | C34: 49443854 | D34: m3 | E34: 35.94 | F34: =C34*E34/3600 -> 493614.47 | G34: 0.2 | H34: =G34*F34 -> 98722.894
A35: olej opałowy | B35: 912444.44 | C35: 767514.87 | D35: l | E35: 40.19 | F35: =C35*E35/3600 -> 8568.4507 | G35: 0.27 | H35: =G35*F35 -> 2313.4817
A36: węgiel kamienny | B36: 1345.4482 | C36: 1131.7418 | D36: Mg | E36: 22.63 | F36: =(E36*C36)/3.6 -> 7114.2547 | G36: 0.318 | H36: =G36*F36 -> 2262.333
A37: ciepło sieciowe | B37: 18463.056 | C37: 20098.225 | D37: GJ | E37: - | F37: =C37*3.6 -> 72353.611 | G37: 0.094 | H37: =C37*0.094 -> 1889.2332
F38: =SUM(F33:F37) -> 762451.21 | H38: =SUM(H33:H37) -> 185824.93
A40: emisje CO2e - scenariusz umiarkowany
A41: nośniki energii | B41: zużycie paliw | C41: prognozowane zużycie według scenariusza umiarkowanego w 2020 r. | D41: jednostka | E41: wartość opałowa [MJ/kg] / [MJ/m3] | F41: energia finalna [MWh] | G41: Krajowe wskaźniki emisji [MgCO2e/MWh] | H41: emisja [MgCO2e]
A42: energia elektryczna | B42: 182699.77 | C42: 169008.71 | D42: MWh | E42: - | F42: =C42 -> 169008.71 | G42: 0.446 | H42: =F42*G42 -> 75377.883
A43: gaz ziemny | B43: 47584068 | C43: 48420061 | D43: m3 | E43: 35.94 | F43: =C43*E43/3600 -> 483393.61 | G43: 0.2 | H43: =G43*F43 -> 96678.722
A44: olej opałowy | B44: 912444.44 | C44: 633051.1 | D44: l | E44: 40.19 | F44: =C44*E44/3600 -> 7067.3122 | G44: 0.27 | H44: =G44*F44 -> 1908.1743
A45: węgiel kamienny | B45: 1345.4482 | C45: 933.46777 | D45: Mg | E45: 22.63 | F45: =(E45*C45)/3.6 -> 5867.8821 | G45: 0.318 | H45: =G45*F45 -> 1865.9865
A46: ciepło sieciowe | B46: 18463.056 | C46: 19641.403 | D46: GJ | E46: - | F46: =C46*3.6 -> 70709.05 | G46: 0.094 | H46: =C46*0.094 -> 1846.2919
F47: =SUM(F42:F46) -> 736046.56 | H47: =SUM(H42:H46) -> 177677.06
A49: emisje CO2e - scenariusz aktywny
A50: nośniki energii | B50: zużycie paliw | C50: prognozowane zużycie według scenariusza aktywnego w 2020 r. | D50: jednostka | E50: wartość opałowa [MJ/kg] / [MJ/m3] | F50: energia finalna [MWh] | G50: Krajowe wskaźniki emisji [MgCO2e/MWh] | H50: emisja [MgCO2e]
A51: energia elektryczna | B51: 182699.77 | C51: 152426.42 | D51: MWh | E51: - | F51: =C51 -> 152426.42 | G51: 0.446 | H51: =F51*G51 -> 67982.182
A52: gaz ziemny | B52: 47584068 | C52: 45654296 | D52: m3 | E52: 35.94 | F52: =C52*E52/3600 -> 455782.06 | G52: 0.2 | H52: =G52*F52 -> 91156.412
A53: olej opałowy | B53: 912444.44 | C53: 494814.06 | D53: l | E53: 40.19 | F53: =C53*E53/3600 -> 5524.0492 | G53: 0.27 | H53: =G53*F53 -> 1491.4933
A54: węgiel kamienny | B54: 1345.4482 | C54: 729.62984 | D54: Mg | E54: 22.63 | F54: =(E54*C54)/3.6 -> 4586.5342 | G54: 0.318 | H54: =G54*F54 -> 1458.5179
A55: ciepło sieciowe | B55: 18463.056 | C55: 18484.473 | D55: GJ | E55: - | F55: =C55*3.6 -> 66544.103 | G55: 0.094 | H55: =C55*0.094 -> 1737.5405
F56: =SUM(F51:F55) -> 684863.16 | H56: =SUM(H51:H55) -> 163826.15
A58: emisje pyłu - rok bazowy 2014
A59: nośniki energii | B59: zużycie paliw | C59: jednostka | D59: wartość opałowa [MJ/kg] / [MJ/m3] | E59: energia finalna [MWh] | F59: Krajowe wskaźniki emisji [kg/MWh] | G59: emisja [kg]
A60: energia elektryczna | B60: 182699.77 | C60: MWh | D60: - | E60: =B60 -> 182699.77 | F60: 4.92 | G60: =E60*F60 -> 898882.87
A61: gaz ziemny | B61: 47584068 | C61: m3 | D61: 35.94 | E61: =B61*D61/3600 -> 475047.62 | F61: 0.42 | G61: =F61*E61 -> 199520
A62: olej opałowy | B62: 912444.44 | C62: l | D62: 40.19 | E62: =B62*D62/3600 -> 10186.428 | F62: 3.26 | G62: =F62*E62 -> 33207.757
A63: węgiel kamienny | B63: 1345.4482 | C63: Mg | D63: 22.63 | E63: =(D63*B63)/3.6 -> 8457.637 | F63: 3.56 | G63: =F63*E63 -> 30109.188
A64: ciepło sieciowe | B64: 18463.056 | C64: GJ | D64: - | E64: =B64*3.6 -> 66467.001 | F64: 1.64 | G64: =E64*F64 -> 109005.88
E65: =SUM(E60:E64) -> 742858.45 | G65: =SUM(G60:G64) -> 1270725.7
A67: emisje pyłu - scenariusz aktywny
A68: nośniki energii | B68: zużycie paliw | C68: prognozowane zużycie według scenariusza aktywnego w 2020 r. | D68: jednostka | E68: wartość opałowa [MJ/kg] / [MJ/m3] | F68: energia finalna [MWh] | G68: Krajowe wskaźniki emisji [kg/MWh] | H68: emisja [kg]
A69: energia elektryczna | B69: 182699.77 | C69: 152426.42 | D69: MWh | E69: - | F69: =C69 -> 152426.42 | G69: 4.92 | H69: =F69*G69 -> 749937.98
A70: gaz ziemny | B70: 47584068 | C70: 45654296 | D70: m3 | E70: 35.94 | F70: =C70*E70/3600 -> 455782.06 | G70: 0.42 | H70: =G70*F70 -> 191428.46
A71: olej opałowy | B71: 912444.44 | C71: 494814.06 | D71: l | E71: 40.19 | F71: =C71*E71/3600 -> 5524.0492 | G71: 3.26 | H71: =G71*F71 -> 18008.4
A72: węgiel kamienny | B72: 1345.4482 | C72: 729.62984 | D72: Mg | E72: 22.63 | F72: =(E72*C72)/3.6 -> 4586.5342 | G72: 3.56 | H72: =G72*F72 -> 16328.062
A73: ciepło sieciowe | B73: 18463.056 | C73: 18484.473 | D73: GJ | E73: - | F73: =C73*3.6 -> 66544.103 | G73: 1.64 | H73: =F73*G73 -> 109132.33
F74: =SUM(F69:F73) -> 684863.16 | H74: =SUM(H69:H73) -> 1084835.2
A76: emisje benzoapirenu - rok bazowy 2014
A77: nośniki energii | B77: zużycie paliw | C77: jednostka | D77: wartość opałowa [MJ/g] / [MJ/m3] | E77: energia finalna [MWh] | F77: Krajowe wskaźniki emisji [g/jednostka zużycia paliwa] | G77: emisja [g]
A78: energia elektryczna | B78: 182699.77 | C78: MWh | D78: - | E78: =B78 -> 182699.77 | F78: 0 | G78: =E78*F78 -> 0
A79: gaz ziemny | B79: 47584068 | C79: m3 | D79: 35.94 | E79: =B79*D79/3600 -> 475047.62 | F79: 0.0005 | G79: =F79*B79 -> 23792.034
A80: olej opałowy | B80: 912.44444 | C80: m3 | D80: 40.19 | E80: =B80*D80/3.6 -> 10186.428 | F80: 0.3114 | G80: =F80*B80 -> 284.1352
A81: węgiel kamienny | B81: 1345.4482 | C81: Mg | D81: 22.63 | E81: =(D81*B81)/3.6 -> 8457.637 | F81: 14 | G81: =F81*B81 -> 18836.275
A82: ciepło sieciowe | B82: 18463.056 | C82: GJ | D82: - | E82: =B82*3.6 -> 66467.001 | F82: 0.0005 | G82: =B82*F82 -> 9.2315279
E83: =SUM(E78:E82) -> 742858.45 | G83: =SUM(G78:G82) -> 42921.676
A85: emisje benzoapirenu - scenariusz aktywny
A86: nośniki energii | B86: zużycie paliw | C86: prognozowane zużycie według scenariusza aktywnego w 2020 r. | D86: jednostka | E86: wartość opałowa [MJ/g] / [MJ/m3] | F86: energia finalna [MWh] | G86: Krajowe wskaźniki emisji [g/jednostka zużycia paliwa] | H86: emisja [g]
A87: energia elektryczna | B87: 182699.77 | C87: 152426.42 | D87: MWh | E87: - | F87: =C87 -> 152426.42 | G87: 0 | H87: =F87*G87 -> 0
A88: gaz ziemny | B88: 47584068 | C88: 45654296 | D88: m3 | E88: 35.94 | F88: =C88*E88/3600 -> 455782.06 | G88: 0.0005 | H88: =G88*C88 -> 22827.148
A89: olej opałowy | B89: 912.44444 | C89: 494.81406 | D89: l | E89: 40.19 | F89: =C89*E89/3.6 -> 5524.0492 | G89: 0.3114 | H89: =G89*C89 -> 154.0851
A90: węgiel kamienny | B90: 1345.4482 | C90: 729.62984 | D90: Mg | E90: 22.63 | F90: =(E90*C90)/3.6 -> 4586.5342 | G90: 14 | H90: =G90*C90 -> 10214.818
A91: ciepło sieciowe | B91: 18463.056 | C91: 18484.473 | D91: GJ | E91: - | F91: =C91*3.6 -> 66544.103 | G91: 0.0005 | H91: =C91*G91 -> 9.2422365
F92: =SUM(F87:F91) -> 684863.16 | H92: =SUM(H87:H91) -> 33205.293

Sheet MZK
A1: Emisja CO2 | F1: Emisja pył
A2: Wyszczególnienie | B2: Zużycie | C2: Energia finalna [MWh] | D2: Emisja [MgCO2e] | F2: Wyszczególnienie | G2: Zużycie | H2: Energia finalna [MWh] | I2: Emisja pył [kg]
A3: Olej napędowy [l] | B3: 469023 | C3: =B3*43.33/3600 -> 5645.2129 | D3: =0.264*C3 -> 1490.3362 | F3: Olej napędowy [l] | G3: 469023 | H3: 5645.2129 | I3: =G3/1000 -> 469.023
A4: Energia elektryczna w budynkach MZK [MWh] | B4: 95.4 | C4: =B4 -> 95.4 | D4: =0.45*C4 -> 42.93 | F4: Energia elektryczna w budynkach MZK [MWh] | G4: 95.4 | H4: =G4 -> 95.4 | I4: =H4*'Emisje - sektor mieszkalny'!H83 -> 469.368
A5: Olej opałowy w budynkach MZK [l] | B5: 64032 | C5: =B5*40.19/3600 -> 714.84613 | D5: =C5*0.27 -> 193.00846 | F5: Olej opałowy w budynkach MZK [l] | G5: 64032 | H5: =G5*'Emisje - sektor mieszkalny'!F6/3600 -> 714.84613 | I5: =H5*'Emisje - sektor mieszkalny'!H85 -> 2330.3984
C6: =SUM(C3:C5) -> 6455.4591 | D6: =SUM(D3:D5) -> 1726.2747 | H6: =H5+H4+H3 -> 6455.4591 | I6: =I5+I4+I3 -> 3268.7894
A8: Obliczenia emisji po modernizacji taboru - zakup 20 autobusów hybrydowych (dla MZK) | F8: Obliczenia emisji po modernizacji taboru - zakup 20 autobusów hybrydowych (dla MZK)
A9: Wariant I - modernizacja floty w 51% | C9: Wariant I - modernizacja floty w 60 % | F9: Wariant I - modernizacja floty w 51% | H9: Wariant I - modernizacja floty w 60 %
A10: Zużycie oleju napędowego [l] | B10: =B3-(B3*0.53*0.325)-(B3-(39/42*B3)) -> 354732.15 | C10: Zużycie oleju napędowego [l] | D10: =B3-(B3*0.6*0.325)-(B3-(38/42*B3)) -> 332894.66 | F10: Zużycie oleju napędowego [l] | G10: =B10 -> 354732.15 | H10: Zużycie oleju napędowego [l] | I10: =D10 -> 332894.66
A11: energia finalna [MWh] | B11: =B10*43.33/3600 -> 4269.5955 | C11: energia finalna [MWh] | D11: =D10*43.33/3600 -> 4006.7571 | F11: energia finalna [MWh] | G11: =G10*43.33/3600 -> 4269.5955 | H11: energia finalna [MWh] | I11: =I10*43.33/3600 -> 4006.7571
A12: Emisja [MgCO2e] | B12: =0.264*B11 -> 1127.1732 | C12: Emisja [MgCO2e] | D12: =0.264*D11 -> 1057.7839 | F12: Emisja pył [kg] | G12: =G10/1000 -> 354.73215 | H12: Emisja pył [kg] | I12: =I10/1000 -> 332.89466
A13: % redukcji emisji spalin | B13: =100-(B12/D3*100) -> 24.367857 | C13: % redukcji emisji spalin | D13: =100-(D12/D3*100) -> 29.02381 | F13: % redukcji emisji | G13: =100-(G12/I3*100) -> 24.367857 | H13: % redukcji emisji | I13: =100-(I12/I3*100) -> 29.02381
A14: Oszczędności paliwa [l] | B14: =B3-B10 -> 114290.85 | C14: Oszczędności paliwa [l] | D14: =B3-D10 -> 136128.34 | F14: Oszczędności paliwa [l] | G14: =G3-G10 -> 114290.85 | H14: Oszczędności paliwa [l] | I14: =G3-I10 -> 136128.34
A15: Redukcja kosztów [zł] | B15: =B14*3.5 -> 400017.99 | C15: Redukcja kosztów [zł] | D15: =D14*3.5 -> 476449.2 | F15: Redukcja kosztów [zł] | G15: =G14*3.5 -> 400017.99 | H15: Redukcja kosztów [zł] | I15: =I14*3.5 -> 476449.2
A17: Emisje - beznoapiren
A18: Wyszczególnienie | B18: Zużycie | C18: Energia finalna [MWh] | D18: Emisja benzoapirenu [g]
A19: Olej napędowy [l] | B19: 469023 | C19: =B19*43.33/3600 -> 5645.2129 | D19: 0
A20: Energia elektryczna w budynkach MZK [MWh] | B20: 95.4 | C20: =B20 -> 95.4 | D20: 0
A21: Olej opałowy w budynkach MZK [l] | B21: =64032/1000 -> 64.032 | C21: =B21*40.19/3.6 -> 714.84613 | D21: =B21*0.3114 -> 19.939565
C22: =SUM(C19:C21) -> 6455.4591 | D22: =SUM(D19:D21) -> 19.939565
A24: Obliczenia emisji CO2 po modernizacji polegającej na zakupie 5 autobusów hybrydowych w ramach realizacji projektu pod nazwą: „Niskoemisyjne autobusy hybrydowe wraz z zapleczem technicznym do ich obsługi elementami nowoczesnego systemu transportu zbiorowego w Tomaszowie Mazowieckim”. | D24: Obliczenia emisji pyłu po modernizacji polegającej na zakupie 5 autobusów hybrydowych w ramach realizacji projektu pod nazwą: „Niskoemisyjne autobusy hybrydowe wraz z zapleczem technicznym do ich obsługi elementami nowoczesnego systemu transportu zbiorowego w Tomaszowie Mazowieckim”.
A25: Zużycie oleju napędowego [l] | B25: =B3-(0.325*B3*0.125)-(B3-(39/42*B3)) -> 416467.3 | D25: Zużycie oleju napędowego [l] | E25: =B25 -> 416467.3
A26: energia finalna [MWh] | B26: =B25*43.33/3600 -> 5012.6467 | D26: energia finalna [MWh] | E26: =B26 -> 5012.6467
A27: Emisja [MgCO2e] | B27: =0.264*B26 -> 1323.3387 | D27: Emisja pył [kg] | E27: =E25/1000 -> 416.4673
A28: % redukcji emisji spalin | B28: =100-(B27/D3*100) -> 11.205357 | D28: % redukcji emisji | E28: =100-(E27/I3*100) -> 11.205357
A29: Oszczędności paliwa [l] | B29: =B3-B25 -> 52555.702 | D29: Oszczędności paliwa [l] | E29: =B29 -> 52555.702
A30: Redukcja kosztów [zł] | B30: =B29*3.5 -> 183944.96 | D30: Redukcja kosztów [zł] | E30: =B30 -> 183944.96

Sheet Oświetlenie
A1: Emisja CO2 - rok bazowy 2014 | F1: krajowe wskaźniki emisji pyłu [kg/MWh] | I1: krajowe wskaźniki emisji benzoapirenu [g/jednostka zużycia paliwa]
A2: oświetlenie dróg i przestrzeni publicznej | B2: energia finalna [MWh] | C2: emisja [MgCO2e]
B3: 3070.72 | C3: 1381.82 | F3: 4.92 | G3: energia elektryczna | I3: 0 | J3: energia elektryczna
F4: 0.42 | G4: gaz ziemny | I4: 0.0005 | J4: gaz ziemny
A5: Scenariusz pasywny | F5: 3.26 | G5: olej opałowy | I5: 0.3111376 | J5: olej opałowy
A6: oświetlenie dróg i przestrzeni publicznej | B6: energia finalna [MWh] | C6: energia finalna po modernizacjach [MWh] | D6: emisja [MgCO2e] | F6: 3.56 | G6: węgiel kamienny | I6: 14 | J6: węgiel kamienny
B7: 3070.72 | C7: 2763.648 | D7: =C7*'Emisje - sektor mieszkalny'!$H$4 -> 1232.587 | F7: 2.83 | G7: drewno/biomasa | I7: 0 | J7: drewno/biomasa
F8: 3.56 | G8: ekogroszek | I8: 14 | J8: ekogroszek
F9: 1.64 | G9: ciepło sieciowe (spółdzielnia mieszkaniowa Przodownik - kotłownia ul. Zawadzka) | I9: 0.0005 | J9: ciepło sieciowe (spółdzielnia mieszkaniowa Przodownik - kotłownia ul. Zawadzka)
A10: Scenariusz umiarkowany | F10: 1.64 | G10: ciepło sieciowe (zakład gospodarki ciepłowniczej - kotłowania ul. Wierzbowa) | I10: 0.0005 | J10: ciepło sieciowe (zakład gospodarki ciepłowniczej - kotłowania ul. Wierzbowa)
A11: oświetlenie dróg i przestrzeni publicznej | B11: energia finalna [MWh] | C11: energia finalna po modernizacjach [MWh] | D11: emisja [MgCO2e]
B12: 3070.72 | C12: 2456.576 | D12: =C12*'Emisje - sektor mieszkalny'!$H$4 -> 1095.6329
A14: Scenariusz aktywny
A15: oświetlenie dróg i przestrzeni publicznej | B15: energia finalna [MWh] | C15: energia finalna po modernizacjach [MWh] | D15: emisja [MgCO2e]
B16: 3070.72 | C16: 2149.504 | D16: =C16*'Emisje - sektor mieszkalny'!$H$4 -> 958.67878
A18: Emisja - pył - rok bazowy 2014
A19: oświetlenie dróg i przestrzeni publicznej | B19: energia finalna [MWh] | C19: emisja [kg/MWh]
B20: 3070.72 | C20: =B20*$F$3 -> 15107.942
A22: Emisja - pył - scenariusz aktywny
A23: oświetlenie dróg i przestrzeni publicznej | B23: energia finalna [MWh] | C23: energia finalna po modernizacjach [MWh] | D23: emisja [kg/MWh]
B24: 3070.72 | C24: 2149.504 | D24: =C24*$F$3 -> 10575.56

Sheet Emisje 
A1: Emisja CO2e - rok bazowy 2014
A2: sektor | B2: suma [MgCO2e] - rok bazowy 2014 | D2: rodzaj nośnika energii | E2: emisja [MgCO2e] | G2: sektor | H2: energia finalna [MWh] | J2: sektor | K2: energia finalna [MWh] - rok bazowy 2014 | M2: Rodzaj nośnika energii | N2: Zużycie | O2: energia finalna [MWh]
A3: transport lokalny oraz tranzyt | B3: ='Emisje - transport'!D25+'Emisje - transport'!D26+'Emisje - transport'!D27+'Emisje - transport'!G4 -> 230415.14 | D3: gaz ziemny | E3: ='Emisje - ob. uż. publ.'!F96+'Emisje - sektor mieszkalny'!I5+'Emisje - usługi i prod.'!G4 -> 101158.83 | G3: transport lokalny oraz tranzyt | H3: ='Emisje - transport'!C25+'Emisje - transport'!C26+'Emisje - transport'!C27+'Emisje - transport'!F4 -> 907146.2 | J3: gaz ziemny | K3: 505794.16 | M3: Gaz ziemny [m3] | N3: 50663856 | O3: 505794.16
A4: oświetlenie dróg i przestrzeni publicznej | B4: =Oświetlenie!C3 -> 1381.82 | D4: węgiel kamienny | E4: ='Emisje - ob. uż. publ.'!F97+'Emisje - sektor mieszkalny'!I7+'Emisje - usługi i prod.'!G6 -> 41877.562 | G4: oświetlenie dróg i przestrzeni publicznej | H4: =Oświetlenie!B3 -> 3070.72 | J4: węgiel kamienny | K4: 131690.45 | M4: Węgiel [Mg] | N4: 19603.98 | O4: 131690.45
A5: sektor transportu publicznego | B5: =SUM(MZK!D3:D5) -> 1726.2747 | D5: eko-groszek | E5: ='Emisje - sektor mieszkalny'!I9 -> 3964.0185 | G5: sektor transportu publicznego | H5: =MZK!C3+MZK!C4+MZK!C5 -> 6455.4591 | J5: eko-groszek | K5: 12664.596 | M5: Eko-groszek [Mg] | N5: 1720.47 | O5: 12664.6
A6: sektor przemysłowy oraz handlowo-usługowy | B6: ='Emisje - usługi i prod.'!G8 -> 183669.01 | D6: paliwa (olej napędowy, benzyna) | E6: =MZK!D3+'Emisje - transport'!G4+'Emisje - transport'!D25+'Emisje - transport'!D26+'Emisje - transport'!D27 -> 231905.47 | G6: sektor przemysłowy oraz handlowo-usługowy | H6: ='Emisje - usługi i prod.'!E3+'Emisje - usługi i prod.'!E4+'Emisje - usługi i prod.'!E5+'Emisje - usługi i prod.'!E6+'Emisje - usługi i prod.'!E7 -> 742858.45 | J6: paliwa (olej napędowy, benzyna) | K6: 912791.42 | M6: Paliwa (olej napędowy, benzyna) [l] | N6: 73364700 | O6: 912791.42
A7: sektor mieszkalny | B7: ='Emisje - sektor mieszkalny'!I12 -> 91927.502 | D7: olej opałowy | E7: ='Emisje - ob. uż. publ.'!F98+'Emisje - sektor mieszkalny'!I6+'Emisje - usługi i prod.'!G5+MZK!D5 -> 4046.1033 | G7: sektor mieszkalny | H7: ='Emisje - sektor mieszkalny'!G4+'Emisje - sektor mieszkalny'!G5+'Emisje - sektor mieszkalny'!G6+'Emisje - sektor mieszkalny'!G7+'Emisje - sektor mieszkalny'!G8+'Emisje - sektor mieszkalny'!G9+'Emisje - sektor mieszkalny'!G10+'Emisje - sektor mieszkalny'!G11 -> 1343140.2 | J7: olej opałowy | K7: 14985.568 | M7: Olej opałowy [l] | N7: 429880.62 | O7: 14985.57
A8: sektor obiektów użyteczności publicznej | B8: ='Emisje - ob. uż. publ.'!F100 -> 11444.853 | D8: drewno/biomasa | E8: 0 | G8: sektor obiektów użyteczności publicznej | H8: ='Emisje - ob. uż. publ.'!E95+'Emisje - ob. uż. publ.'!E96+'Emisje - ob. uż. publ.'!E97+'Emisje - ob. uż. publ.'!E98+'Emisje - ob. uż. publ.'!E99 -> 41553.617 | J8: drewno/biomasa | K8: 54926.406 | M8: Drewno/biomasa [Mg] | N8: 12675.32 | O8: 54926.41
B9: =SUM(B3:B8) -> 520564.6 | D9: energia elektryczna | E9: =B4+'Emisje - ob. uż. publ.'!F95+'Emisje - sektor mieszkalny'!I4+'Emisje - usługi i prod.'!G3+MZK!D4 -> 103095.83 | H9: =SUM(H3:H8) -> 3044224.7 | J9: energia elektryczna | K9: 231128.19 | M9: Energia elektryczna [MWh] | N9: 231128.19 | O9: 231128.19
D10: ciepło sieciowe | E10: ='Emisje - ob. uż. publ.'!F99+'Emisje - sektor mieszkalny'!I11+'Emisje - sektor mieszkalny'!I10+'Emisje - usługi i prod.'!G7 -> 34516.776 | J10: ciepło sieciowe | K10: 1180243.9 | M10: Ciepło sieciowe [GJ] | N10: 348736.69 | O10: 1180243.9
E11: =SUM(E3:E10) -> 520564.6 | K11: 3044224.7 | O11: 3044224.7
A13: Scenariusz pasywny | L13: Emisje - pył - rok bazowy 2014 | R13: Emisje - benzoapiren - rok bazowy 2014
A15: sektor | B15: energia finalna [MWh] - rok bazowy 2014 | C15: energia finalna [MWh] - prognoza rok 2020 | D15: procent emisji w 2020 r. w stosunku do roku bazowego 2014 | F15: sektor | G15: energia finalna [MWh] - rok bazowy 2014 | H15: energia finalna [MWh] - prognoza rok 2020 | I15: procent emisji w 2020 r. w stosunku do roku bazowego 2014 | L15: sektor | M15: suma [kg] - rok bazowy 2014 | O15: rodzaj nośnika energii | P15: emisja [kg] | R15: sektor | S15: suma [g] - rok bazowy 2014 | U15: rodzaj nośnika energii | V15: emisja [g]
A16: transport lokalny oraz tranzyt | B16: =$H$3 -> 907146.2 | C16: ='Emisje - transport'!F5+'Emisje - transport'!C51+'Emisje - transport'!C52+'Emisje - transport'!C53 -> 1071184.2 | D16: =C16/B16*100 -> 118.08286 | F16: gaz ziemny | G16: =$K$3 -> 505794.16 | H16: ='Emisje - sektor mieszkalny'!H45+'Emisje - ob. uż. publ.'!E119+'Emisje - usługi i prod.'!F34 -> 525166.86 | I16: =H16/G16*100 -> 103.83016 | L16: transport lokalny oraz tranzyt | M16: ='Emisje - transport'!D51+'Emisje - transport'!D52+'Emisje - transport'!D53+'Emisje - transport'!G41 -> 86077.302 | O16: gaz ziemny | P16: ='Emisje - sektor mieszkalny'!I84+'Emisje - ob. uż. publ.'!E140+'Emisje - usługi i prod.'!G61 -> 212433.55 | R16: transport lokalny oraz tranzyt | S16: 0 | U16: gaz ziemny | V16: ='Emisje - sektor mieszkalny'!I110+'Emisje - ob. uż. publ.'!E163+'Emisje - usługi i prod.'!G79 -> 25331.928
A17: oświetlenie dróg i przestrzeni publicznej | B17: =$H$4 -> 3070.72 | C17: =Oświetlenie!C7 -> 2763.648 | D17: =C17/B17*100 -> 90 | F17: węgiel kamienny | G17: =$K$4 -> 131690.45 | H17: ='Emisje - sektor mieszkalny'!H47+'Emisje - ob. uż. publ.'!E120+'Emisje - usługi i prod.'!F36 -> 108755.2 | I17: =H17/G17*100 -> 82.583972 | L17: oświetlenie dróg i przestrzeni publicznej | M17: =Oświetlenie!C20 -> 15107.942 | O17: węgiel kamienny | P17: ='Emisje - sektor mieszkalny'!I86+'Emisje - ob. uż. publ.'!E141+'Emisje - usługi i prod.'!G63 -> 468817.99 | R17: oświetlenie dróg i przestrzeni publicznej | S17: 0 | U17: węgiel kamienny | V17: ='Emisje - sektor mieszkalny'!I112+'Emisje - ob. uż. publ.'!E164+'Emisje - usługi i prod.'!G81 -> 293292.02
A18: sektor transportu publicznego | B18: =$H$5 -> 6455.4591 | C18: =MZK!C3+MZK!C4+MZK!C5 -> 6455.4591 | D18: =C18/B18*100 -> 100 | F18: eko-groszek | G18: =$K$5 -> 12664.596 | H18: ='Emisje - sektor mieszkalny'!H49 -> 13515.91 | I18: =H18/G18*100 -> 106.722 | L18: sektor transportu publicznego | M18: =MZK!I3+MZK!I4+MZK!I5 -> 3268.7894 | O18: eko-groszek | P18: ='Emisje - sektor mieszkalny'!I88 -> 45085.961 | R18: sektor transportu publicznego | S18: =MZK!D21 -> 19.939565 | U18: eko-groszek | V18: ='Emisje - sektor mieszkalny'!I114 -> 24086.628
A19: sektor przemysłowy oraz handlowo-usługowy | B19: =$H$6 -> 742858.45 | C19: ='Emisje - usługi i prod.'!F33+'Emisje - usługi i prod.'!F34+'Emisje - usługi i prod.'!F35+'Emisje - usługi i prod.'!F36+'Emisje - usługi i prod.'!F37 -> 762451.21 | D19: =C19/B19*100 -> 102.63748 | F19: paliwa (olej napędowy, benzyna) | G19: =$K$6 -> 912791.42 | H19: =C16+MZK!C3 -> 1076829.4 | I19: =H19/G19*100 -> 117.97103 | L19: sektor przemysłowy oraz handlowo-usługowy | M19: ='Emisje - usługi i prod.'!G65 -> 1270725.7 | O19: paliwa (olej napędowy, benzyna) | P19: =M16+MZK!I3 -> 86546.325 | R19: sektor przemysłowy oraz handlowo-usługowy | S19: ='Emisje - usługi i prod.'!G83 -> 42921.676 | U19: paliwa (olej napędowy, benzyna) | V19: 0
A20: sektor mieszkalny | B20: =$H$7 -> 1343140.2 | C20: ='Emisje - sektor mieszkalny'!H52 -> 1393248.9 | D20: =C20/B20*100 -> 103.73071 | F20: olej opałowy | G20: =$K$7 -> 14985.568 | H20: ='Emisje - sektor mieszkalny'!H46+'Emisje - ob. uż. publ.'!E121+'Emisje - usługi i prod.'!F35+MZK!C5 -> 12657.969 | I20: =H20/G20*100 -> 84.46773 | L20: sektor mieszkalny | M20: ='Emisje - sektor mieszkalny'!I91 -> 2652606.4 | O20: olej opałowy | P20: ='Emisje - sektor mieszkalny'!I85+'Emisje - ob. uż. publ.'!E142+'Emisje - usługi i prod.'!G62+MZK!I5 -> 48852.951 | R20: sektor mieszkalny | S20: ='Emisje - sektor mieszkalny'!I117 -> 295366.89 | U20: olej opałowy | V20: ='Emisje - sektor mieszkalny'!I111+'Emisje - ob. uż. publ.'!E165+'Emisje - usługi i prod.'!G80+MZK!D21 -> 417.90403
A21: sektor obiektów użyteczności publicznej | B21: =$H$8 -> 41553.617 | C21: ='Emisje - ob. uż. publ.'!E123 -> 42607.412 | D21: =C21/B21*100 -> 102.53599 | F21: drewno/biomasa | G21: =$K$8 -> 54926.406 | H21: ='Emisje - sektor mieszkalny'!H48 -> 53289.599 | I21: =H21/G21*100 -> 97.02 | L21: sektor obiektów użyteczności publicznej | M21: ='Emisje - ob. uż. publ.'!E144 -> 62143.094 | O21: drewno/biomasa | P21: ='Emisje - sektor mieszkalny'!I87 -> 155441.73 | R21: sektor obiektów użyteczności publicznej | S21: ='Emisje - ob. uż. publ.'!E167 -> 5003.5755 | U21: drewno/biomasa | V21: 0
B22: =B21+B20+B19+B18+B17+B16 -> 3044224.7 | C22: 3278710.9 | F22: energia elektryczna | G22: =$K$9 -> 231128.19 | H22: ='Emisje - sektor mieszkalny'!H44+'Emisje - ob. uż. publ.'!E118+'Emisje - usługi i prod.'!F33+MZK!C4+Oświetlenie!C7 -> 227368.3 | I22: =H22/G22*100 -> 98.373246 | M22: =M21+M20+M19+M18+M17+M16 -> 4089929.2 | O22: energia elektryczna | P22: ='Emisje - sektor mieszkalny'!I83+'Emisje - ob. uż. publ.'!E139+'Emisje - usługi i prod.'!G60+Oświetlenie!C20+MZK!I4 -> 1137150.7 | S22: =S21+S20+S19+S18+S17+S16 -> 343312.08 | U22: energia elektryczna | V22: 0
F23: ciepło sieciowe | G23: =$K$10 -> 1180243.9 | H23: ='Emisje - sektor mieszkalny'!H50+'Emisje - sektor mieszkalny'!H51+'Emisje - ob. uż. publ.'!E122+'Emisje - usługi i prod.'!F37 -> 1261127.6 | I23: =H23/G23*100 -> 106.85313 | O23: ciepło sieciowe | P23: ='Emisje - sektor mieszkalny'!I89+'Emisje - sektor mieszkalny'!I90+'Emisje - ob. uż. publ.'!E143+'Emisje - usługi i prod.'!G64 -> 1935600 | U23: ciepło sieciowe | V23: ='Emisje - sektor mieszkalny'!I115+'Emisje - sektor mieszkalny'!I116+'Emisje - ob. uż. publ.'!E166+'Emisje - usługi i prod.'!G82 -> 183.59987
A24: rodzaj nośnika energii | B24: zużycie | G24: =G23+G22+G21+G20+G19+G18+G17+G16 -> 3044224.7 | H24: =H23+H22+H21+H20+H19+H18+H17+H16 -> 3278710.9 | P24: =P23+P22+P21+P20+P19+P18+P17+P16 -> 4089929.2 | V24: =V23+V22+V21+V20+V19+V18+V17+V16 -> 343312.08
A25: gaz ziemny [m3] | B25: ='Emisje - sektor mieszkalny'!F45+'Emisje - ob. uż. publ.'!C119+'Emisje - usługi i prod.'!C34 -> 52604360
A26: paliwa (olej napędowy, benzyna) [l] | B26: =MZK!B3+'Emisje - transport'!E5+'Emisje - transport'!P26+'Emisje - transport'!P29+'Emisje - transport'!P32 -> 86546325 | L26: Emisje - pył - scenariusz aktywny | R26: Emisje - benzoapiren- scenariusz aktywny
A27: olej opałowy [l] | B27: ='Emisje - sektor mieszkalny'!F46+'Emisje - ob. uż. publ.'!C121+'Emisje - usługi i prod.'!C35+MZK!B5 -> 1133831.5
A28: drewno/biomasa [Mg] | B28: ='Emisje - sektor mieszkalny'!F48 -> 12297.6
A29: energia elektryczna [MWh] | B29: =H22 -> 227368.3 | L29: sektor | M29: suma [kg] - rok bazowy 2014 | N29: suma [kg] | O29: procent emisji w 2020 r. w stosunku do roku bazowego 2014 | R29: sektor | S29: suma [g] - rok bazowy 2014 | T29: suma [g] | U29: procent emisji w 2020 r. w stosunku do roku bazowego 2014
A30: ciepło sieciowe [GJ] | B30: =H23/3.6 -> 350313.22 | L30: transport lokalny oraz tranzyt | M30: =M16 -> 86077.302 | N30: ='Emisje - transport'!D70+'Emisje - transport'!D69+'Emisje - transport'!D68+'Emisje - transport'!G59 -> 76619.422 | O30: =N30/M30*100 -> 89.012341 | R30: transport lokalny oraz tranzyt | S30: 0 | T30: 0 | U30: -
L31: oświetlenie dróg i przestrzeni publicznej | M31: =M17 -> 15107.942 | N31: =Oświetlenie!D24 -> 10575.56 | O31: =N31/M31*100 -> 70 | R31: oświetlenie dróg i przestrzeni publicznej | S31: 0 | T31: 0 | U31: -
A32: sektor | B32: suma [MgCO2e] - rok bazowy 2014 | C32: suma [MgCO2e] | D32: procent emisji w 2020 r. w stosunku do roku bazowego 2014 | F32: rodzaj nośnika energii | G32: emisja [MgCO2e] - rok bazowy 2014 | H32: emisja [MgCO2e] | I32: procent emisji w 2020 r. w stosunku do roku bazowego 2014 | L32: sektor transportu publicznego | M32: =M18 -> 3268.7894 | N32: =MZK!I12+MZK!I5+MZK!I4 -> 3132.6611 | O32: =N32/M32*100 -> 95.835512 | R32: sektor transportu publicznego | S32: =S18 -> 19.939565 | T32: 19.939565 | U32: =T32/S32*100 -> 100
A33: transport lokalny oraz tranzyt | B33: =$B$3 -> 230415.14 | C33: ='Emisje - transport'!D28+'Emisje - transport'!D29+'Emisje - transport'!D30+'Emisje - transport'!G5 -> 272080.79 | D33: =C33/B33*100 -> 118.08286 | F33: gaz ziemny | G33: =$E$3 -> 101158.83 | H33: ='Emisje - sektor mieszkalny'!J45+'Emisje - ob. uż. publ.'!F119+'Emisje - usługi i prod.'!H34 -> 105033.37 | I33: =H33/G33*100 -> 103.83016 | L33: sektor przemysłowy oraz handlowo-usługowy | M33: =M19 -> 1270725.7 | N33: ='Emisje - usługi i prod.'!G65 -> 1270725.7 | O33: =N33/M33*100 -> 100 | R33: sektor przemysłowy oraz handlowo-usługowy | S33: =S19 -> 42921.676 | T33: ='Emisje - usługi i prod.'!H92 -> 33205.293 | U33: =T33/S33*100 -> 77.362527
A34: oświetlenie dróg i przestrzeni publicznej | B34: =$B$4 -> 1381.82 | C34: =Oświetlenie!D7 -> 1232.587 | D34: =C34/B34*100 -> 89.200258 | F34: węgiel kamienny | G34: =$E$4 -> 41877.562 | H34: ='Emisje - sektor mieszkalny'!J47+'Emisje - ob. uż. publ.'!F120+'Emisje - usługi i prod.'!H36 -> 34584.154 | I34: =H34/G34*100 -> 82.583972 | L34: sektor mieszkalny | M34: =M20 -> 2652606.4 | N34: ='Emisje - sektor mieszkalny'!J104 -> 2365503.4 | O34: =N34/M34*100 -> 89.176572 | R34: sektor mieszkalny | S34: =S20 -> 295366.89 | T34: ='Emisje - sektor mieszkalny'!J130 -> 167822.06 | U34: =T34/S34*100 -> 56.818168
A35: sektor transportu publicznego | B35: =$B$5 -> 1726.2747 | C35: =MZK!D3+MZK!D4+MZK!D5 -> 1726.2747 | D35: =C35/B35*100 -> 100 | F35: eko-groszek | G35: =$E$5 -> 3964.0185 | H35: ='Emisje - sektor mieszkalny'!J49 -> 4230.4798 | I35: =H35/G35*100 -> 106.722 | L35: sektor obiektów użyteczności publicznej | M35: =M21 -> 62143.094 | N35: ='Emisje - ob. uż. publ.'!N144 -> 55056.651 | O35: =N35/M35*100 -> 88.596572 | R35: sektor obiektów użyteczności publicznej | S35: =S21 -> 5003.5755 | T35: ='Emisje - ob. uż. publ.'!N167 -> 3265.6902 | U35: =T35/S35*100 -> 65.267132
A36: sektor przemysłowy oraz handlowo-usługowy | B36: =$B$6 -> 183669.01 | C36: ='Emisje - usługi i prod.'!H38 -> 185824.93 | D36: =C36/B36*100 -> 101.17381 | F36: paliwa (olej napędowy, benzyna) | G36: =$E$6 -> 231905.47 | H36: 273571.12 | I36: =H36/G36*100 -> 117.96665 | M36: =M35+M34+M33+M32+M31+M30 -> 4089929.2 | N36: =N35+N34+N33+N32+N31+N30 -> 3781613.4 | S36: =S35+S34+S33+S32 -> 343312.08 | T36: =T35+T34+T33+T32+T31+T30 -> 204312.98
A37: sektor mieszkalny | B37: =$B$7 -> 91927.502 | C37: ='Emisje - sektor mieszkalny'!J52 -> 86580.522 | D37: =C37/B37*100 -> 94.183482 | F37: olej opałowy | G37: =$E$7 -> 4046.1033 | H37: ='Emisje - sektor mieszkalny'!J46+'Emisje - ob. uż. publ.'!F121+'Emisje - usługi i prod.'!H35+MZK!D5 -> 3417.6516 | I37: =H37/G37*100 -> 84.46773
A38: sektor obiektów użyteczności publicznej | B38: =$B$8 -> 11444.853 | C38: ='Emisje - ob. uż. publ.'!F123 -> 11716.016 | D38: =C38/B38*100 -> 102.3693 | F38: drewno/biomasa | G38: =$E$8 -> 0 | H38: 0 | I38: - | L38: rodzaj nośnika energii | M38: emisja [kg] - rok bazowy 2014 | N38: emisja [kg] | O38: procent emisji w 2020 r. w stosunku do roku bazowego 2014 | R38: rodzaj nośnika energii | S38: emisja [g] - rok bazowy 2014 | T38: emisja [g] | U38: procent emisji w 2020 r. w stosunku do roku bazowego 2014
B39: =B38+B37+B36+B35+B34+B33 -> 520564.6 | C39: 558694.3 | F39: energia elektryczna | G39: =$E$9 -> 103095.83 | H39: ='Emisje - sektor mieszkalny'!J44+'Emisje - ob. uż. publ.'!F118+'Emisje - usługi i prod.'!H33+MZK!D4+Oświetlenie!D7 -> 101406.64 | I39: =H39/G39*100 -> 98.361535 | L39: gaz ziemny | M39: =P16 -> 212433.55 | N39: ='Emisje - sektor mieszkalny'!J97+'Emisje - ob. uż. publ.'!N140+'Emisje - usługi i prod.'!G61 -> 212031.09 | O39: =N39/M39*100 -> 99.810549 | R39: gaz ziemny | S39: =V16 -> 25331.928 | T39: ='Emisje - sektor mieszkalny'!J123+'Emisje - ob. uż. publ.'!N163+'Emisje - usługi i prod.'!H88 -> 24319.05 | U39: =T39/S39*100 -> 96.001577
F40: ciepło sieciowe | G40: =$E$10 -> 34516.776 | H40: ='Emisje - sektor mieszkalny'!J50+'Emisje - sektor mieszkalny'!J51+'Emisje - ob. uż. publ.'!F122+'Emisje - usługi i prod.'!H37 -> 36917.691 | I40: =H40/G40*100 -> 106.95579 | L40: węgiel kamienny | M40: =P17 -> 468817.99 | N40: ='Emisje - sektor mieszkalny'!J99+'Emisje - ob. uż. publ.'!N141+'Emisje - usługi i prod.'!G63 -> 261269.37 | O40: =N40/M40*100 -> 55.729383 | R40: węgiel kamienny | S40: =V17 -> 293292.02 | T40: ='Emisje - sektor mieszkalny'!J125+'Emisje - ob. uż. publ.'!N164+'Emisje - usługi i prod.'!H90 -> 154828.38 | U40: =T40/S40*100 -> 52.789836
G41: =G40+G39+G38+G37+G36+G35+G34+G33 -> 520564.6 | H41: 558694.3 | L41: eko-groszek | M41: =P18 -> 45085.961 | N41: ='Emisje - sektor mieszkalny'!J101 -> 43823.554 | O41: =N41/M41*100 -> 97.2 | R41: eko-groszek | S41: =V18 -> 24086.628 | T41: ='Emisje - sektor mieszkalny'!J127 -> 23412.202 | U41: =T41/S41*100 -> 97.2
L42: paliwa (olej napędowy, benzyna) | M42: =P19 -> 86546.325 | N42: ='Emisje - transport'!D68+'Emisje - transport'!D69+'Emisje - transport'!D70+'Emisje - transport'!G59+MZK!I12 -> 76952.317 | O42: =N42/M42*100 -> 88.914598 | R42: paliwa (olej napędowy, benzyna) | S42: 0 | T42: 0 | U42: -
A43: Scenariusz umiarkowany | L43: olej opałowy | M43: =P20 -> 48852.951 | N43: =MZK!I5+'Emisje - usługi i prod.'!G62+'Emisje - ob. uż. publ.'!N142+'Emisje - sektor mieszkalny'!J98 -> 42621.8 | O43: =N43/M43*100 -> 87.245088 | R43: olej opałowy | S43: =V20 -> 417.90403 | T43: ='Emisje - sektor mieszkalny'!J124+'Emisje - ob. uż. publ.'!N165+'Emisje - usługi i prod.'!H89+MZK!D21 -> 234.62433 | U43: =T43/S43*100 -> 56.143113
L44: drewno/biomasa | M44: =P21 -> 155441.73 | N44: ='Emisje - sektor mieszkalny'!J100 -> 125907.8 | O44: =N44/M44*100 -> 81 | R44: drewno/biomasa | S44: 0 | T44: 0 | U44: -
A45: sektor | B45: energia finalna [MWh] - rok bazowy 2014 | C45: energia finalna [MWh] - prognoza rok 2020 | D45: procent emisji w 2020 r. w stosunku do roku bazowego 2014 | F45: sektor | G45: energia finalna [MWh] - rok bazowy 2014 | H45: energia finalna [MWh] - prognoza rok 2020 | I45: procent emisji w 2020 r. w stosunku do roku bazowego 2014 | L45: energia elektryczna | M45: =P22 -> 1137150.7 | N45: ='Emisje - sektor mieszkalny'!J96+'Emisje - ob. uż. publ.'!N139+'Emisje - usługi i prod.'!G60+MZK!I4+Oświetlenie!D24 -> 1133503.1 | O45: =N45/M45*100 -> 99.679231 | R45: energia elektryczna | S45: 0 | T45: 0 | U45: -
A46: transport lokalny oraz tranzyt | B46: =$H$3 -> 907146.2 | C46: ='Emisje - transport'!C28+'Emisje - transport'!C29+'Emisje - transport'!C30+'Emisje - transport'!N5 -> 1012335.2 | D46: =C46/B46*100 -> 111.59559 | F46: gaz ziemny | G46: =$K$3 -> 505794.16 | H46: ='Emisje - sektor mieszkalny'!H58+'Emisje - ob. uż. publ.'!M119+'Emisje - usługi i prod.'!F43 -> 514612.64 | I46: =H46/G46*100 -> 101.74349 | L46: ciepło sieciowe | M46: =P23 -> 1935600 | N46: ='Emisje - sektor mieszkalny'!J102+'Emisje - sektor mieszkalny'!J103+'Emisje - ob. uż. publ.'!N143+'Emisje - usługi i prod.'!G64 -> 1885504.4 | O46: =N46/M46*100 -> 97.411884 | R46: ciepło sieciowe | S46: =V23 -> 183.59987 | T46: ='Emisje - sektor mieszkalny'!J128+'Emisje - sektor mieszkalny'!J129+'Emisje - ob. uż. publ.'!N166+'Emisje - usługi i prod.'!H91 -> 1518.726 | U46: =T46/S46*100 -> 827.1934
A47: oświetlenie dróg i przestrzeni publicznej | B47: =$H$4 -> 3070.72 | C47: =Oświetlenie!C12 -> 2456.576 | D47: =C47/B47*100 -> 80 | F47: węgiel kamienny | G47: =$K$4 -> 131690.45 | H47: ='Emisje - sektor mieszkalny'!H60+'Emisje - ob. uż. publ.'!M120+'Emisje - usługi i prod.'!F45 -> 89318.039 | I47: =H47/G47*100 -> 67.824236 | M47: =M46+M45+M44+M43+M42+M41+M40+M39 -> 4089929.2 | N47: =N46+N45+N44+N43+N42+N41+N40+N39 -> 3781613.4 | S47: =S46+S45+S44+S43+S42+S41+S40+S39 -> 343312.08 | T47: =T46+T43+T41+T40+T39 -> 204312.98
A48: sektor transportu publicznego | B48: =$H$5 -> 6455.4591 | C48: =MZK!C4+MZK!C5+MZK!B11 -> 5079.8416 | D48: =C48/B48*100 -> 78.690634 | F48: eko-groszek | G48: =$K$5 -> 12664.596 | H48: ='Emisje - sektor mieszkalny'!H62 -> 13144.267 | I48: =H48/G48*100 -> 103.7875
A49: sektor przemysłowy oraz handlowo-usługowy | B49: =$H$6 -> 742858.45 | C49: ='Emisje - usługi i prod.'!F47 -> 736046.56 | D49: =C49/B49*100 -> 99.083016 | F49: paliwa (olej napędowy, benzyna) | G49: =$K$6 -> 912791.42 | H49: =MZK!B11+'Emisje - transport'!N5+'Emisje - transport'!C28+'Emisje - transport'!C29+'Emisje - transport'!C30 -> 1016604.8 | I49: =H49/G49*100 -> 111.37317
A50: sektor mieszkalny | B50: =$H$7 -> 1343140.2 | C50: ='Emisje - sektor mieszkalny'!H65 -> 1339903.7 | D50: =C50/B50*100 -> 99.759036 | F50: olej opałowy | G50: =$K$7 -> 14985.568 | H50: ='Emisje - sektor mieszkalny'!H59+'Emisje - ob. uż. publ.'!M121+'Emisje - usługi i prod.'!F44+MZK!C5 -> 10563.169 | I50: =H50/G50*100 -> 70.488947
A51: sektor obiektów użyteczności publicznej | B51: =$H$8 -> 41553.617 | C51: ='Emisje - ob. uż. publ.'!M123 -> 41824.288 | D51: =C51/B51*100 -> 100.65138 | F51: drewno/biomasa | G51: =$K$8 -> 54926.406 | H51: ='Emisje - sektor mieszkalny'!H61 -> 49571.081 | I51: =H51/G51*100 -> 90.25
B52: =B51+B50+B49+B48+B47+B46 -> 3044224.7 | C52: =C51+C50+C49+C48+C47+C46 -> 3137646.2 | F52: energia elektryczna | G52: =$K$9 -> 231128.19 | H52: ='Emisje - sektor mieszkalny'!H57+'Emisje - ob. uż. publ.'!M118+'Emisje - usługi i prod.'!F42+MZK!C4+Oświetlenie!C12 -> 216773.72 | I52: =H52/G52*100 -> 93.789391
F53: ciepło sieciowe | G53: =$K$10 -> 1180243.9 | H53: ='Emisje - sektor mieszkalny'!H63+'Emisje - sektor mieszkalny'!H64+'Emisje - ob. uż. publ.'!M122+'Emisje - usługi i prod.'!F46 -> 1227058.5 | I53: =H53/G53*100 -> 103.96652
G54: =G53+G52+G51+G50+G49+G48+G47+G46 -> 3044224.7 | H54: =H53+H52+H51+H50+H49+H48+H47+H46 -> 3137646.2
A56: rodzaj nośnika energii | B56: zużycie | F56: sektor | G56: suma [MgCO2e] - rok bazowy 2014 | H56: suma [MgCO2e] | I56: procent emisji w 2020 r. w stosunku do roku bazowego 2014
A57: gaz ziemny [m3] | B57: ='Emisje - sektor mieszkalny'!F58+'Emisje - ob. uż. publ.'!K119+'Emisje - usługi i prod.'!C43 -> 51547176 | F57: transport lokalny oraz tranzyt | G57: =$B$3 -> 230415.14 | H57: ='Emisje - transport'!D28+'Emisje - transport'!D29+'Emisje - transport'!D30+'Emisje - transport'!O5 -> 257133.13 | I57: =H57/G57*100 -> 111.59559
A58: węgiel kamienny [Mg] | B58: ='Emisje - sektor mieszkalny'!F60+'Emisje - ob. uż. publ.'!K120+'Emisje - usługi i prod.'!C45 -> 14208.791 | F58: oświetlenie dróg i przestrzeni publicznej | G58: =$B$4 -> 1381.82 | H58: =Oświetlenie!D12 -> 1095.6329 | I58: =H58/G58*100 -> 79.289118
A59: eko-groszek [Mg] | B59: ='Emisje - sektor mieszkalny'!F62 -> 1785.6363 | F59: sektor transportu publicznego | G59: =$B$5 -> 1726.2747 | H59: =MZK!B12+MZK!D5+MZK!D4 -> 1363.1117 | I59: =H59/G59*100 -> 78.962618
A60: paliwa (olej napędowy, benzyna) [l] | B60: =MZK!B10+'Emisje - transport'!P32+'Emisje - transport'!P29+'Emisje - transport'!P26+'Emisje - transport'!M5 -> 81703094 | F60: sektor przemysłowy oraz handlowo-usługowy | G60: =$B$6 -> 183669.01 | H60: ='Emisje - usługi i prod.'!H47 -> 177677.06 | I60: =H60/G60*100 -> 96.737634
A61: olej opałowy [l] | B61: ='Emisje - sektor mieszkalny'!F59+'Emisje - ob. uż. publ.'!K121+'Emisje - usługi i prod.'!C44+MZK!B5 -> 946190.8 | F61: sektor mieszkalny | G61: =$B$7 -> 91927.502 | H61: ='Emisje - sektor mieszkalny'!J65 -> 80513.557 | I61: =H61/G61*100 -> 87.583754
A62: drewno/biomasa [Mg] | B62: ='Emisje - sektor mieszkalny'!F61 -> 11439.48 | F62: sektor obiektów użyteczności publicznej | G62: =$B$8 -> 11444.853 | H62: ='Emisje - ob. uż. publ.'!N123 -> 11451.664 | I62: =H62/G62*100 -> 100.05951
A63: energia elektryczna [MWh] | B63: =H52 -> 216773.72 | G63: =G62+G61+G60+G59+G58+G57 -> 520564.6 | H63: =H62+H61+H60+H59+H58+H57 -> 529234.16
A64: ciepło sieciowe [GJ] | B64: =H53/3.6 -> 340849.58
F65: rodzaj nośnika energii | G65: emisja [MgCO2e] - rok bazowy 2014 | H65: emisja [MgCO2e] | I65: procent emisji w 2020 r. w stosunku do roku bazowego 2014
F66: gaz ziemny | G66: =$E$3 -> 101158.83 | H66: ='Emisje - sektor mieszkalny'!J58+'Emisje - ob. uż. publ.'!N119+'Emisje - usługi i prod.'!H43 -> 102922.53 | I66: =H66/G66*100 -> 101.74349
F67: węgiel kamienny | G67: =$E$4 -> 41877.562 | H67: ='Emisje - sektor mieszkalny'!J60+'Emisje - ob. uż. publ.'!N120+'Emisje - usługi i prod.'!H45 -> 28403.136 | I67: 67.824236
F68: eko-groszek | G68: =$E$5 -> 3964.0185 | H68: ='Emisje - sektor mieszkalny'!J62 -> 4114.1557 | I68: 103.7875
F69: paliwa (olej napędowy, benzyna) | G69: =$E$6 -> 231905.47 | H69: =H57+MZK!B12 -> 258260.31 | I69: 111.26567
F70: olej opałowy | G70: =$E$7 -> 4046.1033 | H70: ='Emisje - sektor mieszkalny'!J59+'Emisje - ob. uż. publ.'!N121+'Emisje - usługi i prod.'!H44+MZK!D5 -> 2852.0556 | I70: 70.488947
F71: drewno/biomasa | G71: =$E$8 -> 0 | H71: 0
F72: energia elektryczna | G72: =$E$9 -> 103095.83 | H72: ='Emisje - sektor mieszkalny'!J57+'Emisje - ob. uż. publ.'!N118+'Emisje - usługi i prod.'!H42+MZK!D4+Oświetlenie!D12 -> 96681.462 | I72: 93.778243
F73: ciepło sieciowe | G73: =$E$10 -> 34516.776 | H73: ='Emisje - sektor mieszkalny'!J63+'Emisje - sektor mieszkalny'!J64+'Emisje - ob. uż. publ.'!N122+'Emisje - usługi i prod.'!H46 -> 36000.512 | I73: 103.1572
G74: =G73+G72+G71+G70+G69+G68+G67+G66 -> 520564.6 | H74: =H73+H72+H71+H70+H69+H68+H67+H66 -> 529234.16
A77: Scenariusz aktywny
A80: sektor | B80: energia finalna [MWh] - rok bazowy 2014 | C80: energia finalna [MWh] - prognoza rok 2020 | D80: procent emisji w 2020 r. w stosunku do roku bazowego 2014 | F80: sektor | G80: energia finalna [MWh] - rok bazowy 2014 | H80: energia finalna [MWh] - prognoza rok 2020 | I80: procent emisji w 2020 r. w stosunku do roku bazowego 2014
A81: transport lokalny oraz tranzyt | B81: =$H$3 -> 907146.2 | C81: ='Emisje - transport'!C28+'Emisje - transport'!C29+'Emisje - transport'!C30+'Emisje - transport'!V5 -> 953486.14 | D81: =C81/B81*100 -> 105.10832 | F81: gaz ziemny | G81: =$K$3 -> 505794.16 | H81: ='Emisje - sektor mieszkalny'!H71+'Emisje - ob. uż. publ.'!T119+'Emisje - usługi i prod.'!F52 -> 485570.37 | I81: =H81/G81*100 -> 96.001577
A82: oświetlenie dróg i przestrzeni publicznej | B82: =$H$4 -> 3070.72 | C82: =Oświetlenie!C16 -> 2149.504 | D82: =C82/B82*100 -> 70 | F82: węgiel kamienny | G82: =$K$4 -> 131690.45 | H82: ='Emisje - sektor mieszkalny'!H73+'Emisje - ob. uż. publ.'!T120+'Emisje - usługi i prod.'!F54 -> 69519.17 | I82: =H82/G82*100 -> 52.789836
A83: sektor transportu publicznego | B83: =$H$5 -> 6455.4591 | C83: =MZK!D11+MZK!C4+MZK!C5 -> 4817.0032 | D83: =C83/B83*100 -> 74.619065 | F83: eko-groszek | G83: =$K$5 -> 12664.596 | H83: ='Emisje - sektor mieszkalny'!H75 -> 12309.987 | I83: =H83/G83*100 -> 97.2
A84: sektor przemysłowy oraz handlowo-usługowy | B84: =$H$6 -> 742858.45 | C84: ='Emisje - usługi i prod.'!F56 -> 684863.16 | D84: =C84/B84*100 -> 92.192956 | F84: paliwa (olej napędowy, benzyna) | G84: =$K$6 -> 912791.42 | H84: ='Emisje - transport'!C28+'Emisje - transport'!C29+'Emisje - transport'!C30+'Emisje - transport'!V5+MZK!D11 -> 957492.9 | I84: =H84/G84*100 -> 104.89723
A85: sektor mieszkalny | B85: =$H$7 -> 1343140.2 | C85: ='Emisje - sektor mieszkalny'!H78 -> 1242716 | D85: =C85/B85*100 -> 92.523179 | F85: olej opałowy | G85: =$K$7 -> 14985.568 | H85: ='Emisje - sektor mieszkalny'!H72+'Emisje - ob. uż. publ.'!T121+'Emisje - usługi i prod.'!F53+MZK!C5 -> 8411.7926 | I85: =H85/G85*100 -> 56.132625
A86: sektor obiektów użyteczności publicznej | B86: =$H$8 -> 41553.617 | C86: ='Emisje - ob. uż. publ.'!T123 -> 39651.121 | D86: =C86/B86*100 -> 95.421588 | F86: drewno/biomasa | G86: =$K$8 -> 54926.406 | H86: ='Emisje - sektor mieszkalny'!H74 -> 44490.389 | I86: =H86/G86*100 -> 81
B87: =B86+B85+B84+B83+B82+B81 -> 3044224.7 | C87: =C86+C85+C84+C83+C82+C81 -> 2927683 | F87: energia elektryczna | G87: =$K$9 -> 231128.19 | H87: ='Emisje - sektor mieszkalny'!H70+'Emisje - ob. uż. publ.'!T118+'Emisje - usługi i prod.'!F51+MZK!C4+Oświetlenie!C16 -> 200113.45 | I87: =H87/G87*100 -> 86.581152
F88: ciepło sieciowe | G88: =$K$10 -> 1180243.9 | H88: ='Emisje - sektor mieszkalny'!H76+'Emisje - sektor mieszkalny'!H77+'Emisje - ob. uż. publ.'!T122+'Emisje - usługi i prod.'!F55 -> 1149774.9 | I88: =H88/G88*100 -> 97.418417
G89: =G88+G87+G86+G85+G84+G83+G82+G81 -> 3044224.7 | H89: =H88+H87+H86+H85+H84+H83+H82+H81 -> 2927683
A93: rodzaj nośnika energii | B93: zużycie | F93: sektor | G93: suma [MgCO2e] - rok bazowy 2014 | H93: suma [MgCO2e] | I93: procent emisji w 2020 r. w stosunku do roku bazowego 2014
A94: gaz ziemny [m3] | B94: ='Emisje - sektor mieszkalny'!F71+'Emisje - ob. uż. publ.'!R119+'Emisje - usługi i prod.'!C52 -> 48638101 | F94: transport lokalny oraz tranzyt | G94: =$B$3 -> 230415.14 | H94: ='Emisje - transport'!D28+'Emisje - transport'!D29+'Emisje - transport'!D30+'Emisje - transport'!W5 -> 242185.48 | I94: =H94/G94*100 -> 105.10832
A95: węgiel kamienny [Mg] | B95: ='Emisje - sektor mieszkalny'!F73+'Emisje - ob. uż. publ.'!R120+'Emisje - usługi i prod.'!C54 -> 11059.17 | F95: oświetlenie dróg i przestrzeni publicznej | G95: =$B$4 -> 1381.82 | H95: =Oświetlenie!D16 -> 958.67878 | I95: =H95/G95*100 -> 69.377979
A96: eko-groszek [Mg] | B96: ='Emisje - sektor mieszkalny'!F75 -> 1672.3001 | F96: sektor transportu publicznego | G96: =$B$5 -> 1726.2747 | H96: =MZK!D4+MZK!D5+MZK!D12 -> 1293.7223 | I96: =H96/G96*100 -> 74.943017
A97: paliwa (olej napędowy, benzyna) [l] | B97: ='Emisje - transport'!P32+'Emisje - transport'!P29+'Emisje - transport'!P26+'Emisje - transport'!U5 -> 76619422 | F97: sektor przemysłowy oraz handlowo-usługowy | G97: =$B$6 -> 183669.01 | H97: ='Emisje - usługi i prod.'!H56 -> 163826.15 | I97: =H97/G97*100 -> 89.1964
A98: olej opałowy [l] | B98: ='Emisje - sektor mieszkalny'!F72+'Emisje - ob. uż. publ.'!R121+'Emisje - usługi i prod.'!C53+MZK!B5 -> 753482.29 | F98: sektor mieszkalny | G98: =$B$7 -> 91927.502 | H98: ='Emisje - sektor mieszkalny'!J78 -> 72579.891 | I98: =H98/G98*100 -> 78.953403
A99: drewno/biomasa [Mg] | B99: ='Emisje - sektor mieszkalny'!F74 -> 10267.013 | F99: sektor obiektów użyteczności publicznej | G99: =$B$8 -> 11444.853 | H99: ='Emisje - ob. uż. publ.'!U123 -> 10813.085 | I99: =H99/G99*100 -> 94.4799
A100: energia elektryczna [MWh] | B100: =H87 -> 200113.45 | G100: =G99+G98+G97+G96+G95+G94 -> 520564.6 | H100: =H99+H98+H97+H96+H95+H94 -> 491657
A101: ciepło sieciowe [GJ] | B101: =H88/3.6 -> 319381.92
F102: rodzaj nośnika energii | G102: emisja [MgCO2e] - rok bazowy 2014 | H102: emisja [MgCO2e] | I102: procent emisji w 2020 r. w stosunku do roku bazowego 2014
F103: gaz ziemny | G103: =$E$3 -> 101158.83 | H103: ='Emisje - sektor mieszkalny'!J71+'Emisje - ob. uż. publ.'!U119+'Emisje - usługi i prod.'!H52 -> 97114.074 | I103: =H103/G103*100 -> 96.001577
F104: węgiel kamienny | G104: =$E$4 -> 41877.562 | H104: ='Emisje - sektor mieszkalny'!J73+'Emisje - ob. uż. publ.'!U120+'Emisje - usługi i prod.'!H54 -> 22107.096 | I104: =H104/G104*100 -> 52.789836
F105: eko-groszek | G105: =$E$5 -> 3964.0185 | H105: ='Emisje - sektor mieszkalny'!J75 -> 3853.026 | I105: =H105/G105*100 -> 97.2
F106: paliwa (olej napędowy, benzyna) | G106: =$E$6 -> 231905.47 | H106: =H94+MZK!D12 -> 243243.26 | I106: =H106/G106*100 -> 104.88897
F107: olej opałowy | G107: =$E$7 -> 4046.1033 | H107: 2271.184 | I107: =H107/G107*100 -> 56.132625
F108: drewno/biomasa | G108: =$E$8 -> 0 | H108: 0 | I108: -
F109: energia elektryczna | G109: =$E$9 -> 103095.83 | H109: ='Emisje - sektor mieszkalny'!J70+'Emisje - ob. uż. publ.'!U118+'Emisje - usługi i prod.'!H51+MZK!D4+Oświetlenie!D16 -> 89250.98 | I109: =H109/G109*100 -> 86.57089
F110: ciepło sieciowe | G110: =$E$10 -> 34516.776 | H110: ='Emisje - sektor mieszkalny'!J76+'Emisje - sektor mieszkalny'!J77+'Emisje - ob. uż. publ.'!U122+'Emisje - usługi i prod.'!H55 -> 33817.379 | I110: =H110/G110*100 -> 97.973747
...
