Workbook

Sheet Założenia
A1: Założenia | B1: Inwestycje w OZE - zmniejszenie wykorzystywania nośników energii | E1: Inwestycje w termomodernizacje - zmniejszenie zapotrzebowania na ciepło dla budynków użyteczności publicznej, sektora mieszkaniowego oraz przemysłu i usług | F1: Inwestycje w modernizacje taboru MZK w Tomaszowie Mazowieckim - wielkość modernizacji taboru [%] | G1: Rozbudowa miejskiej sieci ciepłowniczej - większe zużycie ciepła sieciowego | H1: Rozbudowa sieci gazowej - zwiększenie żużycia gazu | I1: Modernizacje oświetlenia - wymiana na ledowe ze sterowaniem logicznym - zmniejszenie zużycia energii | J1: Zwiększenie udziału piecy z podajnikami na eko-groszek (tańszy oraz wygodniejszy sposób ogrzewania) | K1: Redukcja zużycia oleju opałowego oraz węgla kamiennego | L1: Liczba samochodów zarejestrowanych w mieście | M1: Prognoza demograficzna | N1: Wzrost gospodarczy
B2: sektor użyteczności publicznej | C2: sektor mieszkalny | D2: sektor przemysłu oraz usług
A3: Scenariusz aktywny | B3: 0.95 | C3: 0.9 | D3: 0.9 | E3: 0.9 | F3: 86 | G3: 1.2 | H3: 1.15 | I3: 0.7 | J3: 1.2 | K3: 0.65 | L3: 40000 | M3: 66000 | N3: 1.03
A4: Scenariusz umiarkowany | B4: 0.98 | C4: 0.95 | D4: 0.95 | E4: 0.95 | F4: 71 | G4: 1.15 | H4: 1.1 | I4: 0.8 | J4: 1.15 | K4: 0.75 | L4: 45000 | M4: 65000 | N4: 1.025
A5: Scenariusz pasywny | B5: 0.99 | C5: 0.98 | D5: 0.98 | E5: 0.99 | F5: 0 | G5: 1.1 | H5: 1.05 | I5: 0.9 | J5: 1.1 | K5: 0.85 | L5: 50000 | M5: 62135 | N5: 1.02

Sheet Ankiety - budynki jednorodzinne
A1: ulica | B1: aktualne posiadane źródła ciepła | K1: rok budowy | L1: wiek źródła ciepła | M1: liczba mieszkańców | N1: pow. użytkowa [m2] | O1: ocieplenie ścian | P1: ocieplenie okien | Q1: ocieplenie dachu | R1: sposób przygotowania ciepłem wody | S1: zużycie paliw | X1: koszt [zł] | Y1: planowane modernizacje i inwestycje
B2: węgiel kamienny | C2: węgiel kamienny/biomasa/drewno | D2: węgiel kamienny/energia elektryczna | E2: węgiel kamienny/biomasa/energia elektryczna | F2: gaz | G2: energia elektryczna | H2: biomasa/drewno | I2: olej opałowy | J2: inne | S2: węgiel kamienny [Mg] | T2: eko-groszek [Mg] | U2: gaz [m3] | V2: olej [l] | W2: drewno [Mg]
A3: Andrzeja 10a | B3: - | C3: + | D3: - | E3: - | F3: - | G3: - | H3: - | I3: - | J3: - | K3: 1960 | L3: <5 | M3: 3 | N3: 62 | O3: - | P3: + | Q3: + | R3: to samo źródło ciepła co do ogrzewania | S3: 2.5 | T3: - | U3: - | V3: - | W3: 1 | X3: 2500 | Y3: -
A4: Andrzeja 2 | B4: - | C4: + | D4: - | E4: - | F4: - | G4: - | H4: - | I4: - | J4: - | K4: 1975 | L4: od 5 do 10 | M4: 1 | N4: 60 | O4: + | P4: + | Q4: + | R4: to samo źródło ciepła co do ogrzewania | S4: 2 | T4: - | U4: - | V4: - | W4: 3 | X4: 3500 | Y4: -
A5: Andrzeja 7 | B5: + | C5: - | D5: - | E5: - | F5: - | G5: - | H5: - | I5: - | J5: - | K5: 1965 | L5: od 10 do 15 | M5: 2 | N5: 160 | O5: + | P5: + | Q5: + | R5: to samo źródło ciepła co do ogrzewania+bojler elektryczny | S5: 4 | T5: - | U5: - | V5: - | W5: - | X5: 2500 | Y5: -
A6: Andrzeja 8 | B6: - | C6: - | D6: - | E6: - | F6: - | G6: - | H6: + | I6: - | J6: - | K6: 1965 | L6: od 5 do 10 | M6: 6 | N6: 120 | O6: + | P6: + | Q6: + | R6: to samo źródło ciepła co do ogrzewania | S6: - | T6: - | U6: - | V6: - | W6: 5 | X6: 1000 | Y6: -
A7: Anny 34 | B7: - | C7: + | D7: - | E7: - | F7: - | G7: - | H7: - | I7: - | J7: - | K7: 1970 | L7: <5 | M7: 1 | N7: 80 | O7: + | P7: + | Q7: + | R7: to samo źródło ciepła co do ogrzewania+bojler elektryczny | S7: 3 | T7: - | U7: - | V7: - | W7: 1 | X7: do obliczenie na podstawie cen paliw | Y7: -
A8: Anny 41 | B8: - | C8: + | D8: - | E8: - | F8: - | G8: - | H8: - | I8: - | J8: - | K8: 1975 | L8: od 5 do 10 | M8: 2 | N8: 75 | O8: + | P8: + | Q8: + | R8: to samo źródło ciepła co do ogrzewania | S8: 2.5 | T8: - | U8: - | V8: - | W8: 1 | X8: do obliczenie na podstawie cen paliw | Y8: -
A9: Anny 44 | B9: - | C9: + | D9: - | E9: - | F9: - | G9: - | H9: - | I9: - | J9: - | K9: 1939 | L9: <5 | M9: 5 | N9: 100 | O9: + | P9: + | Q9: + | R9: to samo źródło ciepła co do ogrzewania+bojler elektryczny | S9: 4 | T9: - | U9: - | V9: - | W9: 1 | X9: do obliczenie na podstawie cen paliw | Y9: -
A10: Anny 48 | B10: - | C10: - | D10: - | E10: - | F10: - | G10: - | H10: - | I10: - | J10: - | K10: 1990 | L10: <5 | M10: 4 | N10: 150 | O10: + | P10: + | Q10: + | R10: to samo źródło ciepła co do ogrzewania+bojler elektryczny | S10: - | T10: - | U10: - | V10: - | W10: brak danym | X10: brak danym | Y10: -
A11: Anny 56 | B11: - | C11: + | D11: - | E11: - | F11: - | G11: - | H11: - | I11: - | J11: - | K11: 1970 | L11: <5 | M11: 1 | N11: 100 | O11: + | P11: + | Q11: + | R11: bojlery elektryczne | S11: 2 | T11: - | U11: - | V11: - | W11: 6 | X11: do obliczenie na podstawie cen paliw | Y11: -
A12: Batorego 17 | B12: - | C12: - | D12: - | E12: - | F12: + | G12: - | H12: - | I12: - | J12: - | K12: 1983 | L12: >15 | M12: 5 | N12: 200 | O12: + | P12: + | Q12: + | R12: to samo źródło ciepła co do ogrzewania | S12: - | T12: - | U12: 2500 | V12: - | W12: - | X12: do obliczenie na podstawie cen paliw | Y12: -
A13: Bema 59 | B13: - | C13: + | D13: - | E13: - | F13: - | G13: - | H13: - | I13: - | J13: - | K13: 1960 | L13: <5 | N13: 80 | O13: + | P13: + | Q13: - | R13: gazowe przepływowe | S13: 3 | T13: - | U13: - | V13: - | W13: 3 | X13: do obliczenie na podstawie cen paliw | Y13: +
A14: Bema 77 | B14: - | C14: + | D14: - | E14: - | F14: - | G14: - | H14: - | I14: - | J14: - | K14: 2005 | L14: od 10 do 15 | M14: 4 | N14: 150 | O14: + | P14: + | Q14: + | R14: to samo źródło ciepła co do ogrzewania + gazowe przepływowe | S14: 5 | T14: - | U14: - | V14: - | W14: 2 | X14: do obliczenie na podstawie cen paliw | Y14: +
A15: Bluszczowa 11 | B15: - | C15: + | D15: - | E15: - | F15: - | G15: - | H15: - | I15: - | J15: - | K15: 2005 | L15: <5 | M15: 5 | N15: 200 | O15: + | P15: + | Q15: + | R15: to samo źródło ciepła co do ogrzewania | S15: 6 | T15: - | U15: - | V15: - | W15: 3 | X15: do obliczenie na podstawie cen paliw | Y15: -
A16: Brzozowa 10 | B16: - | C16: + | D16: - | E16: - | F16: - | G16: - | H16: - | I16: - | J16: - | K16: 1966 | L16: <5 | M16: 4 | N16: 100 | O16: + | P16: + | Q16: - | R16: to samo źródło ciepła co do ogrzewania + gazowe przepływowe | S16: 4 | T16: - | U16: - | V16: - | W16: 1 | X16: do obliczenie na podstawie cen paliw | Y16: -
A17: Brzozowa 21 | B17: - | C17: + | D17: - | E17: - | F17: - | G17: - | H17: - | I17: - | J17: - | K17: 1950 | L17: <5 | M17: 5 | N17: 180 | O17: + | P17: + | Q17: + | R17: to samo źródło ciepła co do ogrzewania | S17: 3 | T17: - | U17: - | V17: - | W17: 4 | X17: do obliczenie na podstawie cen paliw | Y17: -
A18: Brzozowa 25 | B18: - | C18: + | D18: - | E18: - | F18: - | G18: - | H18: - | I18: - | J18: - | K18: 1950 | L18: od 5 do 10 | M18: 4 | N18: 80 | O18: + | P18: + | Q18: - | R18: to samo źródło ciepła co do ogrzewania+bojler elektryczny | S18: 3 | T18: - | U18: - | V18: - | W18: 1 | X18: do obliczenie na podstawie cen paliw | Y18: -
A19: Cegielna 18a | B19: - | C19: - | D19: - | E19: - | F19: + | G19: - | H19: - | I19: - | J19: - | K19: 1990 | L19: <5 | M19: 4 | N19: 130 | O19: + | P19: + | Q19: + | R19: to samo źródło ciepła co do ogrzewania | S19: - | T19: - | U19: 2000 | V19: - | W19: - | X19: do obliczenie na podstawie cen paliw | Y19: +
A20: Cegielniana | B20: - | C20: + | D20: - | E20: - | F20: - | G20: - | H20: - | I20: - | J20: - | K20: 1995 | L20: <5 | M20: 5 | N20: 130 | O20: + | P20: + | Q20: + | R20: to samo źródło ciepła co do ogrzewania | S20: 5 | T20: - | U20: - | V20: - | W20: 4 | X20: do obliczenie na podstawie cen paliw | Y20: -
A21: Cegielniana 45 | B21: - | C21: - | D21: - | E21: - | F21: + | G21: - | H21: - | I21: - | J21: - | K21: 2015 | L21: <5 | M21: 3 | N21: 149 | O21: + | P21: + | Q21: + | R21: to samo źródło ciepła co do ogrzewania | S21: - | T21: - | U21: - | V21: - | W21: - | X21: brak danym | Y21: +
A22: Ciesielska 2a | B22: - | C22: + | D22: - | E22: - | F22: - | G22: - | H22: - | I22: - | J22: - | K22: 1980 | L22: <5 | M22: 4 | N22: 150 | O22: + | P22: + | Q22: - | R22: to samo źródło ciepła co do ogrzewania+gazowe przepływowe | S22: 4 | T22: - | U22: - | V22: - | W22: 3 | X22: do obliczenie na podstawie cen paliw | Y22: -
A23: Ciesielska 3c | B23: - | C23: + | D23: - | E23: - | F23: - | G23: - | H23: - | I23: - | J23: - | K23: 1985 | L23: <5 | M23: 4 | N23: 100 | O23: - | P23: - | Q23: - | R23: to samo źródło ciepła co do ogrzewania+gazowe przepływowe | S23: 4 | T23: - | U23: - | V23: - | W23: 3 | X23: do obliczenie na podstawie cen paliw | Y23: -
A24: Cisowa 15 | B24: - | C24: + | D24: - | E24: - | F24: - | G24: - | H24: - | I24: - | J24: - | K24: ? | L24: od 5 do 10 | M24: 3 | N24: 45 | O24: + | P24: + | Q24: + | R24: to samo źródło ciepła co do ogrzewania | S24: 1.5 | T24: - | U24: - | V24: - | W24: 3 | X24: do obliczenie na podstawie cen paliw | Y24: -
A25: Cisowa 25 | B25: - | C25: + | D25: - | E25: - | F25: - | G25: - | H25: - | I25: - | J25: - | K25: 1986 | L25: >15 | M25: 2 | N25: 150 | O25: + | P25: + | Q25: + | R25: to samo źródło ciepła co do ogrzewania+bojler elektryczny | S25: 2 | T25: - | U25: - | V25: - | W25: 3 | X25: do obliczenie na podstawie cen paliw | Y25: +
A26: Cisowa 7 | B26: - | C26: + | D26: - | E26: - | F26: - | G26: - | H26: - | I26: - | J26: - | K26: ? | L26: od 5 do 10 | M26: 4 | N26: 35 | O26: - | P26: - | Q26: - | R26: to samo źródło ciepła co do ogrzewania | S26: - | T26: - | U26: - | V26: - | W26: - | X26: brak danym | Y26: -
A27: Cmentarna 21a | B27: - | C27: + | D27: - | E27: - | F27: - | G27: - | H27: - | I27: - | J27: - | K27: 2000 | L27: <5 | M27: 5 | N27: 150 | O27: + | P27: + | Q27: + | R27: to samo źródło ciepła co do ogrzewania+bojler elektryczny | S27: 5 | T27: - | U27: - | V27: - | W27: 3 | X27: do obliczenie na podstawie cen paliw | Y27: +
A28: Czarna 18 | B28: - | C28: + | D28: - | E28: - | F28: - | G28: - | H28: - | I28: - | J28: - | K28: 1995 | L28: od 5 do 10 | M28: 4 | N28: 100 | O28: + | P28: + | Q28: + | R28: to samo źródło ciepła co do ogrzewania+bojler elektryczny | S28: 4 | T28: - | U28: - | V28: - | W28: 2 | X28: do obliczenie na podstawie cen paliw | Y28: +
A29: Damazego 32 | B29: + | C29: - | D29: - | E29: - | F29: - | G29: - | H29: - | I29: - | J29: - | K29: 2003 | L29: od 5 do 10 | M29: 4 | N29: 190 | O29: + | P29: + | Q29: + | R29: to samo źródło ciepła co do ogrzewania | S29: - | T29: 5.5 | U29: - | V29: - | W29: - | X29: 5350 | Y29: -
A30: Damazego 33 | B30: - | C30: + | D30: - | E30: - | F30: - | G30: - | H30: - | I30: - | J30: - | K30: 1990 | L30: <5 | M30: 4 | N30: 150 | O30: + | P30: + | Q30: + | R30: to samo źródło ciepła co do ogrzewania+bojler elektryczny | S30: 5 | T30: - | U30: - | V30: - | W30: 3 | X30: do obliczenie na podstawie cen paliw | Y30: -
A31: Damazego 33 | B31: - | C31: - | D31: - | E31: - | F31: - | G31: + | H31: - | I31: - | J31: - | K31: 2014 | L31: <5 | M31: ? | N31: 150 | O31: + | P31: + | Q31: + | R31: to samo źródło ciepła co do ogrzewania+bojler elektryczny | S31: - | T31: - | U31: - | V31: - | W31: - | X31: brak danym | Y31: -
A32: Danuty 12 | B32: - | C32: + | D32: - | E32: - | F32: - | G32: - | H32: - | I32: - | J32: - | K32: 1978 | L32: >15 | M32: 5 | N32: 80 | O32: + | P32: + | Q32: + | R32: to samo źródło ciepła co do ogrzewania+bojler elektryczny | S32: 4 | T32: - | U32: - | V32: - | W32: 2 | X32: 3500 | Y32: -
A33: Danuty 2 | B33: - | C33: + | D33: - | E33: - | F33: - | G33: - | H33: - | I33: - | J33: - | K33: 1980 | L33: <5 | M33: 2 | N33: 70 | O33: - | P33: + | Q33: - | R33: to samo źródło ciepła co do ogrzewania+bojler elektryczny | S33: 2 | T33: - | U33: - | V33: - | W33: 3 | X33: do obliczenie na podstawie cen paliw | Y33: -
A34: Danuty 5 | B34: - | C34: + | D34: - | E34: - | F34: - | G34: - | H34: - | I34: - | J34: - | K34: 1988 | L34: <5 | M34: 4 | N34: 200 | O34: + | P34: + | Q34: - | R34: to samo źródło ciepła co do ogrzewania+bojler elektryczny | S34: 4.5 | T34: - | U34: - | V34: - | W34: 5 | X34: do obliczenie na podstawie cen paliw | Y34: -
A35: Długa 10 | B35: - | C35: + | D35: - | E35: - | F35: - | G35: - | H35: - | I35: - | J35: - | K35: 1985 | L35: od 5 do 10 | M35: 5 | N35: 150 | O35: + | P35: + | Q35: + | R35: to samo źródło ciepła co do ogrzewania+gazowe przepływowe | S35: - | T35: - | U35: - | V35: - | W35: - | X35: brak danym | Y35: -
A36: Długa 48 | B36: - | C36: + | D36: - | E36: - | F36: - | G36: - | H36: - | I36: - | J36: - | K36: 1980 | L36: od 5 do 10 | M36: 5 | N36: 120 | O36: + | P36: + | Q36: + | R36: to samo źródło ciepła co do ogrzewania | S36: - | T36: - | U36: - | V36: - | W36: - | X36: brak danym | Y36: -
A37: Edwarda 5 | B37: + | C37: - | D37: - | E37: - | F37: - | G37: - | H37: - | I37: - | J37: - | K37: 1983 | L37: <5 | M37: 3 | N37: 160 | O37: + | P37: + | Q37: + | R37: to samo źródło ciepła co do ogrzewania+bojler elektryczny | S37: - | T37: 6 | U37: - | V37: - | W37: - | X37: 5400 | Y37: -
A38: Fabryczna 10 | B38: - | C38: + | D38: - | E38: - | F38: - | G38: - | H38: - | I38: - | J38: - | K38: 2005 | L38: <5 | M38: 4 | N38: 130 | O38: + | P38: + | Q38: + | R38: to samo źródło ciepła co do ogrzewania+bojler elektryczny | S38: 5 | T38: - | U38: - | V38: - | W38: 5 | X38: do obliczenie na podstawie cen paliw | Y38: +
A39: Fabryczna 19 | B39: - | C39: + | D39: - | E39: - | F39: - | G39: - | H39: - | I39: - | J39: - | K39: 1950 | L39: <5 | M39: 3 | N39: 100 | O39: - | P39: + | Q39: - | R39: to samo źródło ciepła co do ogrzewania+bojler elektryczny | S39: 3 | T39: - | U39: - | V39: - | W39: 2 | X39: do obliczenie na podstawie cen paliw | Y39: -
A40: Fabryczna 26a | B40: - | C40: + | D40: - | E40: - | F40: - | G40: - | H40: - | I40: - | J40: - | K40: 1955 | L40: od 5 do 10 | M40: 5 | N40: 150 | O40: + | P40: + | Q40: + | R40: to samo źródło ciepła co do ogrzewania+gazowe przepływowe | S40: 4 | T40: - | U40: - | V40: - | W40: 3 | X40: do obliczenie na podstawie cen paliw | Y40: +
...

Sheet Emisje - sektor mieszkalny
A1: emisje CO2e - rok bazowy 2014
A2: nośniki energii | B2: zużycie paliw (dane uzyskane z ankiet) | C2: jednostka | D2: przeliczenie na ilość domów jednorodzinnych + zużycie paliwa uzyskane z ankiet | F2: wartość opałowa [MJ/kg] / [MJ/m3] | G2: energia finalna [MWh] | H2: krajowe wskaźniki emisji [MgCO2e/MWh] | I2: emisja [MgCO2e] | J2: energia finalna [%] | K2: emisja CO2e [%]
D3: zużycie paliw | E3: jednostka
A4: energia elektryczna | B4: 40339.73 | C4: MWh | D4: =40339.73+B31 -> 40234.6 | E4: MWh | F4: - | G4: =D4 -> 40234.6 | H4: 0.446 | I4: =G4*H4 -> 17944.632 | J4: =G4/$G$12*100 -> 2.9955621 | K4: =I4/$I$12*100 -> 19.520417
A5: gaz ziemny | B5: =SUM('Ankiety - budynki jednorodzinne'!U3:U190) -> 14200 | C5: m3 | D5: =E20*F20+B29+B35 -> 857910.17 | E5: m3 | F5: 35.94 | G5: =D5*F5/3600 -> 8564.8032 | H5: 0.2 | I5: =H5*G5 -> 1712.9606 | J5: =G5/$G$12*100 -> 0.63767006 | K5: =I5/$I$12*100 -> 1.8633821
A6: olej opałowy | B6: =SUM('Ankiety - budynki jednorodzinne'!V3:V190) -> 8000 | C6: l | D6: =E21*F21+B30 -> 296893.62 | E6: l | F6: 40.19 | G6: =D6*F6/3600 -> 3314.4874 | H6: 0.27 | I6: =H6*G6 -> 894.91159 | J6: =G6/$G$12*100 -> 0.2467715 | K6: =I6/$I$12*100 -> 0.97349712
A7: węgiel kamienny | B7: =SUM('Ankiety - budynki jednorodzinne'!S3:S190) -> 550.5 | C7: Mg | D7: =E22*F22 -> 19328.992 | E7: Mg | F7: 22.63 | G7: =(F7*D7)/3.6 -> 121504.19 | H7: 0.318 | I7: =H7*G7 -> 38638.333 | J7: =G7/$G$12*100 -> 9.0462774 | K7: =I7/$I$12*100 -> 42.03131
A8: drewno/biomasa | B8: =SUM('Ankiety - budynki jednorodzinne'!W3:W190) -> 361 | C8: Mg | D8: =E23*F23 -> 12675.324 | E8: Mg | F8: 15.6 | G8: =(F8*D8)/3.6 -> 54926.406 | H8: 0 | I8: 0 | J8: =G8/$G$12*100 -> 4.0894022 | K8: =I8/$I$12*100 -> 0
A9: ekogroszek | B9: =SUM('Ankiety - budynki jednorodzinne'!T3:T190) -> 49 | C9: Mg | D9: =E24*F24 -> 1720.4734 | E9: Mg | F9: 26.5 | G9: =(F9*D9)/3.6 -> 12664.596 | H9: 0.313 | I9: =H9*G9 -> 3964.0185 | J9: =G9/$G$12*100 -> 0.94290943 | K9: =I9/$I$12*100 -> 4.3121138
A10: ciepło sieciowe (spółdzielnia mieszkaniowa Przodownik - kotłownia ul. Zawadzka) | B10: =119163*0.8263 -> 98464.387 | C10: GJ | D10: =B10 -> 98464.387 | E10: GJ | F10: - | G10: =B10*3.6 -> 354471.79 | H10: 0.094 | I10: =B10*0.094 -> 9255.6524 | J10: =G10/$G$12*100 -> 26.391272 | K10: =I10/$I$12*100 -> 10.068426
A11: ciepło sieciowe (zakład gospodarki ciepłowniczej - kotłowania ul. Wierzbowa) | B11: =0.6*346046 -> 207627.6 | C11: GJ | D11: =B11 -> 207627.6 | E11: GJ | F11: - | G11: =B11*3.6 -> 747459.36 | H11: 0.094 | I11: =B11*0.094 -> 19516.994 | J11: =G11/$G$12*100 -> 55.650135 | K11: =I11/$I$12*100 -> 21.230855
G12: =SUM(G4:G11) -> 1343140.2 | I12: =SUM(I4:I11) -> 91927.502 | J12: =SUM(J4:J11) -> 100 | K12: =SUM(K4:K11) -> 100
A13: % ankiet do ilości budynków mieszkalnych
A14: 2.8632
A15: ilość budynków
A16: 6601
A17: ilość ankiet
A18: 188
A19: rodzaje paliw w domach jednorodzinnych | B19: suma budynków ogrzewanych danym paliwem | C19: ilość anietowanych domów jednorodzinnych | D19: %budynków ogrzewanych danym paliwem | E19: liczba budynków ogółem w mieście ogrzewanych danym paliwem | F19: średnie zużycie paliw | G19: jednostka | I19: Objaśnienia kolorów nagłówków tabel
A20: gaz ziemny | B20: ='Ankiety - budynki jednorodzinne'!U191 -> 8 | C20: 188 | D20: =B20/C20*100 -> 4.2553191 | E20: =6601*D20/100 -> 280.89362 | F20: =B5/8 -> 1775 | G20: m3
A21: olej opałowy | B21: ='Ankiety - budynki jednorodzinne'!V191 -> 3 | C21: 188 | D21: =B21/C21*100 -> 1.5957447 | E21: =6601*D21/100 -> 105.33511 | F21: =B6/3 -> 2666.6667 | G21: l | I21: zestawienia dotyczące emisji CO2
A22: węgiel kamienny | B22: ='Ankiety - budynki jednorodzinne'!S191 -> 140 | C22: 188 | D22: =B22/C22*100 -> 74.468085 | E22: =6601*D22/100 -> 4915.6383 | F22: =550.5/140 -> 3.9321429 | G22: Mg
A23: drewno/Biomasa | B23: ='Ankiety - budynki jednorodzinne'!W191 -> 116 | C23: 188 | D23: =B23/C23*100 -> 61.702128 | E23: =6601*D23/100 -> 4072.9574 | F23: =B8/116 -> 3.112069 | G23: Mg | I23: zestawienia dotyczące emisji pyłów
A24: ekogroszek | B24: ='Ankiety - budynki jednorodzinne'!T191 -> 13 | C24: 188 | D24: =B24/C24*100 -> 6.9148936 | E24: =6601*D24/100 -> 456.45213 | F24: =B9/13 -> 3.7692308 | G24: Mg
I25: zestawienia dotyczące emisji benzoapirenu
A27: SM Grota
A28: nośniki energii | B28: zużycie
A29: gaz [m3] | B29: =158201+65852+14406+21473+4992 -> 264924
A30: olej opałowy [l] | B30: 16000
A31: energia elektryczna {MWh} | B31: =(62870-168000)/1000 -> -105.13
A33: SM Nasza Chata
A34: nośniki energii | B34: zużycie
A35: gaz [m3] | B35: 94400
A37: Tomaszowskie TBS Sp. z o.o.
A38: nośniki energii | B38: zużycie
A39: wykorzystanie ciepła sieciowego
A41: emisje CO2e - scenariusz pasywny
A42: nośniki energii | B42: zużycie paliw (dane uzyskane z ankiet) | C42: jednostka | D42: przeliczenie na ilość domów jednorodzinnych + zużycie paliwa uzyskane z ankiet | F42: prognozowane zużycie według scenariusza pasywnego w 2020 r. | G42: wartość opałowa [MJ/kg] / [MJ/m3] | H42: energia finalna [MWh] | I42: krajowe wskaźniki emisji [MgCO2e/MWh] | J42: emisja [MgCO2e] | K42: energia finalna [%] | L42: emisja CO2e [%]
D43: zużycie paliw | E43: jednostka
A44: energia elektryczna | B44: 40339.73 | C44: MWh | D44: 40234.6 | E44: MWh | F44: 38781.183 | G44: - | H44: =F44 -> 38781.183 | I44: 0.446 | J44: =I44*H44 -> 17296.407 | K44: =H44/$H$52*100 -> 2.7835071 | L44: =J44/$J$52*100 -> 19.97725
...

Sheet Emisje - ob. uż. publ.
A1: obiekty użyteczności publicznej
A2: nazwa obiektu i adres | B2: powierzchnia użytkowa [m2] | C2: źródło ciepła | D2: sposób uzyskiwania ciepłej wody | E2: stan techniczny (1-zły, 5 - b.dobry) | M2: ocieplenie okien [%] | N2: ocieplenie drzwi [%] | O2: ocieplenie ścian [%] | P2: ocieplenie dachu [%] | Q2: plany modernizacji | R2: zużycie energi elektrycznej w 2014 r. [kWh] | S2: zużycie paliw w 2014 r. | W2: uwagi
E3: źródła ciepła | F3: instalacji centralnego ogrzewania | G3: instalacji ciepłej wody użytkowej | H3: instalacji wentylacji | I3: okien | J3: drzwi | K3: ścian | L3: dachu | S3: gaz [m3] | T3: węgiel kamienny [t] | U3: olej opałowy [l] | V3: ciepło sieciowe [GJ]
A4: Boisko ul. Nowowiejska 5/7 | B4: 253.93 | C4: energia elektryczna | D4: energia elektryczna | E4: 5 | F4: 5 | G4: 5 | H4: 5 | I4: 5 | J4: 5 | K4: 5 | L4: 5 | M4: 100 | N4: 100 | O4: 100 | P4: 1000 | Q4: brak planów | R4: 34240 | S4: - | T4: - | U4: - | V4: - | W4: brak
A5: Dom dla osób z zaburzeniami psychicznymi ul. Szkolna 14A | B5: 261 | C5: gaz | D5: gaz | E5: 4 | F5: 4 | G5: 4 | H5: 4 | I5: 5 | J5: 5 | K5: 5 | L5: 2 | M5: 100 | N5: 100 | O5: 100 | P5: 25 | Q5: 2016 - remont kapitalny dachu | R5: 5208 | S5: 4700 | T5: - | U5: - | V5: - | W5: brak
A6: Dom Dziecka "Słoneczko" ul. Głowackiego 11 | B6: 1118.605 | C6: gaz | D6: gaz | E6: 4 | F6: 3 | G6: 3 | H6: 2 | I6: 3 | J6: 4 | K6: 3 | L6: 2 | M6: brak info. | N6: brak info. | O6: 100 | P6: brak info. | Q6: brak planów | R6: 7280 | S6: 16155 | T6: - | U6: - | V6: - | W6: brak
A7: Dom Dziecka "Słoneczko" ul. Nowowiejska 18 | B7: 454.6 | C7: ciepło sieciowe | D7: ciepło sieciowe | E7: 5 | F7: 5 | G7: 5 | H7: 5 | I7: 5 | J7: 5 | K7: 5 | L7: 5 | M7: 100 | N7: 100 | O7: 100 | P7: 100 | Q7: brak planów | R7: 10520 | S7: - | T7: - | U7: - | V7: 143 | W7: brak
A8: Dom Dziennego Pobytu ul. Piłsudzkiego 34 | B8: 319.53 | C8: gaz | D8: gaz | E8: 5 | F8: 5 | G8: 5 | H8: 5 | I8: 2 | J8: 5 | K8: 2 | L8: 4 | M8: 0 | N8: 100 | O8: 0 | P8: 0 | Q8: brak planów | R8: 2650 | S8: 4782 | T8: - | U8: - | V8: - | W8: brak
A9: Dom Pomocy Społecznej nr 1 ul. Polna 56 | B9: 2542.03 | C9: gaz | D9: gaz | E9: 1 | F9: 1 | G9: 1 | H9: 1 | I9: 3 | J9: 3 | K9: 1 | L9: 3 | M9: 54 | N9: 60 | O9: 0 | P9: 40.3 | Q9: brak planów | R9: 86760 | S9: 62094 | T9: - | U9: - | V9: - | W9: brak
A10: Dom Pomocy Społecznej nr 2 ul. Jana Pawła II 37 | B10: 3203 | C10: ciepło sieciowe | D10: ciepło sieciowe | E10: 4 | F10: 1 | G10: 1 | H10: 4 | I10: 4 | J10: 4 | K10: 3 | L10: 4 | M10: brak info. | N10: brak info. | O10: 50 | P10: brak info. | Q10: brak planów | R10: brak info. | S10: - | T10: - | U10: - | V10: 1936 | W10: brak
A11: Dzielnicowy Ośrodek Kultury ul. Gminna 37/39 | B11: 291 | C11: olej opałowy | D11: energia elektryczna | E11: 3 | F11: 3 | G11: brak info. | H11: 3 | I11: 5 | J11: 5 | K11: 5 | L11: 1 | M11: 100 | N11: 100 | O11: 100 | P11: 0 | Q11: brak planów | R11: 8189 | S11: - | T11: - | U11: 4500 | V11: - | W11: brak
A12: Filia Domu Pomocy Społecznej ul. Farbiarska 27/29 | B12: 2595.8 | C12: energia elektryczna, węgiel kamienny, koks | D12: energia elektryczna, węgiel kamienny, koks | E12: 1 | F12: 1 | G12: 1 | H12: 1 | I12: 1 | J12: 3 | K12: 1 | L12: 1 | M12: 0 | N12: 20 | O12: 0 | P12: 0 | Q12: 2018-2020 - podłączenie do sieci ciepłowniczej | R12: 77823 | S12: - | T12: =72.06+38 -> 110.06 | U12: - | V12: - | W12: brak
A13: Gimnazjum nr 3 im. J.Piłsudzkiego 42/46 | B13: 2937.6 | C13: gaz | D13: gaz | E13: 4 | F13: 4 | G13: 4 | H13: 4 | I13: 4 | J13: 4 | K13: 4 | L13: 4 | M13: 100 | N13: 100 | O13: 100 | P13: 0 | Q13: brak planów | R13: 39574 | S13: =8910+337911 -> 346821 | T13: - | U13: - | V13: - | W13: brak
A14: Gimnazjum nr 6 ul. Jałowcowa 8 | B14: 3137 | C14: ciepło sieciowe | D14: ciepło sieciowe | E14: 5 | F14: 1 | G14: 5 | H14: 5 | I14: 5 | J14: 5 | K14: 3 | L14: 5 | M14: 100 | N14: 100 | O14: 0 | P14: 28 | Q14: 2017 - wymiana instalacji C.O | R14: 29150 | S14: 466 | T14: - | U14: - | V14: 1155 | W14: brak
A15: Gimnazjum nr 7 - hala sportowa ul. św. Antoniego 43/45 | B15: 2100 | C15: ciepło sieciowe | D15: ciepło sieciowe | E15: 2 | F15: 2 | G15: 3 | H15: 2 | I15: 2 | J15: 2 | K15: 2 | L15: 3 | M15: 90 | N15: 100 | O15: 0 | P15: 0 | Q15: 2017-2018 - termomodernizacja wraz z wentylacją | R15: 32847 | S15: - | T15: - | U15: - | V15: - | W15: brak
A16: Gimnazjum nr 7 ul. św. Antoniego 43/46 | B16: 2850 | C16: ciepło sieciowe | D16: ciepło sieciowe | E16: 4 | F16: 4 | G16: 5 | H16: 4 | I16: 4 | J16: 4 | K16: 4 | L16: 3 | M16: brak info. | N16: brak info. | O16: 100 | P16: 100 | Q16: 2017 - modernizacja oświetlenia | R16: 69721 | S16: 1993 | W16: brak
A17: I LO im. J. Dąbrowskiego ul. Mościckiego 22/24 | B17: 2886 | C17: ciepło sieciowe | D17: ciepło sieciowe, energia elektryczna | E17: brak | F17: 2 | G17: 2 | H17: 4 | I17: 5 | J17: 5 | K17: 5 | L17: 4 | M17: 100 | N17: 100 | O17: 100 | P17: 100 | Q17: 2017 - przechodzenie na żarówki LED; 2018 - wymiana instalacji elektrycznej; 2019 - instalowanie urządzeń elektrycznych o niskim poborze prądu; 2020 - wymiana instalacji C.O we wszystkich budynkach szkoły | R17: 52180 | S17: 707 | T17: - | U17: - | V17: 1271 | W17: brak
A18: II LO im. Stefana Żeromskiego ul. Jałowcowa 10 | B18: 3189 | C18: ciepło sieciowe | D18: ciepło sieciowe | E18: 4 | F18: 2 | G18: 3 | H18: 4 | I18: 4 | J18: 4 | K18: 4 | L18: 1 | M18: 0 | N18: 100 | O18: 100 | P18: 100 | Q18: brak planów | R18: 32802 | S18: 612 | T18: - | U18: - | V18: 1162 | W18: brak
A19: II LO im. Stefana Żeromskiego ul. Jałowcowa 10 Orlik | B19: 94.91 | C19: energia elektryczna | D19: energia elektryczna | E19: 4 | F19: - | G19: 4 | H19: 3 | I19: 4 | J19: 3 | K19: 4 | L19: 3 | M19: 100 | N19: 100 | O19: 100 | P19: 100 | Q19: brak planów | R19: 6655 | S19: - | T19: - | U19: - | V19: - | W19: brak
A20: Komenda Powiatowa ul. Langego 44 | B20: 4521 | C20: ciepło sieciowe | D20: ciepło sieciowe | E20: 4 | F20: 4 | G20: 4 | H20: 4 | I20: 4 | J20: 4 | K20: 4 | L20: 4 | M20: brak info. | N20: brak info. | O20: brak info. | P20: brak info. | Q20: brak planów | R20: 165942 | S20: - | T20: - | U20: - | V20: 1609 | W20: brak
A21: Komisariat Konny Policji Smardzewice | B21: 771 | C21: propan-butan | D21: propan-butan | E21: 4 | F21: 4 | G21: 4 | H21: 4 | I21: 4 | J21: 4 | K21: 4 | L21: 4 | M21: 100 | N21: 100 | O21: brak info. | P21: 100 | Q21: brak planów | R21: 12648 | S21: 6700 | T21: - | U21: - | V21: - | W21: brak
A22: Komisariat Policji w Czerniewicach | B22: 141.37 | C22: olej opałowy | D22: olej opałowy | E22: 4 | F22: 4 | G22: 4 | H22: 4 | I22: 4 | J22: 4 | K22: 3 | L22: 4 | M22: 100 | N22: brak info. | O22: brak info. | P22: brak info. | Q22: brak planów | R22: 13501 | S22: - | T22: - | U22: 2354 | V22: - | W22: brak
A23: Komisariat Policji w Rokicinach | B23: 207.48 | C23: olej opałowy | D23: olej opałowy | E23: 4 | F23: 4 | G23: 4 | H23: 4 | I23: 4 | J23: 4 | K23: 3 | L23: 4 | M23: 100 | N23: 100 | O23: brak info. | P23: 100 | Q23: brak planów | R23: 14295 | S23: - | T23: - | U23: 5100 | V23: - | W23: brak
A24: KP PSP ul. Warszawska 105 | B24: 1960.39 | C24: gaz | D24: gaz | E24: 4 | F24: 4 | G24: 4 | H24: 4 | I24: 5 | J24: 3 | K24: 5 | L24: 5 | M24: 0 | N24: 0 | O24: 0 | P24: 0 | Q24: brak planów | R24: 77921 | S24: 23761 | T24: - | U24: - | V24: - | W24: brak
A25: Kręgielnia - Tor Lodowy ul. Strzelecka 24/26 | B25: 1519.2 | C25: węgiel kamienny | D25: energia elektryczna | E25: 3 | F25: 2 | G25: 3 | H25: 4 | I25: 2 | J25: 4 | K25: 3 | L25: 2 | M25: 0 | N25: 0 | O25: 0 | P25: 0 | Q25: brak planów | R25: 49208 | S25: - | T25: 48 | U25: - | V25: - | W25: brak
A26: Miejska Bibliotek Publiczna Oddział dla Dzieci i Młodzieży Plac Kościuszki 18 | B26: 907.29 | C26: Gaz | D26: Gaz | E26: 5 | F26: 5 | G26: 5 | H26: 5 | I26: 5 | J26: 5 | K26: 5 | L26: 3 | M26: 100 | N26: 50 | O26: 100 | P26: 0 | Q26: brak planów | R26: 17259 | S26: 8372 | T26: - | U26: - | V26: - | W26: brak
A27: Miejska Biblioteka Publiczna ul. Mościkiego 6 | B27: 1768.6 | C27: ciepło sieciowe | D27: ciepło sieciowe | E27: 5 | F27: 5 | G27: 5 | H27: 4 | I27: 5 | J27: 4 | K27: 5 | L27: 4 | M27: 0 | N27: 0 | O27: 100 | P27: 20 | Q27: brak planów | R27: 34784 | S27: - | T27: - | U27: - | V27: 1209 | W27: brak
A28: Miejski Ośrodek Kultury ul. Browarna 7 | B28: 471 | C28: ciepło sieciowe | D28: energia elektryczna | E28: 4 | F28: 5 | G28: 4 | H28: brak | I28: 5 | J28: 5 | K28: 4 | L28: 4 | M28: 91 | N28: 100 | O28: 100 | P28: 100 | Q28: brak planów | R28: 14261 | S28: - | T28: - | U28: - | V28: 158 | W28: brak
A29: Miejski Ośrodek Pomocy Społecznej ul. Cekanowska 5 | B29: 1230.62 | C29: gaz | D29: gaz | E29: 5 | F29: 5 | G29: 5 | H29: 5 | I29: 5 | J29: 4 | K29: 3 | L29: 5 | M29: 100 | N29: 100 | O29: 100 | P29: 100 | Q29: brak planów | R29: 28578 | S29: 13420 | T29: - | U29: - | V29: - | W29: brak
A30: Młodzieżowy Dom Kultury ul. Mościckiego 3 | B30: 727.96 | C30: ciepło sieciowe | D30: energia elektryczna | E30: 5 | F30: 2 | G30: brak | H30: brak | I30: 5 | J30: 5 | K30: 4 | L30: 1 | M30: 100 | N30: 100 | O30: 100 | P30: 0 | Q30: 2016 - remont i ocieplenie dachu | R30: 15860 | S30: - | T30: - | U30: - | V30: 394 | W30: brak
A31: Młodzieżowy Dom Kultury ul. PCK 10 | B31: 415.11 | C31: węgiel kamienny | D31: brak wody w budynku | E31: 1 | F31: 2 | G31: brak wody | H31: 2 | I31: 5 | J31: 3 | K31: 5 | L31: 5 | M31: 100 | N31: 100 | O31: 100 | P31: 100 | Q31: 2016 - doprowadzenie wody | R31: 4187 | S31: - | T31: - | U31: - | V31: - | W31: brak
A32: Muzeum im Antoniego hr. Ostrowskiego u. POW 11/15 | B32: 1418 | C32: ciepło sieciowe | D32: energia elektryczna | E32: 4 | F32: 5 | G32: 5 | H32: 5 | I32: 5 | J32: 5 | K32: 5 | L32: 5 | M32: 0 | N32: 0 | O32: 0 | P32: 0 | Q32: brak planów | R32: 1300 | S32: - | T32: - | U32: - | V32: - | W32: brak
A33: NZOZ Przychodnia ul. Wilcza 29/31 | B33: 600 | C33: węgiel kamienny | D33: energia elektryczna | E33: 4 | F33: 3 | G33: 2 | H33: wentylacja grawitacyjna | I33: 5 | J33: 5 | K33: 5 | L33: 5 | M33: 100 | N33: 100 | O33: 100 | P33: 100 | Q33: brak planów | R33: 3100 | S33: - | T33: 12 | U33: - | V33: - | W33: brak
A34: OSIR Przystań ul. PCK 2/8 | B34: 435.77 | C34: energia elektryczna | D34: energia elektryczna | E34: 4 | F34: 4 | G34: 4 | H34: 4 | I34: 3 | J34: 4 | K34: 5 | L34: 3 | M34: 0 | N34: 100 | O34: 100 | P34: 0 | Q34: brak planów | R34: 41702 | S34: - | T34: - | U34: - | V34: - | W34: brak
A35: Ośrodek Kultury "Tkacz" ul. Niebrowska 50 | B35: 1092.82 | C35: ciepło sieciowe | D35: ciepło sieciowe | E35: 5 | F35: 5 | G35: 5 | H35: 5 | I35: 5 | J35: 5 | K35: 5 | L35: 5 | M35: 100 | N35: 100 | O35: 100 | P35: 100 | Q35: brak planów | R35: 39496 | S35: - | T35: - | U35: - | V35: 464 | W35: brak
A36: Ośrodek Rehabilitacji Dzieci Niepełnosprawnych ul. Jana Pawła II 64/66 | B36: brak info. | C36: gaz, energia elektryczna | D36: gaz, energia elektryczna | E36: 3 | F36: 3 | G36: 3 | H36: 3 | I36: 5 | J36: 3 | K36: 4 | L36: 5 | M36: 100 | N36: brak info. | O36: brak info. | P36: brak info. | Q36: brak planów | R36: 22434 | S36: 18412 | T36: - | U36: - | V36: - | W36: brak
A37: Oświatowe Przedszkole nr 8 ul. Stolarska 18/20 | B37: brak info. | C37: ciepło sieciowe | D37: ciepło sieciowe | E37: 5 | F37: 5 | G37: 3 | H37: 2 | I37: 5 | J37: 5 | K37: 2 | L37: 4 | M37: 100 | N37: 100 | O37: 100 | P37: 100 | Q37: brak planów | R37: 13513 | S37: 2115 | V37: 289 | W37: brak
A38: Szkoła Podstawowa ul. Stolarska 21/27 | B38: 3122.76 | C38: ciepło sieciowe | D38: ciepło sieciowe, energia elektryczna | E38: 5 | F38: 5 | G38: 2 | H38: 3 | I38: 5 | J38: 5 | K38: 1 | L38: 2 | M38: 100 | N38: 100 | O38: 0 | P38: 0 | Q38: brak planów | R38: 20518 | S38: 2590 | V38: 1048 | W38: 2016 - termomodernizacja budynku szkoły, modernizacja dachu
A39: Ośrodek Wypoczynkowy Przystań ul. PCK 2/8 | B39: 952.33 | C39: olej opałowy, węgiel kamienny | D39: olej opałowy, węgiel kamienny | E39: 4 | F39: 3 | G39: 4 | H39: 4 | I39: 4 | J39: 4 | K39: 4 | L39: 3 | M39: brak info. | N39: brak info. | O39: brak info. | P39: brak info. | Q39: brak planów | R39: 3380 | S39: - | T39: 8 | U39: 10000 | V39: - | W39: brak
A40: Podziemna Trasa Turystyczna i budynek Groty Nagórzyckie | B40: brak info. | C40: energia elektryczna | D40: energia elektryczna | E40: brak info. | F40: brak info. | G40: brak info. | H40: brak info. | I40: brak info. | J40: brak info. | K40: brak info. | L40: brak info. | M40: brak info. | N40: brak info. | O40: brak info. | P40: brak info. | Q40: brak planów | R40: 53213 | S40: - | T40: - | U40: - | V40: - | W40: brak
...

Sheet Emisje - transport
A1: Transport lokalny - rok bazowy 2014 oraz scenariusz pasywny - emisje CO2e | I1: Transport lokalny - scenariusz umiarkowany - emisje CO2e | Q1: Transport lokalny - scenariusz aktywny - emisje CO2e
A2: rok | B2: pojazdy zarejestrowane na terenie gminy [szt.] | C2: średnioroczny przebieg jednostkowy samochodu osobowego [km] | D2: zużycie paliw na 100 km | E2: ilość zużytego paliwa [l] | F2: energia finalna [MWh] | G2: emisja [MgCO2e] | I2: rok | J2: pojazdy zarejestrowane na terenie gminy [szt.] | K2: średnioroczny przebieg jednostkowy samochodu osobowego [km] | L2: zużycie paliw na 100 km | M2: ilość zużytego paliwa [l] | N2: energia finalna [MWh] | O2: emisja [MgCO2e] | Q2: rok | R2: pojazdy zarejestrowane na terenie gminy [szt.] | S2: średnioroczny przebieg jednostkowy samochodu osobowego [km] | T2: zużycie paliw na 100 km | U2: ilość zużytego paliwa [l] | V2: energia finalna [MWh] | W2: emisja [MgCO2e]
A3: 2012 | B3: 26553 | C3: 12956 | D3: 8.1 | E3: =B3*$C$3*(D3/100) -> 27865674 | F3: =E3*$B$33/3600 -> 346772.83 | G3: =$B$32*F3 -> 88080.3 | I3: 2012 | J3: 26553 | K3: 12956 | L3: 8.1 | M3: 27865674 | N3: =M3*$B$33/3600 -> 346772.83 | O3: =$B$32*N3 -> 88080.3 | Q3: 2012 | R3: 26553 | S3: 12956 | T3: 8.1 | U3: 27865674 | V3: =U3*$B$33/3600 -> 346772.83 | W3: =$B$32*V3 -> 88080.3
A4: 2014 | B4: 33001 | C4: 12956 | D4: 7.7 | E4: =B4*$C$3*(D4/100) -> 32922194 | F4: =E4*$B$33/3600 -> 409698.41 | G4: =$B$32*F4 -> 104063.4 | I4: 2014 | J4: 33001 | K4: 12956 | L4: 7.7 | M4: 32922194 | N4: =M4*$B$33/3600 -> 409698.41 | O4: =$B$32*N4 -> 104063.4 | Q4: 2014 | R4: 33001 | S4: 12956 | T4: 7.7 | U4: 32922194 | V4: =U4*$B$33/3600 -> 409698.41 | W4: =$B$32*V4 -> 104063.4
A5: 2020 | B5: 50000 | C5: 12956 | D5: 7.3 | E5: =B5*$C$3*(D5/100) -> 47289400 | F5: =E5*$B$33/3600 -> 588490.31 | G5: =$B$32*F5 -> 149476.54 | I5: 2020 | J5: 45000 | K5: 12956 | L5: 7.3 | M5: 42560460 | N5: =M5*$B$33/3600 -> 529641.28 | O5: =$B$32*N5 -> 134528.89 | Q5: 2020 | R5: 40000 | S5: 12956 | T5: 7.3 | U5: 37831520 | V5: =U5*$B$33/3600 -> 470792.25 | W5: =$B$32*V5 -> 119581.23
A7: Tranzyt
A8: numer punktu pomiarowego | B8: numer drogi | C8: długość [km] | D8: pojazdy silnikowe ogółem | E8: motocykle | F8: samochody osobowe, Mikrobusy | G8: lekkie ciężarowe (dostawcze) | H8: ciężarowe | J8: autobusy | K8: ciągniki rolnicze
H9: bez przyczepy | I9: z przycepą
A10: 91410 | B10: 8 | C10: 8.7 | D10: 27154 | E10: 45 | F10: 15417 | G10: 2787 | H10: 1658 | I10: 7093 | J10: 152 | K10: 2
A11: 91409 | B11: 8 | C11: 5.3 | D11: 25819 | E11: 49 | F11: 14682 | G11: 2478 | H11: 1549 | I11: 6926 | J11: 132 | K11: 3
A12: 91408 | B12: 8 | C12: 14.6 | D12: 30177 | E12: 73 | F12: 18331 | G12: 2754 | H12: 1766 | I12: 7050 | J12: 200 | K12: 3
A14: rok | B14: średnioroczne zużycie paliw dla poszczególnych klas pojazdów [l/100km]
B15: motocykle | C15: samochody osobowe, Mikrobusy | D15: lekkie ciężarowe (dostawcze) | E15: ciężarowe | G15: autobusy | H15: ciągniki rolnicze
E16: bez przyczepy | F16: z przycepą
A17: 2010 | B17: 5 | C17: 10 | D17: 10.5 | E17: 10.5 | F17: 24.8 | G17: 10.5 | H17: 10.5
A18: 2015 | B18: 4.8 | C18: 9.7 | D18: 9.6 | E18: 9.6 | F18: 25 | G18: 9.6 | H18: 9.6
A19: 2020 | B19: 4.6 | C19: 9.2 | D19: 8.8 | E19: 8.8 | F19: 25.1 | G19: 8.8 | H19: 8.8
A21: rok pomiarów | B21: numer punktu pomiarowego | C21: energia finalna [MWh] | D21: emisja [MgCO2e/rok] | E21: suma emisji w danym roku [MgCO2e/rok] | G21: zużycie paliw przez poszczególne rodzaje pojazdów [l/dobę] | P21: suma zużycia paliw [l/rok]
A22: 2010 | B22: 91410 | C22: =$P$24*$B$33/3600 -> 149609.03 | D22: =C22*0.254 -> 38000.693 | E22: =SUM(D22:D24) -> 128911.5 | G22: rok | H22: numer punktu pomiarowego | I22: Motocykle | J22: samochody osobowe, Mikrobusy | K22: lekkie ciężarowe (dostawcze) | L22: ciężarowe | N22: autobusy | O22: ciągniki rolnicze
B23: 91409 | C23: =$P$27*$B$33/3600 -> 87274.859 | D23: =C23*0.254 -> 22167.814 | L23: bez przyczepy | M23: z przycepą
B24: 91408 | C24: =$P$30*$B$33/3600 -> 270641.72 | D24: =C24*0.254 -> 68742.997 | G24: 2010 | H24: 91410 | I24: =$E$10*$C$10*((1*B17)/100) -> 19.575 | J24: =$F$10*$C$10*((1*C17)/100) -> 13412.79 | K24: =$G$10*$C$10*((1*D17)/100) -> 2545.9245 | L24: =$H$10*$C$10*((1*E17)/100) -> 1514.583 | M24: =$I$10*$C$10*((1*F17)/100) -> 15303.857 | N24: =$J$10*$C$10*((1*G17)/100) -> 138.852 | O24: =$K$10*$C$10*((1*H17)/100) -> 1.827 | P24: =SUM(I24:O24)*365 -> 12022154
A25: 2014 | B25: 91410 | C25: =$P$25*$B$33/3600 -> 146702.69 | D25: =C25*0.254 -> 37262.482 | E25: =SUM(D25:D27) -> 126351.74 | G25: 2014 | I25: =$E$10*$C$10*((1*B18)/100) -> 18.792 | J25: =$F$10*$C$10*((1*C18)/100) -> 13010.406 | K25: =$G$10*$C$10*((1*D18)/100) -> 2327.7024 | L25: =$H$10*$C$10*((1*E18)/100) -> 1384.7616 | M25: =$I$10*$C$10*((1*F18)/100) -> 15427.275 | N25: =$J$10*$C$10*((1*G18)/100) -> 126.9504 | O25: =$K$10*$C$10*((1*H18)/100) -> 1.6704 | P25: =SUM(I25:O25)*365 -> 11788609
B26: 91409 | C26: =$P$28*$B$33/3600 -> 85643.861 | D26: =C26*0.254 -> 21753.541 | G26: 2020 | I26: =$E$10*$C$10*((1*B19)/100) -> 18.009 | J26: =$F$10*$C$10*((1*C19)/100) -> 12339.767 | K26: =$G$10*$C$10*((1*D19)/100) -> 2133.7272 | L26: =$H$10*$C$10*((1*E19)/100) -> 1269.3648 | M26: =$I$10*$C$10*((1*F19)/100) -> 15488.984 | N26: =$J$10*$C$10*((1*G19)/100) -> 116.3712 | O26: =$K$10*$C$10*((1*H19)/100) -> 1.5312 | P26: =SUM(I26:O26)*365 -> 11449230
B27: 91408 | C27: =$P$31*$B$33/3600 -> 265101.25 | D27: =C27*0.254 -> 67335.717 | G27: 2010 | H27: 91409 | I27: =$E$11*$C$11*((1*B17)/100) -> 12.985 | J27: =$F$11*$C$11*((1*C17)/100) -> 7781.46 | K27: =$G$11*$C$11*((1*D17)/100) -> 1379.007 | L27: =$H$11*$C$11*((1*E17)/100) -> 862.0185 | M27: =$I$11*$C$11*((1*F17)/100) -> 9103.5344 | N27: =$J$11*$C$11*((1*G17)/100) -> 73.458 | O27: =$K$11*$C$11*((1*H17)/100) -> 1.6695 | P27: =SUM(I27:O27)*365 -> 7013158.3
A28: 2020 | B28: 91410 | C28: =$P$26*$B$33/3600 -> 142479.31 | D28: =C28*0.254 -> 36189.745 | E28: =SUM(D28:D30) -> 122604.25 | G28: 2014 | I28: =$E$11*$C$11*((1*B18)/100) -> 12.4656 | J28: =$F$11*$C$11*((1*C18)/100) -> 7548.0162 | K28: =$G$11*$C$11*((1*D18)/100) -> 1260.8064 | L28: =$H$11*$C$11*((1*E18)/100) -> 788.1312 | M28: =$I$11*$C$11*((1*F18)/100) -> 9176.95 | N28: =$J$11*$C$11*((1*G18)/100) -> 67.1616 | O28: =$K$11*$C$11*((1*H18)/100) -> 1.5264 | P28: =SUM(I28:O28)*365 -> 6882096
B29: 91409 | C29: =$P$29*$B$33/3600 -> 83239.42 | D29: =C29*0.254 -> 21142.813 | G29: 2020 | I29: =$E$11*$C$11*((1*B19)/100) -> 11.9462 | J29: =$F$11*$C$11*((1*C19)/100) -> 7158.9432 | K29: =$G$11*$C$11*((1*D19)/100) -> 1155.7392 | L29: =$H$11*$C$11*((1*E19)/100) -> 722.4536 | M29: =$I$11*$C$11*((1*F19)/100) -> 9213.6578 | N29: =$J$11*$C$11*((1*G19)/100) -> 61.5648 | O29: =$K$11*$C$11*((1*H19)/100) -> 1.3992 | P29: =SUM(I29:O29)*365 -> 6688882
B30: 91408 | C30: =$P$32*$B$33/3600 -> 256975.16 | D30: =C30*0.254 -> 65271.691 | G30: 2010 | H30: 91408 | I30: =$E$12*$C$12*((1*B17)/100) -> 53.29 | J30: =$F$12*$C$12*((1*C17)/100) -> 26763.26 | K30: =$G$12*$C$12*((1*D17)/100) -> 4221.882 | L30: =$H$12*$C$12*((1*E17)/100) -> 2707.278 | M30: =$I$12*$C$12*((1*F17)/100) -> 25526.64 | N30: =$J$12*$C$12*((1*G17)/100) -> 306.6 | O30: =$K$12*$C$12*((1*H17)/100) -> 4.599 | P30: =SUM(I30:O30)*365 -> 21747995
G31: 2014 | I31: =$E$12*$C$12*((1*B18)/100) -> 51.1584 | J31: =$F$12*$C$12*((1*C18)/100) -> 25960.362 | K31: =$G$12*$C$12*((1*D18)/100) -> 3860.0064 | L31: =$H$12*$C$12*((1*E18)/100) -> 2475.2256 | M31: =$I$12*$C$12*((1*F18)/100) -> 25732.5 | N31: =$J$12*$C$12*((1*G18)/100) -> 280.32 | O31: =$K$12*$C$12*((1*H18)/100) -> 4.2048 | P31: =SUM(I31:O31)*365 -> 21302779
A32: wskaźnik emisji CO2 | B32: 0.254 | G32: 2020 | I32: =$E$12*$C$12*((1*B19)/100) -> 49.0268 | J32: =$F$12*$C$12*((1*C19)/100) -> 24622.199 | K32: =$G$12*$C$12*((1*D19)/100) -> 3538.3392 | L32: =$H$12*$C$12*((1*E19)/100) -> 2268.9568 | M32: =$I$12*$C$12*((1*F19)/100) -> 25835.43 | N32: =$J$12*$C$12*((1*G19)/100) -> 256.96 | O32: =$K$12*$C$12*((1*H19)/100) -> 3.8544 | P32: =SUM(I32:O32)*365 -> 20649790
A33: wartość opałowa paliw [MJ/kg] | B33: 44.8
A34: wskaźnik emisji beznoapirenu | B34: 0
A35: wskaźnik emisji pyłu [kg/m3] | B35: 1
A37: Transport lokalny - emisja pyłu
A38: rok | B38: pojazdy zarejestrowane na terenie gminy [szt.] | C38: średnioroczny przebieg jednostkowy samochodu osobowego [km] | D38: zużycie paliw na 100 km | E38: ilość zużytego paliwa [l] | F38: energia finalna [MWh] | G38: emisja pyłu [kg]
A39: 2012 | B39: 26553 | C39: 12956 | D39: 8.1 | E39: =B39*$C$3*(D39/100) -> 27865674 | F39: =E39*$B$33/3600 -> 346772.83 | G39: =E39/1000 -> 27865.674
A40: 2014 | B40: 33001 | C40: 12956 | D40: 7.7 | E40: =B40*$C$3*(D40/100) -> 32922194 | F40: =E40*$B$33/3600 -> 409698.41 | G40: =E40/1000 -> 32922.194
A41: 2020 | B41: 50000 | C41: 12956 | D41: 7.3 | E41: =B41*$C$3*(D41/100) -> 47289400 | F41: =E41*$B$33/3600 -> 588490.31 | G41: =E41/1000 -> 47289.4
A44: rok pomiarów | B44: numer punktu pomiarowego | C44: energia finalna [MWh] | D44: emisja [kg/l] | E44: suma emisji w danym roku [kg/m3]
A45: 2010 | B45: 91410 | C45: =$P$24*$B$33/3600 -> 149609.03 | D45: =$P$24/1000 -> 12022.154 | E45: =SUM(D45:D47) -> 40783.308
B46: 91409 | C46: =$P$27*$B$33/3600 -> 87274.859 | D46: =$P$27/1000 -> 7013.1583
...

Sheet Emisje - usługi i prod.
A1: emisje CO2e - rok bazowy 2014
A2: nośniki energii | B2: zużycie paliw | C2: jednostka | D2: wartość opałowa [MJ/kg] / [MJ/m3] | E2: energia finalna [MWh] | F2: Krajowe wskaźniki emisji [MgCO2e/MWh] | G2: emisja [MgCO2e]
A3: energia elektryczna | B3: =149992.81+32706.96 -> 182699.77 | C3: MWh | D3: - | E3: =B3 -> 182699.77 | F3: 0.446 | G3: =E3*F3 -> 81484.097
A4: gaz ziemny | B4: =C12*D12+B21 -> 47584068 | C4: m3 | D4: 35.94 | E4: =B4*D4/3600 -> 475047.62 | F4: 0.2 | G4: =F4*E4 -> 95009.523
A5: olej opałowy | B5: =C13*D13 -> 912444.44 | C5: l | D5: 40.19 | E5: =B5*D5/3600 -> 10186.428 | F5: 0.27 | G5: =F5*E5 -> 2750.3357
A6: węgiel kamienny | B6: =C14*D14 -> 1345.4482 | C6: Mg | D6: 22.63 | E6: =(D6*B6)/3.6 -> 8457.637 | F6: 0.318 | G6: =F6*E6 -> 2689.5286
A7: ciepło sieciowe | B7: =0.05*325346+0.0223*'Emisje - sektor mieszkalny'!B10 -> 18463.056 | C7: GJ | D7: - | E7: =B7*3.6 -> 66467.001 | F7: 0.094 | G7: =B7*0.094 -> 1735.5272
E8: =SUM(E3:E7) -> 742858.45 | G8: =SUM(G3:G7) -> 183669.01
A10: Sposób wyliczenia zużycia paliw
A11: nośniki energii | B11: procent budynków ogrzewanych danym paliwem | C11: liczba budynków | D11: średnie zużycie paliw | E11: jednostka
A12: gaz ziemny | B12: ='Emisje - ob. uż. publ.'!E78 -> 23.333333 | C12: =B12*$B$17/100 -> 958.06667 | D12: ='Emisje - sektor mieszkalny'!F20 -> 1775 | E12: m3 | I12: krajowe wskaźniki emisji pyłu [kg/MWh] | L12: krajowe wskaźniki emisji benzoapirenu [g/jednostka zużycia paliwa]
A13: olej opałowy | B13: ='Emisje - ob. uż. publ.'!E81 -> 8.3333333 | C13: =B13*$B$17/100 -> 342.16667 | D13: ='Emisje - sektor mieszkalny'!F21 -> 2666.6667 | E13: l
A14: węgiel kamienny | B14: ='Emisje - ob. uż. publ.'!E79 -> 8.3333333 | C14: =B14*$B$17/100 -> 342.16667 | D14: ='Emisje - sektor mieszkalny'!F22 -> 3.9321429 | E14: Mg | I14: 4.92 | J14: energia elektryczna | L14: 0 | M14: energia elektryczna
I15: 0.42 | J15: gaz ziemny | L15: 0.0005 | M15: gaz ziemny
I16: 3.26 | J16: olej opałowy | L16: 0.3111376 | M16: olej opałowy
A17: ilość podmiotów gospodarczych | B17: 4106 | I17: 3.56 | J17: węgiel kamienny | L17: 14 | M17: węgiel kamienny
I18: 2.83 | J18: drewno/biomasa | L18: 0 | M18: drewno/biomasa
A19: Ceramika Paradyż | I19: 3.56 | J19: ekogroszek | L19: 14 | M19: ekogroszek
A20: emisja CO2 [Mg/rok] | B20: 91767 | I20: 1.64 | J20: ciepło sieciowe (spółdzielnia mieszkaniowa Przodownik - kotłownia ul. Zawadzka) | L20: 0.0005 | M20: ciepło sieciowe (spółdzielnia mieszkaniowa Przodownik - kotłownia ul. Zawadzka)
A21: zużycie gazu [m3] | B21: =B20*1000/2 -> 45883500 | I21: 1.64 | J21: ciepło sieciowe (zakład gospodarki ciepłowniczej - kotłowania ul. Wierzbowa) | L21: 0.0005 | M21: ciepło sieciowe (zakład gospodarki ciepłowniczej - kotłowania ul. Wierzbowa)
A23: nośniki energii | B23: emisja CO2e [%] | D23: nośniki energii | E23: energia [%]
A24: energia elektryczna | B24: =G3/$G$8*100 -> 44.364641 | D24: energia elektryczna | E24: =E3/$E$8*100 -> 24.594156
A25: gaz ziemny | B25: =G4/$G$8*100 -> 51.728662 | D25: gaz ziemny | E25: =E4/$E$8*100 -> 63.948605
A26: olej opałowy | B26: =G5/$G$8*100 -> 1.4974413 | D26: olej opałowy | E26: =E5/$E$8*100 -> 1.3712476
A27: węgiel kamienny | B27: =G6/$G$8*100 -> 1.4643344 | D27: węgiel kamienny | E27: =E6/$E$8*100 -> 1.138526
A28: ciepło sieciowe (zakład gospodarki ciepłowniczej - kotłowania ul. Wierzbowa) | B28: =G7/$G$8*100 -> 0.9449211 | D28: ciepło sieciowe (zakład gospodarki ciepłowniczej - kotłowania ul. Wierzbowa) | E28: =E7/$E$8*100 -> 8.9474651
B29: =SUM(B24:B28) -> 100 | E29: =SUM(E24:E28) -> 100
A31: emisje CO2e - scenariusz pasywny
A32: nośniki energii | B32: zużycie paliw | C32: prognozowane zużycie według scenariusza pasywnego w 2020 r. | D32: jednostka | E32: wartość opałowa [MJ/kg] / [MJ/m3] | F32: energia finalna [MWh] | G32: Krajowe wskaźniki emisji [MgCO2e/MWh] | H32: emisja [MgCO2e]
A33: energia elektryczna | B33: 182699.77 | C33: 180800.42 | D33: MWh | E33: - | F33: =C33 -> 180800.42 | G33: 0.446 | H33: =F33*G33 -> 80636.989
A34: gaz ziemny | B34: 47584068 | C34: 49443854 | D34: m3 | E34: 35.94 | F34: =C34*E34/3600 -> 493614.47 | G34: 0.2 | H34: =G34*F34 -> 98722.894
A35: olej opałowy | B35: 912444.44 | C35: 767514.87 | D35: l | E35: 40.19 | F35: =C35*E35/3600 -> 8568.4507 | G35: 0.27 | H35: =G35*F35 -> 2313.4817
A36: węgiel kamienny | B36: 1345.4482 | C36: 1131.7418 | D36: Mg | E36: 22.63 | F36: =(E36*C36)/3.6 -> 7114.2547 | G36: 0.318 | H36: =G36*F36 -> 2262.333
A37: ciepło sieciowe | B37: 18463.056 | C37: 20098.225 | D37: GJ | E37: - | F37: =C37*3.6 -> 72353.611 | G37: 0.094 | H37: =C37*0.094 -> 1889.2332
F38: =SUM(F33:F37) -> 762451.21 | H38: =SUM(H33:H37) -> 185824.93
A40: emisje CO2e - scenariusz umiarkowany
A41: nośniki energii | B41: zużycie paliw | C41: prognozowane zużycie według scenariusza umiarkowanego w 2020 r. | D41: jednostka | E41: wartość opałowa [MJ/kg] / [MJ/m3] | F41: energia finalna [MWh] | G41: Krajowe wskaźniki emisji [MgCO2e/MWh] | H41: emisja [MgCO2e]
A42: energia elektryczna | B42: 182699.77 | C42: 169008.71 | D42: MWh | E42: - | F42: =C42 -> 169008.71 | G42: 0.446 | H42: =F42*G42 -> 75377.883
A43: gaz ziemny | B43: 47584068 | C43: 48420061 | D43: m3 | E43: 35.94 | F43: =C43*E43/3600 -> 483393.61 | G43: 0.2 | H43: =G43*F43 -> 96678.722
A44: olej opałowy | B44: 912444.44 | C44: 633051.1 | D44: l | E44: 40.19 | F44: =C44*E44/3600 -> 7067.3122 | G44: 0.27 | H44: =G44*F44 -> 1908.1743
...

Sheet MZK
A1: Emisja CO2 | F1: Emisja pył
A2: Wyszczególnienie | B2: Zużycie | C2: Energia finalna [MWh] | D2: Emisja [MgCO2e] | F2: Wyszczególnienie | G2: Zużycie | H2: Energia finalna [MWh] | I2: Emisja pył [kg]
A3: Olej napędowy [l] | B3: 469023 | C3: =B3*43.33/3600 -> 5645.2129 | D3: =0.264*C3 -> 1490.3362 | F3: Olej napędowy [l] | G3: 469023 | H3: 5645.2129 | I3: =G3/1000 -> 469.023
A4: Energia elektryczna w budynkach MZK [MWh] | B4: 95.4 | C4: =B4 -> 95.4 | D4: =0.45*C4 -> 42.93 | F4: Energia elektryczna w budynkach MZK [MWh] | G4: 95.4 | H4: =G4 -> 95.4 | I4: =H4*'Emisje - sektor mieszkalny'!H83 -> 469.368
A5: Olej opałowy w budynkach MZK [l] | B5: 64032 | C5: =B5*40.19/3600 -> 714.84613 | D5: =C5*0.27 -> 193.00846 | F5: Olej opałowy w budynkach MZK [l] | G5: 64032 | H5: =G5*'Emisje - sektor mieszkalny'!F6/3600 -> 714.84613 | I5: =H5*'Emisje - sektor mieszkalny'!H85 -> 2330.3984
C6: =SUM(C3:C5) -> 6455.4591 | D6: =SUM(D3:D5) -> 1726.2747 | H6: =H5+H4+H3 -> 6455.4591 | I6: =I5+I4+I3 -> 3268.7894
A8: Obliczenia emisji po modernizacji taboru - zakup 20 autobusów hybrydowych (dla MZK) | F8: Obliczenia emisji po modernizacji taboru - zakup 20 autobusów hybrydowych (dla MZK)
A9: Wariant I - modernizacja floty w 51% | C9: Wariant I - modernizacja floty w 60 % | F9: Wariant I - modernizacja floty w 51% | H9: Wariant I - modernizacja floty w 60 %
A10: Zużycie oleju napędowego [l] | B10: =B3-(B3*0.53*0.325)-(B3-(39/42*B3)) -> 354732.15 | C10: Zużycie oleju napędowego [l] | D10: =B3-(B3*0.6*0.325)-(B3-(38/42*B3)) -> 332894.66 | F10: Zużycie oleju napędowego [l] | G10: =B10 -> 354732.15 | H10: Zużycie oleju napędowego [l] | I10: =D10 -> 332894.66
A11: energia finalna [MWh] | B11: =B10*43.33/3600 -> 4269.5955 | C11: energia finalna [MWh] | D11: =D10*43.33/3600 -> 4006.7571 | F11: energia finalna [MWh] | G11: =G10*43.33/3600 -> 4269.5955 | H11: energia finalna [MWh] | I11: =I10*43.33/3600 -> 4006.7571
A12: Emisja [MgCO2e] | B12: =0.264*B11 -> 1127.1732 | C12: Emisja [MgCO2e] | D12: =0.264*D11 -> 1057.7839 | F12: Emisja pył [kg] | G12: =G10/1000 -> 354.73215 | H12: Emisja pył [kg] | I12: =I10/1000 -> 332.89466
A13: % redukcji emisji spalin | B13: =100-(B12/D3*100) -> 24.367857 | C13: % redukcji emisji spalin | D13: =100-(D12/D3*100) -> 29.02381 | F13: % redukcji emisji | G13: =100-(G12/I3*100) -> 24.367857 | H13: % redukcji emisji | I13: =100-(I12/I3*100) -> 29.02381
A14: Oszczędności paliwa [l] | B14: =B3-B10 -> 114290.85 | C14: Oszczędności paliwa [l] | D14: =B3-D10 -> 136128.34 | F14: Oszczędności paliwa [l] | G14: =G3-G10 -> 114290.85 | H14: Oszczędności paliwa [l] | I14: =G3-I10 -> 136128.34
A15: Redukcja kosztów [zł] | B15: =B14*3.5 -> 400017.99 | C15: Redukcja kosztów [zł] | D15: =D14*3.5 -> 476449.2 | F15: Redukcja kosztów [zł] | G15: =G14*3.5 -> 400017.99 | H15: Redukcja kosztów [zł] | I15: =I14*3.5 -> 476449.2
A17: Emisje - beznoapiren
A18: Wyszczególnienie | B18: Zużycie | C18: Energia finalna [MWh] | D18: Emisja benzoapirenu [g]
A19: Olej napędowy [l] | B19: 469023 | C19: =B19*43.33/3600 -> 5645.2129 | D19: 0
A20: Energia elektryczna w budynkach MZK [MWh] | B20: 95.4 | C20: =B20 -> 95.4 | D20: 0
A21: Olej opałowy w budynkach MZK [l] | B21: =64032/1000 -> 64.032 | C21: =B21*40.19/3.6 -> 714.84613 | D21: =B21*0.3114 -> 19.939565
C22: =SUM(C19:C21) -> 6455.4591 | D22: =SUM(D19:D21) -> 19.939565
A24: Obliczenia emisji CO2 po modernizacji polegającej na zakupie 5 autobusów hybrydowych w ramach realizacji projektu pod nazwą: „Niskoemisyjne autobusy hybrydowe wraz z zapleczem technicznym do ich obsługi elementami nowoczesnego systemu transportu zbiorowego w Tomaszowie Mazowieckim”. | D24: Obliczenia emisji pyłu po modernizacji polegającej na zakupie 5 autobusów hybrydowych w ramach realizacji projektu pod nazwą: „Niskoemisyjne autobusy hybrydowe wraz z zapleczem technicznym do ich obsługi elementami nowoczesnego systemu transportu zbiorowego w Tomaszowie Mazowieckim”.
A25: Zużycie oleju napędowego [l] | B25: =B3-(0.325*B3*0.125)-(B3-(39/42*B3)) -> 416467.3 | D25: Zużycie oleju napędowego [l] | E25: =B25 -> 416467.3
A26: energia finalna [MWh] | B26: =B25*43.33/3600 -> 5012.6467 | D26: energia finalna [MWh] | E26: =B26 -> 5012.6467
A27: Emisja [MgCO2e] | B27: =0.264*B26 -> 1323.3387 | D27: Emisja pył [kg] | E27: =E25/1000 -> 416.4673
A28: % redukcji emisji spalin | B28: =100-(B27/D3*100) -> 11.205357 | D28: % redukcji emisji | E28: =100-(E27/I3*100) -> 11.205357
A29: Oszczędności paliwa [l] | B29: =B3-B25 -> 52555.702 | D29: Oszczędności paliwa [l] | E29: =B29 -> 52555.702
A30: Redukcja kosztów [zł] | B30: =B29*3.5 -> 183944.96 | D30: Redukcja kosztów [zł] | E30: =B30 -> 183944.96

Sheet Oświetlenie
A1: Emisja CO2 - rok bazowy 2014 | F1: krajowe wskaźniki emisji pyłu [kg/MWh] | I1: krajowe wskaźniki emisji benzoapirenu [g/jednostka zużycia paliwa]
A2: oświetlenie dróg i przestrzeni publicznej | B2: energia finalna [MWh] | C2: emisja [MgCO2e]
B3: 3070.72 | C3: 1381.82 | F3: 4.92 | G3: energia elektryczna | I3: 0 | J3: energia elektryczna
F4: 0.42 | G4: gaz ziemny | I4: 0.0005 | J4: gaz ziemny
A5: Scenariusz pasywny | F5: 3.26 | G5: olej opałowy | I5: 0.3111376 | J5: olej opałowy
A6: oświetlenie dróg i przestrzeni publicznej | B6: energia finalna [MWh] | C6: energia finalna po modernizacjach [MWh] | D6: emisja [MgCO2e] | F6: 3.56 | G6: węgiel kamienny | I6: 14 | J6: węgiel kamienny
B7: 3070.72 | C7: 2763.648 | D7: =C7*'Emisje - sektor mieszkalny'!$H$4 -> 1232.587 | F7: 2.83 | G7: drewno/biomasa | I7: 0 | J7: drewno/biomasa
F8: 3.56 | G8: ekogroszek | I8: 14 | J8: ekogroszek
F9: 1.64 | G9: ciepło sieciowe (spółdzielnia mieszkaniowa Przodownik - kotłownia ul. Zawadzka) | I9: 0.0005 | J9: ciepło sieciowe (spółdzielnia mieszkaniowa Przodownik - kotłownia ul. Zawadzka)
A10: Scenariusz umiarkowany | F10: 1.64 | G10: ciepło sieciowe (zakład gospodarki ciepłowniczej - kotłowania ul. Wierzbowa) | I10: 0.0005 | J10: ciepło sieciowe (zakład gospodarki ciepłowniczej - kotłowania ul. Wierzbowa)
A11: oświetlenie dróg i przestrzeni publicznej | B11: energia finalna [MWh] | C11: energia finalna po modernizacjach [MWh] | D11: emisja [MgCO2e]
B12: 3070.72 | C12: 2456.576 | D12: =C12*'Emisje - sektor mieszkalny'!$H$4 -> 1095.6329
A14: Scenariusz aktywny
A15: oświetlenie dróg i przestrzeni publicznej | B15: energia finalna [MWh] | C15: energia finalna po modernizacjach [MWh] | D15: emisja [MgCO2e]
B16: 3070.72 | C16: 2149.504 | D16: =C16*'Emisje - sektor mieszkalny'!$H$4 -> 958.67878
A18: Emisja - pył - rok bazowy 2014
A19: oświetlenie dróg i przestrzeni publicznej | B19: energia finalna [MWh] | C19: emisja [kg/MWh]
B20: 3070.72 | C20: =B20*$F$3 -> 15107.942
A22: Emisja - pył - scenariusz aktywny
A23: oświetlenie dróg i przestrzeni publicznej | B23: energia finalna [MWh] | C23: energia finalna po modernizacjach [MWh] | D23: emisja [kg/MWh]
B24: 3070.72 | C24: 2149.504 | D24: =C24*$F$3 -> 10575.56

Sheet Emisje 
A1: Emisja CO2e - rok bazowy 2014
A2: sektor | B2: suma [MgCO2e] - rok bazowy 2014 | D2: rodzaj nośnika energii | E2: emisja [MgCO2e] | G2: sektor | H2: energia finalna [MWh] | J2: sektor | K2: energia finalna [MWh] - rok bazowy 2014 | M2: Rodzaj nośnika energii | N2: Zużycie | O2: energia finalna [MWh]
A3: transport lokalny oraz tranzyt | B3: ='Emisje - transport'!D25+'Emisje - transport'!D26+'Emisje - transport'!D27+'Emisje - transport'!G4 -> 230415.14 | D3: gaz ziemny | E3: ='Emisje - ob. uż. publ.'!F96+'Emisje - sektor mieszkalny'!I5+'Emisje - usługi i prod.'!G4 -> 101158.83 | G3: transport lokalny oraz tranzyt | H3: ='Emisje - transport'!C25+'Emisje - transport'!C26+'Emisje - transport'!C27+'Emisje - transport'!F4 -> 907146.2 | J3: gaz ziemny | K3: 505794.16 | M3: Gaz ziemny [m3] | N3: 50663856 | O3: 505794.16
A4: oświetlenie dróg i przestrzeni publicznej | B4: =Oświetlenie!C3 -> 1381.82 | D4: węgiel kamienny | E4: ='Emisje - ob. uż. publ.'!F97+'Emisje - sektor mieszkalny'!I7+'Emisje - usługi i prod.'!G6 -> 41877.562 | G4: oświetlenie dróg i przestrzeni publicznej | H4: =Oświetlenie!B3 -> 3070.72 | J4: węgiel kamienny | K4: 131690.45 | M4: Węgiel [Mg] | N4: 19603.98 | O4: 131690.45
A5: sektor transportu publicznego | B5: =SUM(MZK!D3:D5) -> 1726.2747 | D5: eko-groszek | E5: ='Emisje - sektor mieszkalny'!I9 -> 3964.0185 | G5: sektor transportu publicznego | H5: =MZK!C3+MZK!C4+MZK!C5 -> 6455.4591 | J5: eko-groszek | K5: 12664.596 | M5: Eko-groszek [Mg] | N5: 1720.47 | O5: 12664.6
A6: sektor przemysłowy oraz handlowo-usługowy | B6: ='Emisje - usługi i prod.'!G8 -> 183669.01 | D6: paliwa (olej napędowy, benzyna) | E6: =MZK!D3+'Emisje - transport'!G4+'Emisje - transport'!D25+'Emisje - transport'!D26+'Emisje - transport'!D27 -> 231905.47 | G6: sektor przemysłowy oraz handlowo-usługowy | H6: ='Emisje - usługi i prod.'!E3+'Emisje - usługi i prod.'!E4+'Emisje - usługi i prod.'!E5+'Emisje - usługi i prod.'!E6+'Emisje - usługi i prod.'!E7 -> 742858.45 | J6: paliwa (olej napędowy, benzyna) | K6: 912791.42 | M6: Paliwa (olej napędowy, benzyna) [l] | N6: 73364700 | O6: 912791.42
A7: sektor mieszkalny | B7: ='Emisje - sektor mieszkalny'!I12 -> 91927.502 | D7: olej opałowy | E7: ='Emisje - ob. uż. publ.'!F98+'Emisje - sektor mieszkalny'!I6+'Emisje - usługi i prod.'!G5+MZK!D5 -> 4046.1033 | G7: sektor mieszkalny | H7: ='Emisje - sektor mieszkalny'!G4+'Emisje - sektor mieszkalny'!G5+'Emisje - sektor mieszkalny'!G6+'Emisje - sektor mieszkalny'!G7+'Emisje - sektor mieszkalny'!G8+'Emisje - sektor mieszkalny'!G9+'Emisje - sektor mieszkalny'!G10+'Emisje - sektor mieszkalny'!G11 -> 1343140.2 | J7: olej opałowy | K7: 14985.568 | M7: Olej opałowy [l] | N7: 429880.62 | O7: 14985.57
A8: sektor obiektów użyteczności publicznej | B8: ='Emisje - ob. uż. publ.'!F100 -> 11444.853 | D8: drewno/biomasa | E8: 0 | G8: sektor obiektów użyteczności publicznej | H8: ='Emisje - ob. uż. publ.'!E95+'Emisje - ob. uż. publ.'!E96+'Emisje - ob. uż. publ.'!E97+'Emisje - ob. uż. publ.'!E98+'Emisje - ob. uż. publ.'!E99 -> 41553.617 | J8: drewno/biomasa | K8: 54926.406 | M8: Drewno/biomasa [Mg] | N8: 12675.32 | O8: 54926.41
B9: =SUM(B3:B8) -> 520564.6 | D9: energia elektryczna | E9: =B4+'Emisje - ob. uż. publ.'!F95+'Emisje - sektor mieszkalny'!I4+'Emisje - usługi i prod.'!G3+MZK!D4 -> 103095.83 | H9: =SUM(H3:H8) -> 3044224.7 | J9: energia elektryczna | K9: 231128.19 | M9: Energia elektryczna [MWh] | N9: 231128.19 | O9: 231128.19
D10: ciepło sieciowe | E10: ='Emisje - ob. uż. publ.'!F99+'Emisje - sektor mieszkalny'!I11+'Emisje - sektor mieszkalny'!I10+'Emisje - usługi i prod.'!G7 -> 34516.776 | J10: ciepło sieciowe | K10: 1180243.9 | M10: Ciepło sieciowe [GJ] | N10: 348736.69 | O10: 1180243.9
E11: =SUM(E3:E10) -> 520564.6 | K11: 3044224.7 | O11: 3044224.7
A13: Scenariusz pasywny | L13: Emisje - pył - rok bazowy 2014 | R13: Emisje - benzoapiren - rok bazowy 2014
A15: sektor | B15: energia finalna [MWh] - rok bazowy 2014 | C15: energia finalna [MWh] - prognoza rok 2020 | D15: procent emisji w 2020 r. w stosunku do roku bazowego 2014 | F15: sektor | G15: energia finalna [MWh] - rok bazowy 2014 | H15: energia finalna [MWh] - prognoza rok 2020 | I15: procent emisji w 2020 r. w stosunku do roku bazowego 2014 | L15: sektor | M15: suma [kg] - rok bazowy 2014 | O15: rodzaj nośnika energii | P15: emisja [kg] | R15: sektor | S15: suma [g] - rok bazowy 2014 | U15: rodzaj nośnika energii | V15: emisja [g]
A16: transport lokalny oraz tranzyt | B16: =$H$3 -> 907146.2 | C16: ='Emisje - transport'!F5+'Emisje - transport'!C51+'Emisje - transport'!C52+'Emisje - transport'!C53 -> 1071184.2 | D16: =C16/B16*100 -> 118.08286 | F16: gaz ziemny | G16: =$K$3 -> 505794.16 | H16: ='Emisje - sektor mieszkalny'!H45+'Emisje - ob. uż. publ.'!E119+'Emisje - usługi i prod.'!F34 -> 525166.86 | I16: =H16/G16*100 -> 103.83016 | L16: transport lokalny oraz tranzyt | M16: ='Emisje - transport'!D51+'Emisje - transport'!D52+'Emisje - transport'!D53+'Emisje - transport'!G41 -> 86077.302 | O16: gaz ziemny | P16: ='Emisje - sektor mieszkalny'!I84+'Emisje - ob. uż. publ.'!E140+'Emisje - usługi i prod.'!G61 -> 212433.55 | R16: transport lokalny oraz tranzyt | S16: 0 | U16: gaz ziemny | V16: ='Emisje - sektor mieszkalny'!I110+'Emisje - ob. uż. publ.'!E163+'Emisje - usługi i prod.'!G79 -> 25331.928
A17: oświetlenie dróg i przestrzeni publicznej | B17: =$H$4 -> 3070.72 | C17: =Oświetlenie!C7 -> 2763.648 | D17: =C17/B17*100 -> 90 | F17: węgiel kamienny | G17: =$K$4 -> 131690.45 | H17: ='Emisje - sektor mieszkalny'!H47+'Emisje - ob. uż. publ.'!E120+'Emisje - usługi i prod.'!F36 -> 108755.2 | I17: =H17/G17*100 -> 82.583972 | L17: oświetlenie dróg i przestrzeni publicznej | M17: =Oświetlenie!C20 -> 15107.942 | O17: węgiel kamienny | P17: ='Emisje - sektor mieszkalny'!I86+'Emisje - ob. uż. publ.'!E141+'Emisje - usługi i prod.'!G63 -> 468817.99 | R17: oświetlenie dróg i przestrzeni publicznej | S17: 0 | U17: węgiel kamienny | V17: ='Emisje - sektor mieszkalny'!I112+'Emisje - ob. uż. publ.'!E164+'Emisje - usługi i prod.'!G81 -> 293292.02
